
BEGIN:VCALENDAR
VERSION:2.0
PRODID:-//Family Life Radio - ECPv6.15.20//NONSGML v1.0//EN
CALSCALE:GREGORIAN
METHOD:PUBLISH
X-ORIGINAL-URL:https://myflr.org
X-WR-CALDESC:Events for Family Life Radio
REFRESH-INTERVAL;VALUE=DURATION:PT1H
X-Robots-Tag:noindex
X-PUBLISHED-TTL:PT1H
BEGIN:VTIMEZONE
TZID:America/Phoenix
BEGIN:STANDARD
TZOFFSETFROM:-0700
TZOFFSETTO:-0700
TZNAME:MST
DTSTART:20240101T000000
END:STANDARD
END:VTIMEZONE
BEGIN:VEVENT
DTSTART;TZID=America/Phoenix:20250509T183000
DTEND;TZID=America/Phoenix:20250509T203000
DTSTAMP:20260421T065922
CREATED:20250415T221720Z
LAST-MODIFIED:20250415T221720Z
UID:10040965-1746815400-1746822600@myflr.org
SUMMARY:All-City Worship Night 2025
DESCRIPTION:The Fellowship of Christian Bolts from Mica Mountain High School will be hosting their first All-City Worship event to praise Jesus. This event is open to the city of Tucson ; schools\, organizations\, churches and families. We are looking to get the word out on all platforms\, including Family Life Radio\, in order to reach the Tucson Christian community. Our goal is to fill the football field and spread the goodness of God.
URL:https://myflr.org/event/all-city-worship-night-2025/
LOCATION:Mica Mountain High School\, 10800 E Valencia Rd\, Tucson\, AZ\, 85747\, United States
CATEGORIES:Arizona
ATTACH;FMTTYPE=image/jpeg:https://eadn-wc05-15902914.nxedge.io/wp-content/uploads/2025/04/All-City.jpg
END:VEVENT
END:VCALENDAR