
BEGIN:VCALENDAR
VERSION:2.0
PRODID:-//Family Life Radio - ECPv6.15.20//NONSGML v1.0//EN
CALSCALE:GREGORIAN
METHOD:PUBLISH
X-WR-CALNAME:Family Life Radio
X-ORIGINAL-URL:https://myflr.org
X-WR-CALDESC:Events for Family Life Radio
REFRESH-INTERVAL;VALUE=DURATION:PT1H
X-Robots-Tag:noindex
X-PUBLISHED-TTL:PT1H
BEGIN:VTIMEZONE
TZID:America/Phoenix
BEGIN:STANDARD
TZOFFSETFROM:-0700
TZOFFSETTO:-0700
TZNAME:MST
DTSTART:20240101T000000
END:STANDARD
END:VTIMEZONE
BEGIN:VEVENT
DTSTART;TZID=America/Phoenix:20251011T093000
DTEND;TZID=America/Phoenix:20251011T140000
DTSTAMP:20260421T163919
CREATED:20250606T181901Z
LAST-MODIFIED:20250606T181901Z
UID:10045771-1760175000-1760191200@myflr.org
SUMMARY:"Finding Joy Again" Women's Conference
DESCRIPTION:Tickets on sale NOW!\n$39 each. Ticket includes lunch from Wolfies\, Joy Bag\, and an incredible line up of Speakers!\nJoin us for a powerful\, Spirit-filled day designed to refresh your soul\, renew your purpose\, and reignite your JOY! Whether you’re walking through a tough season or simply need a boost of encouragement\, this conference is for YOU.\n✨ What to Expect:\nReal Stories\, Real Healing – Be inspired by testimonies of hope and breakthrough.\nWorship and the Word – Come ready to praise\, cry\, laugh\, and leave changed.\nConnection and Community – You’re not alone. Find your sisters and your strength here.\n???? Speaker Lineup:\nSusie Antkoviak – Our dynamic and joyful MC\nLucie Jerch – Speaking with passion and truth\nVictoria Chapin – Bringing insight and encouragement\nReverend Ammie Bouwman – Founder of For His Glory Ministry and author of “Finding Joy Again.”
URL:https://myflr.org/event/finding-joy-again-womens-conference/
LOCATION:South Olive Christian Reformed Church (Holland\, MI)\, 6425 120th Ave\, Holland\, MI\, 49424\, United States
CATEGORIES:Michigan
ATTACH;FMTTYPE=image/png:https://eadn-wc05-15902914.nxedge.io/wp-content/uploads/2025/06/AdvertisingMarketing-Events.png
ORGANIZER;CN="For His Glory Ministry":MAILTO:ammie@forhisglory-ministry.com
END:VEVENT
END:VCALENDAR