
BEGIN:VCALENDAR
VERSION:2.0
PRODID:-//Family Life Radio - ECPv6.15.20//NONSGML v1.0//EN
CALSCALE:GREGORIAN
METHOD:PUBLISH
X-ORIGINAL-URL:https://myflr.org
X-WR-CALDESC:Events for Family Life Radio
REFRESH-INTERVAL;VALUE=DURATION:PT1H
X-Robots-Tag:noindex
X-PUBLISHED-TTL:PT1H
BEGIN:VTIMEZONE
TZID:America/Phoenix
BEGIN:STANDARD
TZOFFSETFROM:-0700
TZOFFSETTO:-0700
TZNAME:MST
DTSTART:20220101T000000
END:STANDARD
END:VTIMEZONE
BEGIN:VTIMEZONE
TZID:America/Detroit
BEGIN:DAYLIGHT
TZOFFSETFROM:-0500
TZOFFSETTO:-0400
TZNAME:EDT
DTSTART:20240310T070000
END:DAYLIGHT
BEGIN:STANDARD
TZOFFSETFROM:-0400
TZOFFSETTO:-0500
TZNAME:EST
DTSTART:20241103T060000
END:STANDARD
BEGIN:DAYLIGHT
TZOFFSETFROM:-0500
TZOFFSETTO:-0400
TZNAME:EDT
DTSTART:20250309T070000
END:DAYLIGHT
BEGIN:STANDARD
TZOFFSETFROM:-0400
TZOFFSETTO:-0500
TZNAME:EST
DTSTART:20251102T060000
END:STANDARD
BEGIN:DAYLIGHT
TZOFFSETFROM:-0500
TZOFFSETTO:-0400
TZNAME:EDT
DTSTART:20260308T070000
END:DAYLIGHT
BEGIN:STANDARD
TZOFFSETFROM:-0400
TZOFFSETTO:-0500
TZNAME:EST
DTSTART:20261101T060000
END:STANDARD
END:VTIMEZONE
BEGIN:VEVENT
DTSTART;TZID=America/Phoenix:20250712T080000
DTEND;TZID=America/Phoenix:20250712T110000
DTSTAMP:20260421T193755
CREATED:20250509T210048Z
LAST-MODIFIED:20250509T210048Z
UID:10041049-1752307200-1752318000@myflr.org
SUMMARY:FFNRC Fast & Fosterous k & .5k
DESCRIPTION:We are thrilled to announce the FIRST EVER Fast & Fosterous 5K & .5K hosted by Foster Families Navigation & Resource Center! ???? \n???? Date: July 12\, 2025\n???? Location: Gladwin North Park \nWhether you’re a seasoned runner or just in it for the fun\, we’ve got a race for everyone! Lace up your sneakers\, bring your friends and family\, and join us for a day filled with energy\, community spirit\, and support for foster families. ???? \n???? 5K for the runners\n???? .5K for the fun-lovers (costumes highly encouraged!) \n✨ Music\, prizes\, and lots of surprises await! ✨ \nLet’s make history together — one step\, one sprint\, and one smile at a time. \nTag your running buddy and let’s make it a day to remember! ????\n#FastAndFosterous #FFNRC5K #FosterTheFuture #RunForACause
URL:https://myflr.org/event/ffnrc-fast-fosterous-k-5k/
LOCATION:Gladwin North Park (Gladwin\, MI)\, Gladwin\, MI\, 48624\, United States
CATEGORIES:Michigan
ATTACH;FMTTYPE=image/png:https://eadn-wc05-15902914.nxedge.io/wp-content/uploads/2025/05/Fast-and-Fosterous.png
ORGANIZER;CN="Foster Families Navigation and Resource Center":MAILTO:sarah.h@fosterfamiliesnrc.org
END:VEVENT
BEGIN:VEVENT
DTSTART;TZID=America/Detroit:20250427T140000
DTEND;TZID=America/Detroit:20250427T170000
DTSTAMP:20260421T193756
CREATED:20250318T152150Z
LAST-MODIFIED:20250404T182303Z
UID:10040363-1745762400-1745773200@myflr.org
SUMMARY:FOSTER FAMILIES NAVAGATION & RESOURCE CENTER – SHOE DRIVE
DESCRIPTION:Foster Families Navagation & Resource Center’s shoe drive is happening now.  If you’re spring cleaning and you’ve got old shoes that still have life\, we’ll take ‘em!  Drop off donations now through the end of April at the following locations: \n– Tracy’s Dance and Tumbling\, Auburn\n– Berkshire Hathaway Home Services\, Saginaw\n– Austin’s Flowers & Gifts\, Freeland\n– Busy Babe Botique\, Sebewaing\n– Sunrise Credit Union\, Bay City\, Essexville\, Standish\n– Real Estate One\, Saginaw\n– Bad Axe Public Library\, Bad Axe\n– Foster Families NRC – Midland Outpost\, Midland\n– Foster Families NRC\, Bay City \nOR… \nJoin Family Life Radio ON LOCATION Sunday\, April 27th at Austin’s Flowers & Gifts in Freeland.  Stop by between 2:00-5:00 pm with your shoe donation… any type\, any size\, any style! \nShoe donations will help stock Foster Families NRC’s Resource Botique and go to poverty stricken countries.  Funds raised will support Foster Families NRC’s mission locally.
URL:https://myflr.org/event/foster-families-navagation-resource-center-shoe-drive-2/
LOCATION:Austin’s Flowers & Gifts (Freeland\, MI)\, 360 S Main St\, Freeland\, MI\, 48623\, United States
CATEGORIES:Featured,Michigan
ATTACH;FMTTYPE=image/png:https://eadn-wc05-15902914.nxedge.io/wp-content/uploads/2025/03/Black-and-Yellow-Modern-Grunge-Cycling-Event-Instagram-Post-2048x2048-1.png
ORGANIZER;CN="Foster Families Navigation and Resource Center":MAILTO:sarah.h@fosterfamiliesnrc.org
END:VEVENT
BEGIN:VEVENT
DTSTART;TZID=America/Phoenix:20240428T140000
DTEND;TZID=America/Phoenix:20240428T170000
DTSTAMP:20260421T193756
CREATED:20240328T210443Z
LAST-MODIFIED:20240328T210644Z
UID:10022925-1714312800-1714323600@myflr.org
SUMMARY:FOSTER FAMILIES NAVAGATION & RESOURCE CENTER – SHOE DRIVE
DESCRIPTION:Foster Families Navagation & Resource Center’s shoe drive is happening now.  If you’re spring cleaning and you’ve got old shoes that still have life\, we’ll take ‘em!  Drop off donations now through the end of April at the following locations: \nBAY COUNTY\n– Foster Families NRC\, Bay City\n– Raising Arrows Resale\, Bay City\n– Tracy’s Dance and Tumbling\, Auburn\n– Bayside Boutique\, Bay City \nSAGINAW COUNTY\n– Real Estate One\, Saginaw\n– Re/Max New Image\, Saginaw\n– Christ Lutheran Church\, Birch Run\n– Those Nature People\, Frankenmuth\n– Bay Area Pilates\, Freeland\n– Berkshire Hathaway Home Services\, Saginaw \nGENESEE COUNTY\n– Those Nature People\, Flint & Davison \nOR… \nJoin Family Life Radio ON LOCATION Sunday\, April 28th at Austin’s Flowers & Gifts in Freeland.  Stop by between 2:00-5:00 pm with your donation for a chance to win tickets to see MercyMe & Crowder this October in Saginaw. \nShoe donations will help stock Foster Families NRC’s Resource Botique and go to poverty stricken countries.  Funds raised will support Foster Families NRC’s mission locally.
URL:https://myflr.org/event/foster-families-navagation-resource-center-shoe-drive/
LOCATION:Austin’s Flowers & Gifts (Freeland\, MI)\, 360 S Main St\, Freeland\, MI\, 48623\, United States
CATEGORIES:Featured,Michigan
ATTACH;FMTTYPE=image/jpeg:https://eadn-wc05-15902914.nxedge.io/wp-content/uploads/2024/03/SHOE-DRIVE-SQ.jpg
ORGANIZER;CN="Foster Families Navigation and Resource Center":MAILTO:sarah.h@fosterfamiliesnrc.org
END:VEVENT
BEGIN:VEVENT
DTSTART;TZID=America/Phoenix:20230520T130000
DTEND;TZID=America/Phoenix:20230520T180000
DTSTAMP:20260421T193756
CREATED:20230425T141314Z
LAST-MODIFIED:20230425T142732Z
UID:10008816-1684587600-1684605600@myflr.org
SUMMARY:FOSTER FEST 2023 with AUSTIN FRENCH
DESCRIPTION:Foster Families Navigation and Resource Center presents the 2nd annual Foster Fest!\nSaturday\, May 20th\n1:00 – 6:00 pm\nAuburn Park\, Auburn\, MI \nFree concert with Austin French and special guest Trey Simon. \nFoster Fest is a community wide event to raise awareness and support for foster care agencies in Michigan. \nAdmission is FREE! \nDonations are welcomed.
URL:https://myflr.org/event/foster-fest-2023-with-austin-french/
LOCATION:Auburn Park (Auburn\, MI)\, 435 S. Auburn Rd.\, Auburn\, MI\, 48611\, United States
CATEGORIES:Featured,Michigan
ATTACH;FMTTYPE=image/jpeg:https://eadn-wc05-15902914.nxedge.io/wp-content/uploads/2023/04/Foster-Fest-1x1-SQ.jpg
ORGANIZER;CN="Foster Families Navigation and Resource Center":MAILTO:sarah.h@fosterfamiliesnrc.org
END:VEVENT
END:VCALENDAR