
BEGIN:VCALENDAR
VERSION:2.0
PRODID:-//Family Life Radio - ECPv6.15.20//NONSGML v1.0//EN
CALSCALE:GREGORIAN
METHOD:PUBLISH
X-WR-CALNAME:Family Life Radio
X-ORIGINAL-URL:https://myflr.org
X-WR-CALDESC:Events for Family Life Radio
REFRESH-INTERVAL;VALUE=DURATION:PT1H
X-Robots-Tag:noindex
X-PUBLISHED-TTL:PT1H
BEGIN:VTIMEZONE
TZID:America/Phoenix
BEGIN:STANDARD
TZOFFSETFROM:-0700
TZOFFSETTO:-0700
TZNAME:MST
DTSTART:20240101T000000
END:STANDARD
END:VTIMEZONE
BEGIN:VEVENT
DTSTART;TZID=America/Phoenix:20250330T113000
DTEND;TZID=America/Phoenix:20250330T150000
DTSTAMP:20260421T175838
CREATED:20250205T210457Z
LAST-MODIFIED:20250205T210457Z
UID:10039053-1743334200-1743346800@myflr.org
SUMMARY:50th Anniversary Celebration & Car Show
DESCRIPTION:We are excited to celebrate the 50th anniversary of Fountain of Life Church! Following our Anniversary Service\, we will be hosting a car show on our campus. The service will begin at 10:00 AM and is expected to conclude by approximately 11:15 AM. The car show\, food trucks and live entertainment will be open to the public from 11:30 AM to 3:00 PM.
URL:https://myflr.org/event/50th-anniversary-celebration-car-show/
LOCATION:Fountain of Life Church\, 1119 E. Hearn Road\, Phoenix\, AZ\, 85022\, United States
CATEGORIES:Arizona
ATTACH;FMTTYPE=image/png:https://eadn-wc05-15902914.nxedge.io/wp-content/uploads/2025/02/Car-Show-169.png
ORGANIZER;CN="Fountain of Life Church":MAILTO:jason@thefountainphx.org
END:VEVENT
END:VCALENDAR