
BEGIN:VCALENDAR
VERSION:2.0
PRODID:-//Family Life Radio - ECPv6.15.20//NONSGML v1.0//EN
CALSCALE:GREGORIAN
METHOD:PUBLISH
X-ORIGINAL-URL:https://myflr.org
X-WR-CALDESC:Events for Family Life Radio
REFRESH-INTERVAL;VALUE=DURATION:PT1H
X-Robots-Tag:noindex
X-PUBLISHED-TTL:PT1H
BEGIN:VTIMEZONE
TZID:America/Phoenix
BEGIN:STANDARD
TZOFFSETFROM:-0700
TZOFFSETTO:-0700
TZNAME:MST
DTSTART:20240101T000000
END:STANDARD
END:VTIMEZONE
BEGIN:VEVENT
DTSTART;TZID=America/Phoenix:20250906T140000
DTEND;TZID=America/Phoenix:20250906T150000
DTSTAMP:20260421T053705
CREATED:20250826T183222Z
LAST-MODIFIED:20250826T183222Z
UID:10051186-1757167200-1757170800@myflr.org
SUMMARY:Thank you to Midland's Brave Law Enforcement Officers
DESCRIPTION:Because God stands for Liberty & justice\nSpecial Tribute for:\nMidland Law Enforcement\, Fire & Rescue Departments\nFree Event – All are Welcome – Catered Meal\nSaturday\, September 6th at 2:00 pm at the Calvary Cross on 191\nThere will be Speakers\, Testimonies\, Music\, Prayer\, Hope\nPsalm 89:14\nRighteousness and justice are the foundation of your throne.\nUnfailing love and truth walk before you as attendants. \nQuestions call Frank @ 432-967-3562
URL:https://myflr.org/event/thank-you-to-midlands-brave-law-enforcement-officers/
LOCATION:Calvary Cross on 191\, Southeast service road of Highway 191 between Yukon Rd. and FM 1788 Midland\, TX 79701\, Midland\, TX\, 79701\, United States
CATEGORIES:Texas
ATTACH;FMTTYPE=image/jpeg:https://eadn-wc05-15902914.nxedge.io/wp-content/uploads/2025/08/Thank-You-to-Midlands-Brave-Law-Enforcement-Officers-.jpg
ORGANIZER;CN="Frank Nastase":MAILTO:frank.frpainting@gmail.com
END:VEVENT
BEGIN:VEVENT
DTSTART;TZID=America/Phoenix:20250802T080000
DTEND;TZID=America/Phoenix:20250802T170000
DTSTAMP:20260421T053705
CREATED:20250717T232125Z
LAST-MODIFIED:20250717T232125Z
UID:10049190-1754121600-1754154000@myflr.org
SUMMARY:Special Tribute for Odessa Law Enforcement\, Fire & Rescue Departments
DESCRIPTION:Special Tribute for Odessa Law Enforcement\, Fire & Rescue Departments\nFree Event – All Welcome!\nMusic-Prayer-Hope-Blessings\nCatered Meal\nTestimonies
URL:https://myflr.org/event/special-tribute-for-odessa-law-enforcement-fire-rescue-departments/2025-08-02/1/
LOCATION:Calvary Cross on 191\, Southeast service road of Highway 191 between Yukon Rd. and FM 1788 Midland\, TX 79701\, Midland\, TX\, 79701\, United States
CATEGORIES:Texas
ATTACH;FMTTYPE=image/jpeg:https://eadn-wc05-15902914.nxedge.io/wp-content/uploads/2025/07/Calvary-Cross.jpg
ORGANIZER;CN="Frank Nastase":MAILTO:frank.frpainting@gmail.com
END:VEVENT
END:VCALENDAR