
BEGIN:VCALENDAR
VERSION:2.0
PRODID:-//Family Life Radio - ECPv6.15.20//NONSGML v1.0//EN
CALSCALE:GREGORIAN
METHOD:PUBLISH
X-WR-CALNAME:Family Life Radio
X-ORIGINAL-URL:https://myflr.org
X-WR-CALDESC:Events for Family Life Radio
REFRESH-INTERVAL;VALUE=DURATION:PT1H
X-Robots-Tag:noindex
X-PUBLISHED-TTL:PT1H
BEGIN:VTIMEZONE
TZID:America/Phoenix
BEGIN:STANDARD
TZOFFSETFROM:-0700
TZOFFSETTO:-0700
TZNAME:MST
DTSTART:20240101T000000
END:STANDARD
END:VTIMEZONE
BEGIN:VEVENT
DTSTART;TZID=America/Phoenix:20260221T160000
DTEND;TZID=America/Phoenix:20260221T180000
DTSTAMP:20260421T155209
CREATED:20251105T230653Z
LAST-MODIFIED:20251105T230653Z
UID:10057104-1771689600-1771696800@myflr.org
SUMMARY:Blooming in Hope: The Art Heals Soirée
DESCRIPTION:Join Free Arts for an inspiring evening where creativity meets compassion. Parsons Place will come alive with the transformative power of art during Blooming in Hope: The Art Heals Soirée. This heartfelt fundraiser celebrates the healing impact of the arts while raising vital support for our programs. \nHope blooms when art heals—and your presence helps make that possible. Enjoy uplifting artworks\, meaningful connections\, and a very special announcement about the future of Free Arts. \nWhen: Saturday\, Feb. 21\, 2026\, 4:00 – 6:00 p.m. \nWhere: 352 East Camelback Road \nPhoenix\, AZ 85012 \nLearn more: https://freeartsaz.org/blooming-in-hope/
URL:https://myflr.org/event/blooming-in-hope-the-art-heals-soiree/
LOCATION:Free Arts for Abused Children of Arizona\, 352 East Camelback Road\, Phoenix\, AZ\, 85012\, United States
CATEGORIES:Arizona
ATTACH;FMTTYPE=image/jpeg:https://eadn-wc05-15902914.nxedge.io/wp-content/uploads/2025/10/Blooming-in-Hope-Soiree-web-graphic-2-768x1024-1.jpg
END:VEVENT
BEGIN:VEVENT
DTSTART;TZID=America/Phoenix:20251107T160000
DTEND;TZID=America/Phoenix:20251107T190000
DTSTAMP:20260421T155209
CREATED:20251105T230404Z
LAST-MODIFIED:20251105T230404Z
UID:10057103-1762531200-1762542000@myflr.org
SUMMARY:Join Free Arts for a Collage Workshop and First Friday Open House with Brittney Garcia
DESCRIPTION:Kick off your First Friday with an evening of art making at Free Arts. \nJoin us for a FREE collage workshop with Free Arts Teaching Artist\, Brittney Garcia\, who will lead you through a mixed-media exploration of your creative inner life. Studies show that just 40 minutes of creating art reduces stress and cortisol levels. What a perfect way to wind down your work week\, and jump start your First Friday evening. \nWe’ll have tours of our building\, light refreshments\, and a unique opportunity to make and take YOUR own art this First Friday. Free Arts’ very own Bea Bohannon will be DJ’ing. All materials will be provided. \nCollage workshops start at 4 different times throughout the event. Plan on arriving by 6 to ensure the opportunity to complete your collage! Open to all ages\, but recommended for ages 8 and up. We can’t wait to see you there! \nWhen: Friday\, Nov. 7\, 2025 \nWhere: 352 East Camelback Road \nPhoenix\, AZ 85012 \nLearn more: https://freeartsaz.org/free-collage-workshop-first-friday
URL:https://myflr.org/event/join-free-arts-for-a-collage-workshop-and-first-friday-open-house-with-brittney-garcia/
LOCATION:Free Arts for Abused Children of Arizona\, 352 East Camelback Road\, Phoenix\, AZ\, 85012\, United States
CATEGORIES:Arizona
ATTACH;FMTTYPE=image/jpeg:https://eadn-wc05-15902914.nxedge.io/wp-content/uploads/2025/10/First-Friday-eventbrite-graphic-1.jpg
END:VEVENT
BEGIN:VEVENT
DTSTART;TZID=America/Phoenix:20250914T140000
DTEND;TZID=America/Phoenix:20250914T170000
DTSTAMP:20260421T155209
CREATED:20250903T135054Z
LAST-MODIFIED:20250903T135054Z
UID:10051530-1757858400-1757869200@myflr.org
SUMMARY:Free Arts for Abused Children of Arizona and Dance Theater West Present Storybook Ballet 2025: Peter Pan
DESCRIPTION:Free Arts for Abused Children of Arizona (Free Arts) and Dance Theatre West are partnering to bring Storybook Ballet 2025: Peter Pan to the community on Sunday\, September 14 from 2:00 to 5:00 p.m. Foster care children and teens\, ages 8 – 18 years old\, will be performing with Dance Theatre West.  This free dance performance is lighthearted\, fun and perfect for the entire family. \n“Each year\, our collaboration with Dance Theatre West becomes more impactful\,” said Matt Sandoval\, Executive Director of Free Arts. “This year’s performance is a powerful reminder of what’s possible when young people are given the chance to express themselves. The courage and creativity our participants showed on stage is a direct reflection of the care\, guidance\, and inspiration they receive from our longtime partners at Dance Theatre West.” \nThe event will be held on September 14 at Scottsdale Center for the Performing Arts\, located at 7380 East 2nd Street\, Scottsdale\, AZ.  The exhibit gallery will open at 2:00 p.m.\, the dance performance at 3 p.m. and a community art activity will take place at 4 p.m.  This program is possible through generous support from Scottsdale Center for the Performing Arts\, The Bob & Renee Parsons Foundation\, Valley of the Sun United Way\, Suzie Silverman\, and Dance Theater West. \nIn addition to the performance\, professional teaching artistsFrancisco Garcia (visual arts)\, DJ Dimension (music)\, Steve Price (spoken word)\, Shelly Love (photography) and Denise Garcia (visual arts) spent several weeks with the other children from our partner agencies to explore Peter Pan themes through visual arts workshops in Free Arts Professional Artist Series Program.  Before and after the performance\, their final exhibits will be on display in the lobby. \nThe performance is free to attend to RSVP visit: https://freeartsaz.org/storybook-ballet-2025/ \nAbout Free Arts for Abused Children of Arizona \nFounded in 1993\, Free Arts for Abused Children of Arizona is a non-profit organization that transforms children’s trauma to resilience through the arts. Free Arts programs include creative elements that promote safety\, self-expression\, and a sense of belonging. Free Arts programs are delivered by 900 volunteer mentors and artists who serve more than 7\,000 children annually through partnerships with 43 social service child welfare agencies at 120+ sites across Maricopa County. For more information on Free Arts for Abused Children of Arizona and its programs\, please visit www.freeartsaz.org.
URL:https://myflr.org/event/free-arts-for-abused-children-of-arizona-and-dance-theater-west-present-storybook-ballet-2025-peter-pan/
LOCATION:Scottsdale Center for the Performing Arts\, 7380 E. 2nd St.\, Scottsdale\, AZ\, 85251\, United States
CATEGORIES:Arizona
ATTACH;FMTTYPE=image/jpeg:https://eadn-wc05-15902914.nxedge.io/wp-content/uploads/2025/09/SBB-9.15-7.jpeg
END:VEVENT
END:VCALENDAR