
BEGIN:VCALENDAR
VERSION:2.0
PRODID:-//Family Life Radio - ECPv6.15.20//NONSGML v1.0//EN
CALSCALE:GREGORIAN
METHOD:PUBLISH
X-WR-CALNAME:Family Life Radio
X-ORIGINAL-URL:https://myflr.org
X-WR-CALDESC:Events for Family Life Radio
REFRESH-INTERVAL;VALUE=DURATION:PT1H
X-Robots-Tag:noindex
X-PUBLISHED-TTL:PT1H
BEGIN:VTIMEZONE
TZID:America/Phoenix
BEGIN:STANDARD
TZOFFSETFROM:-0700
TZOFFSETTO:-0700
TZNAME:MST
DTSTART:20240101T000000
END:STANDARD
END:VTIMEZONE
BEGIN:VEVENT
DTSTART;TZID=America/Phoenix:20251004T100000
DTEND;TZID=America/Phoenix:20251004T140000
DTSTAMP:20260421T195606
CREATED:20250918T200834Z
LAST-MODIFIED:20250918T200834Z
UID:10056540-1759572000-1759586400@myflr.org
SUMMARY:Pray Peoria
DESCRIPTION:Fresh Start Church in Peoria\, AZ is hosting a Prayer Event- Pray Peoria on Saturday October 4th 10am. Desiring to welcome and join with others to pray for God’s Kingdom to come\, God’s will be done in Peoria\, AZ and beyond.
URL:https://myflr.org/event/pray-peoria/
LOCATION:Peoria sports complex\, 16101 N 83rd Ave\, Peoria\, Arizona\, 85382\, United States
CATEGORIES:Arizona
ATTACH;FMTTYPE=image/jpeg:https://eadn-wc05-15902914.nxedge.io/wp-content/uploads/2025/09/IMG_9055.jpeg
ORGANIZER;CN="Fresh Start Church":MAILTO:Info@freshstartaz.com
END:VEVENT
END:VCALENDAR