
BEGIN:VCALENDAR
VERSION:2.0
PRODID:-//Family Life Radio - ECPv6.15.20//NONSGML v1.0//EN
CALSCALE:GREGORIAN
METHOD:PUBLISH
X-ORIGINAL-URL:https://myflr.org
X-WR-CALDESC:Events for Family Life Radio
REFRESH-INTERVAL;VALUE=DURATION:PT1H
X-Robots-Tag:noindex
X-PUBLISHED-TTL:PT1H
BEGIN:VTIMEZONE
TZID:America/Phoenix
BEGIN:STANDARD
TZOFFSETFROM:-0700
TZOFFSETTO:-0700
TZNAME:MST
DTSTART:20230101T000000
END:STANDARD
END:VTIMEZONE
BEGIN:VEVENT
DTSTART;TZID=America/Phoenix:20240801T174500
DTEND;TZID=America/Phoenix:20240801T194500
DTSTAMP:20260421T203827
CREATED:20240702T181410Z
LAST-MODIFIED:20240702T181410Z
UID:10030253-1722534300-1722541500@myflr.org
SUMMARY:Scuba VBS at Williamston Free Methodist
DESCRIPTION:We will be hosting a Scuba Vacation Bible School for age 4 through going into 5th grade. We will be helping kids dive into friendship with God. Kids will explore what it means to have a friendship with a real\, loving trustworthy God-a friendship that lasts forever! Please use the link to register your child(ren).
URL:https://myflr.org/event/scuba-vbs-at-williamston-free-methodist/2024-08-01/
LOCATION:Williamston Free Methodist Church (Williamston\, MI)\, 4400 N Williamston Rd\, Williamston\, MI\, 48895\, United States
CATEGORIES:Michigan
ATTACH;FMTTYPE=image/png:https://eadn-wc05-15902914.nxedge.io/wp-content/uploads/2024/06/Scuba-VBS.png
ORGANIZER;CN="Gayle Cobb at Williamston Free Methodist Church":MAILTO:gayle@williamstonchurch.org
END:VEVENT
END:VCALENDAR