
BEGIN:VCALENDAR
VERSION:2.0
PRODID:-//Family Life Radio - ECPv6.15.20//NONSGML v1.0//EN
CALSCALE:GREGORIAN
METHOD:PUBLISH
X-ORIGINAL-URL:https://myflr.org
X-WR-CALDESC:Events for Family Life Radio
REFRESH-INTERVAL;VALUE=DURATION:PT1H
X-Robots-Tag:noindex
X-PUBLISHED-TTL:PT1H
BEGIN:VTIMEZONE
TZID:America/Phoenix
BEGIN:STANDARD
TZOFFSETFROM:-0700
TZOFFSETTO:-0700
TZNAME:MST
DTSTART:20240101T000000
END:STANDARD
END:VTIMEZONE
BEGIN:VEVENT
DTSTART;TZID=America/Phoenix:20250802T100000
DTEND;TZID=America/Phoenix:20250802T160000
DTSTAMP:20260421T104431
CREATED:20250509T231520Z
LAST-MODIFIED:20250530T201110Z
UID:10041092-1754128800-1754150400@myflr.org
SUMMARY:Glorieta Camps Community Retreat Day - Aug 2
DESCRIPTION:Glorieta Camps Community Retreat Day (Aug 2 2025) \n11 State Route 50 \nGlorieta\, New Mexico 87535 \n10am-4pm$10/car (if you pre-register)$15 activities passes (optional)Bring a picnic lunch or check out some local food trucks we will have onsite. \nEvery summer\, Glorieta Camps and Family Life Radio 91.5 FM\, want to host YOU\, our neighbors and friends for a day of ADVENTURE! Come play for the day\, and in 2025 we are excited to offer 2 days to play! \nEnjoy a day filled with fun and adventure!\n10:00 AM – 4:00 PM \nSAVE TIME & PRE-REGISTER HERE! \n*91.5 FM will be there on August 2nd with a tent\, games\, music and fun for the family from 1pm-4pm! \nLook for our FLR Tent\, Music\, Games and fun!
URL:https://myflr.org/event/glorieta-camps-community-retreat-day-may-24-aug-2-2025/2025-08-02/
LOCATION:Glorieta Adventure Camps (Glorieta\, NM)\, 11 State Route 50\, Glorieta\, NM\, 87535\, United States
CATEGORIES:Featured,New Mexico
ATTACH;FMTTYPE=image/jpeg:https://eadn-wc05-15902914.nxedge.io/wp-content/uploads/2025/05/Glorieta-Community-Day-2025-Graphic.jpg
ORGANIZER;CN="Glorieta Adventure Camps":MAILTO:info@glorieta.org
END:VEVENT
END:VCALENDAR