
BEGIN:VCALENDAR
VERSION:2.0
PRODID:-//Family Life Radio - ECPv6.15.20//NONSGML v1.0//EN
CALSCALE:GREGORIAN
METHOD:PUBLISH
X-ORIGINAL-URL:https://myflr.org
X-WR-CALDESC:Events for Family Life Radio
REFRESH-INTERVAL;VALUE=DURATION:PT1H
X-Robots-Tag:noindex
X-PUBLISHED-TTL:PT1H
BEGIN:VTIMEZONE
TZID:America/Phoenix
BEGIN:STANDARD
TZOFFSETFROM:-0700
TZOFFSETTO:-0700
TZNAME:MST
DTSTART:20230101T000000
END:STANDARD
END:VTIMEZONE
BEGIN:VEVENT
DTSTART;TZID=America/Phoenix:20240518T180000
DTEND;TZID=America/Phoenix:20240518T220000
DTSTAMP:20260421T123958
CREATED:20240405T155656Z
LAST-MODIFIED:20240405T155656Z
UID:10022928-1716055200-1716069600@myflr.org
SUMMARY:Goodwill Hosts Annual Gala: An Evening of Goodwill
DESCRIPTION:Goodwill of Central & Northern Arizona announces its annual gala and upcycled fashion show\, An Evening of Goodwill. This event brings together the community for a night of fashion and fun while fundraising to support Goodwill’s programs and services and its mission of ending poverty through the power of work. \nWHAT: A different kind of black-tie gala experience that will take you through the Swingin’ 60s\, the Groovy 70s\, and the Awesome 80s! This event will feature upcycled fashion by local designers and a curated boutique featuring handbags\, jewelry\, and more – all while delighting in live music\, dining\, and drinks. Dress is Black-tie\, with a bold twist from past decades. \nWHEN: Saturday\, May 18\, 2024\, 6 to 10 p.m. \nWHERE: Omni Scottsdale Resort and Spa at Montelucia\, located at 4949 E. Lincoln Dr. Scottsdale\, AZ 85253 \nWHY: An Evening of Goodwill raises important funds to support Goodwill’s programs and services such as the The Excel Center\, Arizona’s only in-person adult high school; The Veterans and Military Family Career Center; The Hope & Home Family Shelter program and mycareeradvisor.com . \nTo purchase your table\, tickets\, or sponsorship\, visit https://gwl-az.org/EOG24. \nFor more information or to learn about sponsorship opportunities\, please email Margaret Leichtfuss\, Director of Philanthropy for Goodwill\, at margaret.leichtfuss@goodwillaz.org.
URL:https://myflr.org/event/goodwill-hosts-annual-gala-an-evening-of-goodwill/
LOCATION:Omni Scottsdale Resort and Spa at Montelucia\, 4949 E. Lincoln Dr.\, Scottsdale\, 85253\, United States
CATEGORIES:Arizona
ATTACH;FMTTYPE=image/jpeg:https://eadn-wc05-15902914.nxedge.io/wp-content/uploads/2024/03/EOG-2023-2.jpeg
END:VEVENT
END:VCALENDAR