
BEGIN:VCALENDAR
VERSION:2.0
PRODID:-//Family Life Radio - ECPv6.15.20//NONSGML v1.0//EN
CALSCALE:GREGORIAN
METHOD:PUBLISH
X-ORIGINAL-URL:https://myflr.org
X-WR-CALDESC:Events for Family Life Radio
REFRESH-INTERVAL;VALUE=DURATION:PT1H
X-Robots-Tag:noindex
X-PUBLISHED-TTL:PT1H
BEGIN:VTIMEZONE
TZID:America/Phoenix
BEGIN:STANDARD
TZOFFSETFROM:-0700
TZOFFSETTO:-0700
TZNAME:MST
DTSTART:20240101T000000
END:STANDARD
END:VTIMEZONE
BEGIN:VEVENT
DTSTART;VALUE=DATE:20250608
DTEND;VALUE=DATE:20250613
DTSTAMP:20260421T203828
CREATED:20250423T174942Z
LAST-MODIFIED:20250423T174942Z
UID:10041025-1749340800-1749772799@myflr.org
SUMMARY:Magnified! Vacation Bible School
DESCRIPTION:Children entering Kindergarten through 6th Grade- Join us for a fun time of music\, games\, crafts\, and learning about God at Vacation Bible School! \nMagnified! VBS will encourage kids to look closely at the details of God’s amazing world and magnify\, or proclaim\, the greatness of God! \nVBS is FREE and open to children going into Kindergarten through 6th grade. \nDINNER IS AVAILABLE FROM 5:45-6:15 P.M. for all children attending VBS and their families! \n6:30-8:30pm  6/8/25 to 6/12/25
URL:https://myflr.org/event/magnified-vacation-bible-school/
LOCATION:Grace Bible Church of Phoenix\, 19835 N 12th St\, Phoenix\, AZ\, 85024\, United States
CATEGORIES:Arizona
ATTACH;FMTTYPE=image/jpeg:https://eadn-wc05-15902914.nxedge.io/wp-content/uploads/2025/04/Magnified_logo_color.jpg
ORGANIZER;CN="Grace Biblc Church of Phoenix":MAILTO:childrensministry@gbcphoenix.com
END:VEVENT
END:VCALENDAR