
BEGIN:VCALENDAR
VERSION:2.0
PRODID:-//Family Life Radio - ECPv6.15.20//NONSGML v1.0//EN
CALSCALE:GREGORIAN
METHOD:PUBLISH
X-ORIGINAL-URL:https://myflr.org
X-WR-CALDESC:Events for Family Life Radio
REFRESH-INTERVAL;VALUE=DURATION:PT1H
X-Robots-Tag:noindex
X-PUBLISHED-TTL:PT1H
BEGIN:VTIMEZONE
TZID:America/Detroit
BEGIN:DAYLIGHT
TZOFFSETFROM:-0500
TZOFFSETTO:-0400
TZNAME:EDT
DTSTART:20230312T070000
END:DAYLIGHT
BEGIN:STANDARD
TZOFFSETFROM:-0400
TZOFFSETTO:-0500
TZNAME:EST
DTSTART:20231105T060000
END:STANDARD
BEGIN:DAYLIGHT
TZOFFSETFROM:-0500
TZOFFSETTO:-0400
TZNAME:EDT
DTSTART:20240310T070000
END:DAYLIGHT
BEGIN:STANDARD
TZOFFSETFROM:-0400
TZOFFSETTO:-0500
TZNAME:EST
DTSTART:20241103T060000
END:STANDARD
BEGIN:DAYLIGHT
TZOFFSETFROM:-0500
TZOFFSETTO:-0400
TZNAME:EDT
DTSTART:20250309T070000
END:DAYLIGHT
BEGIN:STANDARD
TZOFFSETFROM:-0400
TZOFFSETTO:-0500
TZNAME:EST
DTSTART:20251102T060000
END:STANDARD
BEGIN:DAYLIGHT
TZOFFSETFROM:-0500
TZOFFSETTO:-0400
TZNAME:EDT
DTSTART:20260308T070000
END:DAYLIGHT
BEGIN:STANDARD
TZOFFSETFROM:-0400
TZOFFSETTO:-0500
TZNAME:EST
DTSTART:20261101T060000
END:STANDARD
END:VTIMEZONE
BEGIN:VTIMEZONE
TZID:America/Phoenix
BEGIN:STANDARD
TZOFFSETFROM:-0700
TZOFFSETTO:-0700
TZNAME:MST
DTSTART:20220101T000000
END:STANDARD
END:VTIMEZONE
BEGIN:VEVENT
DTSTART;TZID=America/Detroit:20250719T123000
DTEND;TZID=America/Detroit:20250719T210000
DTSTAMP:20260421T183835
CREATED:20250319T140021Z
LAST-MODIFIED:20250319T140021Z
UID:10040382-1752928200-1752958800@myflr.org
SUMMARY:Grace Music Festival – Harrison Twp
DESCRIPTION:Family fun day of music\, dancing\, kid’s zone\, bounce houses\, vendors\, food trucks\, and more. Enjoy beautiful Metro Beach and make a day of it! Be entertained by local and nationally known Christian music artists! Bring your friends and family! \nFeaturing live performances from Colton Dixon\, Jon Reddick\, Sean Rodriguez\, Blake Reynolds\, and Connor Roy!
URL:https://myflr.org/event/grace-music-festival-harrison-twp/
LOCATION:Lake St Clair Metropark/Metro Beach\, 31300 Jefferson\, Harrison Township\, MI\, 48045\, United States
CATEGORIES:Featured,Michigan
ATTACH;FMTTYPE=image/jpeg:https://eadn-wc05-15902914.nxedge.io/wp-content/uploads/2025/03/628f1ddc-1d87-4d82-b0f3-981d7139b010-1.jpeg
ORGANIZER;CN="Grace Christian Events":MAILTO:info@gracechristianevents.com
END:VEVENT
BEGIN:VEVENT
DTSTART;TZID=America/Detroit:20240712T190000
DTEND;TZID=America/Detroit:20240712T203000
DTSTAMP:20260421T183835
CREATED:20240520T142940Z
LAST-MODIFIED:20240607T142350Z
UID:10026487-1720810800-1720816200@myflr.org
SUMMARY:Grace Music Festival Night of Worship – Romeo
DESCRIPTION:Join Family Life Radio for a night of worship at Woodside Bible Church in Romeo. Come and enjoy an evening of worship and fellowship at Woodside. Coffee and water will be provided. The event is sponsored by Grace Music Festival and hosted by Family Life Radio.
URL:https://myflr.org/event/grace-music-festival-night-of-worship-romeo/
LOCATION:Woodside Bible Church- Romeo\, 7800 32 Mile Rd\, Washington\, MI\, 48095\, United States
CATEGORIES:Featured,Michigan
ATTACH;FMTTYPE=image/jpeg:https://eadn-wc05-15902914.nxedge.io/wp-content/uploads/2024/05/GMF.jpg
ORGANIZER;CN="Grace Christian Events":MAILTO:info@gracechristianevents.com
END:VEVENT
BEGIN:VEVENT
DTSTART;TZID=America/Phoenix:20230914T190000
DTEND;TZID=America/Phoenix:20230914T203000
DTSTAMP:20260421T183835
CREATED:20230901T141802Z
LAST-MODIFIED:20230914T121338Z
UID:10013682-1694718000-1694723400@myflr.org
SUMMARY:GRACE CHRISTIAN EVENTS WORSHIP NIGHT – SIMPSON PARK CAMP (ROMEO\, MI)
DESCRIPTION:Grace Christian Events is hosting a Worship Night at Simpson Park Camp on Thursday\, September 14\, 2023 from 7-8:30. Doors open at 6:45. Entry and parking are free. Simpson Park Camp is located in Bruce Twp/Romeo at 70199 Campground Rd.\, Bruce Twp\, MI 48065. Email info@gracechristianevents.com with questions. \n  \nFacebook Event Link: https://fb.me/e/9Dh1WSjYz
URL:https://myflr.org/event/family-life-radio-at-worship-night-at-simpson-park-camp-romeo/
LOCATION:Simpson Park Camp\, 70199 Campground Rd.\, Bruce Township\, MI\, 48065\, United States
CATEGORIES:Featured,Michigan
ATTACH;FMTTYPE=image/jpeg:https://eadn-wc05-15902914.nxedge.io/wp-content/uploads/2023/09/worship-night-fb-event-cover-SQ.jpg
ORGANIZER;CN="Grace Christian Events":MAILTO:info@gracechristianevents.com
END:VEVENT
BEGIN:VEVENT
DTSTART;VALUE=DATE:20230729
DTEND;VALUE=DATE:20230730
DTSTAMP:20260421T183835
CREATED:20230324T164642Z
LAST-MODIFIED:20230517T223353Z
UID:10007912-1690588800-1690675199@myflr.org
SUMMARY:GRACE ON THE LAKE MUSIC FESTIVAL
DESCRIPTION:Family fun day of music\, dancing\, kid’s zone\, bounce houses\, vendors\, food trucks\, and more. Enjoy beautiful Metro Beach and make a day of it! Be entertained by local and nationally known Christian music artists! Bring your friends and family! \nWe Are Messengers \nTasha Layton \nBlake Reynolds \nDave Mead
URL:https://myflr.org/event/grace-on-the-lake-music-festival/
LOCATION:Lake St Clair Metropark/Metro Beach\, 31300 Jefferson\, Harrison Township\, MI\, 48045\, United States
CATEGORIES:Featured,Michigan
ATTACH;FMTTYPE=image/png:https://eadn-wc05-15902914.nxedge.io/wp-content/uploads/2023/03/Grace-on-the-lake-logo.png
ORGANIZER;CN="Grace Christian Events":MAILTO:info@gracechristianevents.com
END:VEVENT
END:VCALENDAR