
BEGIN:VCALENDAR
VERSION:2.0
PRODID:-//Family Life Radio - ECPv6.15.20//NONSGML v1.0//EN
CALSCALE:GREGORIAN
METHOD:PUBLISH
X-ORIGINAL-URL:https://myflr.org
X-WR-CALDESC:Events for Family Life Radio
REFRESH-INTERVAL;VALUE=DURATION:PT1H
X-Robots-Tag:noindex
X-PUBLISHED-TTL:PT1H
BEGIN:VTIMEZONE
TZID:America/Phoenix
BEGIN:STANDARD
TZOFFSETFROM:-0700
TZOFFSETTO:-0700
TZNAME:MST
DTSTART:20230101T000000
END:STANDARD
END:VTIMEZONE
BEGIN:VEVENT
DTSTART;TZID=America/Phoenix:20250427T130000
DTEND;TZID=America/Phoenix:20250427T160000
DTSTAMP:20260421T193141
CREATED:20250225T220052Z
LAST-MODIFIED:20250225T220052Z
UID:10040185-1745758800-1745769600@myflr.org
SUMMARY:Family Fun Day (Free)
DESCRIPTION:This free event introduces your family and friends to the amazing experiences at Wesley Woods Summer Camp. Enjoy archery\, games\, arts and crafts\, BBQ picnic\, tours. Meet the staff\, explore the camp and make s’mores by the campfire. \nRSVPs are helpful but not required. Call 269-721-8291 or email registrar@wesleywoodsmi.org or visit https://graceoutside.org/event/family-fun-day/
URL:https://myflr.org/event/family-fun-day-free/
LOCATION:Wesley Woods Camp & Retreat Center (Dowling\, MI)\, 1700 Clear Lake\, Dowling\, MI\, 49050\, United States
CATEGORIES:Michigan
ATTACH;FMTTYPE=image/jpeg:https://eadn-wc05-15902914.nxedge.io/wp-content/uploads/2025/02/FAMILY-FUN-DAY-2025-sq-1.jpg
ORGANIZER;CN="Grace Outside":MAILTO:registrar@graceoutside.org
END:VEVENT
BEGIN:VEVENT
DTSTART;TZID=America/Phoenix:20240428T140000
DTEND;TZID=America/Phoenix:20240428T170000
DTSTAMP:20260421T193141
CREATED:20240403T111758Z
LAST-MODIFIED:20240403T111758Z
UID:10022950-1714312800-1714323600@myflr.org
SUMMARY:Family Fun Day
DESCRIPTION:You’re Invited to a Fun-Filled Family Day ☀️ Calling all families! \nFor a fun and exciting afternoon together outside\, come to Wesley Woods’ Family Fun Day on Sunday\, April 28\, 2-5 pm. This free event introduces your family and friends to the amazing experiences at camp. Enjoy archery\, games\, arts and crafts\, BBQ picnic\, tours. Your RSVP below helps us plan. \nWhat to expect: \nEngaging activities: Participate in a variety of camp classics like archery\, arts and crafts\, nature exploration\, and games for all ages!\nMeet the camp team: Chat with our friendly staff and counselors\, and learn all about our exciting camp programs.\nExplore the campgrounds: Take a tour of our facilities\, including cabins\, dining areas\, and the waterfront.\nDelicious picnic: Enjoy complimentary hot dogs\, hamburgers and refreshments throughout the day. \nThis is a free event\, perfect for families with children and teens of all ages. \nRSVP: If possible\, please let us know you’re coming by April 21 by calling 269-721-8291 or emailing registrar@wesleywoodsmi.org. \nWe can’t wait to meet you and introduce you to the Wesley Woods family! \nWesley Woods is a Grace Outside destination.
URL:https://myflr.org/event/family-fun-day/
LOCATION:Wesley Woods Camp & Retreat Center (Dowling\, MI)\, 1700 Clear Lake\, Dowling\, MI\, 49050\, United States
CATEGORIES:Michigan
ATTACH;FMTTYPE=image/jpeg:https://eadn-wc05-15902914.nxedge.io/wp-content/uploads/2024/04/FAMILY-FUN-DAY-2024-Instagram-Post.jpg
ORGANIZER;CN="Grace Outside":MAILTO:registrar@graceoutside.org
END:VEVENT
END:VCALENDAR