
BEGIN:VCALENDAR
VERSION:2.0
PRODID:-//Family Life Radio - ECPv6.15.20//NONSGML v1.0//EN
CALSCALE:GREGORIAN
METHOD:PUBLISH
X-ORIGINAL-URL:https://myflr.org
X-WR-CALDESC:Events for Family Life Radio
REFRESH-INTERVAL;VALUE=DURATION:PT1H
X-Robots-Tag:noindex
X-PUBLISHED-TTL:PT1H
BEGIN:VTIMEZONE
TZID:America/Phoenix
BEGIN:STANDARD
TZOFFSETFROM:-0700
TZOFFSETTO:-0700
TZNAME:MST
DTSTART:20240101T000000
END:STANDARD
END:VTIMEZONE
BEGIN:VEVENT
DTSTART;TZID=America/Phoenix:20250825T170000
DTEND;TZID=America/Phoenix:20250825T190000
DTSTAMP:20260421T162545
CREATED:20250721T170917Z
LAST-MODIFIED:20250721T171028Z
UID:10049237-1756141200-1756148400@myflr.org
SUMMARY:Rowling with Heartstrings and Inclusion Connections-Overland Park\,KS
DESCRIPTION:This is a bowling event to support two no-profits that employ adults with special needs. You purchase a lane for $250 for you and two friends and we team you up with one of our amazing employees for the night. Your lane comes with dinner\, shoe rental\, and a gift card for the arcade. \nFor more information call 913-712-4490 or go to www.heartstringscf.org/rowling-with-heartstrings
URL:https://myflr.org/event/rowling-with-heartstrings-and-inclusion-connections-overland-parkks/
LOCATION:Bowlero Overland Park Kansas\, 10201 College Boulevard\, Overland Park\, KS\, 66210\, United States
CATEGORIES:Kansas,Missouri
ORGANIZER;CN="Heartstrings Community Foundation":MAILTO:hloeffler@heartstringscf.org
END:VEVENT
END:VCALENDAR