
BEGIN:VCALENDAR
VERSION:2.0
PRODID:-//Family Life Radio - ECPv6.15.20//NONSGML v1.0//EN
CALSCALE:GREGORIAN
METHOD:PUBLISH
X-WR-CALNAME:Family Life Radio
X-ORIGINAL-URL:https://myflr.org
X-WR-CALDESC:Events for Family Life Radio
REFRESH-INTERVAL;VALUE=DURATION:PT1H
X-Robots-Tag:noindex
X-PUBLISHED-TTL:PT1H
BEGIN:VTIMEZONE
TZID:America/Phoenix
BEGIN:STANDARD
TZOFFSETFROM:-0700
TZOFFSETTO:-0700
TZNAME:MST
DTSTART:20240101T000000
END:STANDARD
END:VTIMEZONE
BEGIN:VEVENT
DTSTART;TZID=America/Phoenix:20251221T183000
DTEND;TZID=America/Phoenix:20251221T200000
DTSTAMP:20260421T135725
CREATED:20251114T183116Z
LAST-MODIFIED:20251114T183245Z
UID:10057129-1766341800-1766347200@myflr.org
SUMMARY:Christmas time at Heights First Church
DESCRIPTION:CHRISTMASTIME AT HEIGHTS FIRST CHURCH Featuring Special Guest – Grammy Award-Winning Avalon Singer\, Jody McBrayer
URL:https://myflr.org/event/christmas-time-at-heights-first-church/
LOCATION:Heights First Church of the Nazerene\, 8401 Paseo Del Norte\, Albuquerque\, NM\, 87122\, United States
CATEGORIES:New Mexico
ATTACH;FMTTYPE=image/jpeg:https://eadn-wc05-15902914.nxedge.io/wp-content/uploads/2025/11/IMG_7717.jpeg
ORGANIZER;CN="Heights First Church of the Nazarene":MAILTO:info@hfcn.org
END:VEVENT
BEGIN:VEVENT
DTSTART;TZID=America/Phoenix:20251221T183000
DTEND;TZID=America/Phoenix:20251221T200000
DTSTAMP:20260421T135725
CREATED:20251022T194327Z
LAST-MODIFIED:20251022T194327Z
UID:10057030-1766341800-1766347200@myflr.org
SUMMARY:Christmastime at Heights First Church (Feat. Jody McBrayer)
DESCRIPTION:Step into a world of wonder and worship this Christmas season at Christmastime at Heights First Church—an unforgettable evening filled with the sights\, sounds\, and spirit of the holidays. \nFeaturing Grammy Award-Winning vocalist Jody McBrayer\, of the beloved group Avalon & Cana’s Voice\, whose powerful voice and heartfelt performance will inspire joy\, hope\, and reflection as we celebrate the birth of our Savior alongside the incomparable Heights First Church Choir & Orchestra. \nWith Special Music by Nationally Acclaimed Christian and Jazz Artist Steven Marjerison\, whose unique blend of soul-stirring vocals and vibrant musical artistry will add a captivating flair to this extraordinary night. \n✨ Whether you’re seeking inspiration\, tradition\, or simply the joy of the season\, this evening promises to be a magical\, music-filled celebration you won’t forget.
URL:https://myflr.org/event/christmastime-at-heights-first-church-feat-jody-mcbrayer/
LOCATION:Heights First Church of the Nazerene\, 8401 Paseo Del Norte\, Albuquerque\, NM\, 87122\, United States
CATEGORIES:New Mexico
ATTACH;FMTTYPE=image/png:https://eadn-wc05-15902914.nxedge.io/wp-content/uploads/2025/10/Christmastime-JodyMcBrayer.png
ORGANIZER;CN="Heights First Church of the Nazarene":MAILTO:info@hfcn.org
END:VEVENT
END:VCALENDAR