
BEGIN:VCALENDAR
VERSION:2.0
PRODID:-//Family Life Radio - ECPv6.15.20//NONSGML v1.0//EN
CALSCALE:GREGORIAN
METHOD:PUBLISH
X-ORIGINAL-URL:https://myflr.org
X-WR-CALDESC:Events for Family Life Radio
REFRESH-INTERVAL;VALUE=DURATION:PT1H
X-Robots-Tag:noindex
X-PUBLISHED-TTL:PT1H
BEGIN:VTIMEZONE
TZID:America/Phoenix
BEGIN:STANDARD
TZOFFSETFROM:-0700
TZOFFSETTO:-0700
TZNAME:MST
DTSTART:20240101T000000
END:STANDARD
END:VTIMEZONE
BEGIN:VEVENT
DTSTART;TZID=America/Phoenix:20250510T130000
DTEND;TZID=America/Phoenix:20250510T150000
DTSTAMP:20260421T201930
CREATED:20250424T144241Z
LAST-MODIFIED:20250424T144241Z
UID:10041034-1746882000-1746889200@myflr.org
SUMMARY:Free Showing: King of Kings
DESCRIPTION:???? Location: Celebration Cinema\, Mount Pleasant\n????️ Admission: FREE (Limited seating – RSVP required!) \nThis powerful film is open to everyone\, but seating is limited\, so please RSVP by calling 989-317-3096 to reserve your spot! \nBring your friends and family for an unforgettable afternoon. We can’t wait to see you there!
URL:https://myflr.org/event/free-showing-king-of-kings/
LOCATION:Celebration Cinema (Mount Pleasant\, MI)\, 4935 E Pickard St\, Mount Pleasant\, MI\, 48858\, United States
CATEGORIES:Michigan
ATTACH;FMTTYPE=image/png:https://eadn-wc05-15902914.nxedge.io/wp-content/uploads/2025/04/Presented-by.png
END:VEVENT
END:VCALENDAR