
BEGIN:VCALENDAR
VERSION:2.0
PRODID:-//Family Life Radio - ECPv6.15.20//NONSGML v1.0//EN
CALSCALE:GREGORIAN
METHOD:PUBLISH
X-ORIGINAL-URL:https://myflr.org
X-WR-CALDESC:Events for Family Life Radio
REFRESH-INTERVAL;VALUE=DURATION:PT1H
X-Robots-Tag:noindex
X-PUBLISHED-TTL:PT1H
BEGIN:VTIMEZONE
TZID:America/Phoenix
BEGIN:STANDARD
TZOFFSETFROM:-0700
TZOFFSETTO:-0700
TZNAME:MST
DTSTART:20240101T000000
END:STANDARD
END:VTIMEZONE
BEGIN:VEVENT
DTSTART;TZID=America/Phoenix:20260407T180000
DTEND;TZID=America/Phoenix:20260407T200000
DTSTAMP:20260420T115728
CREATED:20251203T214030Z
LAST-MODIFIED:20251203T214030Z
UID:10057631-1775584800-1775592000@myflr.org
SUMMARY:Divorce Care support group
DESCRIPTION:Divorce Care is a 13 week program that helps men and women navigate separation and divorce. For more indepth information please visit divorcecare.org.
URL:https://myflr.org/event/divorce-care-support-group-2/2026-04-07/
LOCATION:Hillsdale United Brethren Church (Hillsdale\, MI)\, 1300 S Hillsdale Rd\, Hillsdale\, MI\, 49242\, United States
CATEGORIES:Michigan
ORGANIZER;CN="Hillsdale United Brethren Church":MAILTO:bhelton0920@gmail.com
END:VEVENT
BEGIN:VEVENT
DTSTART;TZID=America/Phoenix:20250408T180000
DTEND;TZID=America/Phoenix:20250408T200000
DTSTAMP:20260420T115728
CREATED:20241231T202614Z
LAST-MODIFIED:20241231T202614Z
UID:10038409-1744135200-1744142400@myflr.org
SUMMARY:Divorce Care Support Group
DESCRIPTION:Don’t try to go through separation or divorce alone. Connect with a DivorceCare group in person. You’ll find caring people who understand the issues you face and practical counsel for decision-making and managing stress.
URL:https://myflr.org/event/divorce-care-support-group/2025-04-08/
LOCATION:Hillsdale United Brethren Church (Hillsdale\, MI)\, 1300 S Hillsdale Rd\, Hillsdale\, MI\, 49242\, United States
CATEGORIES:Michigan
ATTACH;FMTTYPE=image/png:https://eadn-wc05-15902914.nxedge.io/wp-content/uploads/2024/12/dc_color.png
ORGANIZER;CN="Hillsdale United Brethren Church":MAILTO:bhelton0920@gmail.com
END:VEVENT
END:VCALENDAR