
BEGIN:VCALENDAR
VERSION:2.0
PRODID:-//Family Life Radio - ECPv6.15.20//NONSGML v1.0//EN
CALSCALE:GREGORIAN
METHOD:PUBLISH
X-WR-CALNAME:Family Life Radio
X-ORIGINAL-URL:https://myflr.org
X-WR-CALDESC:Events for Family Life Radio
REFRESH-INTERVAL;VALUE=DURATION:PT1H
X-Robots-Tag:noindex
X-PUBLISHED-TTL:PT1H
BEGIN:VTIMEZONE
TZID:America/Detroit
BEGIN:DAYLIGHT
TZOFFSETFROM:-0500
TZOFFSETTO:-0400
TZNAME:EDT
DTSTART:20240310T070000
END:DAYLIGHT
BEGIN:STANDARD
TZOFFSETFROM:-0400
TZOFFSETTO:-0500
TZNAME:EST
DTSTART:20241103T060000
END:STANDARD
BEGIN:DAYLIGHT
TZOFFSETFROM:-0500
TZOFFSETTO:-0400
TZNAME:EDT
DTSTART:20250309T070000
END:DAYLIGHT
BEGIN:STANDARD
TZOFFSETFROM:-0400
TZOFFSETTO:-0500
TZNAME:EST
DTSTART:20251102T060000
END:STANDARD
BEGIN:DAYLIGHT
TZOFFSETFROM:-0500
TZOFFSETTO:-0400
TZNAME:EDT
DTSTART:20260308T070000
END:DAYLIGHT
BEGIN:STANDARD
TZOFFSETFROM:-0400
TZOFFSETTO:-0500
TZNAME:EST
DTSTART:20261101T060000
END:STANDARD
END:VTIMEZONE
BEGIN:VEVENT
DTSTART;TZID=America/Detroit:20250503T190000
DTEND;TZID=America/Detroit:20250503T213000
DTSTAMP:20260421T172251
CREATED:20250407T160610Z
LAST-MODIFIED:20250407T160610Z
UID:10040937-1746298800-1746307800@myflr.org
SUMMARY:An Evening with the Holy Post – Detroit
DESCRIPTION:Are you disillusioned with the American church but still drawn to the way of Jesus? Do you want help thinking through the intersection of faith\, politics\, and culture? The Holy Post Podcast is a refuge for those looking to untangle their faith from fear\, dogmatism\, and partisan politics while continuing to participate in the redemptive work of Jesus. Through our blend of humor\, insight\, and nuanced analysis\, it has become one of the most popular Christian podcasts in the country. \nYOU’RE INVITED to experience the Holy Post in person on May 3rd in Detroit\, MI! Join Holy Post host Skye Jethani and special guest Tim Alberta for a conversation on faithfully navigating this current moment\, an audience Q & A\, and time to connect with the Holy Post community!
URL:https://myflr.org/event/an-evening-with-the-holy-post-detroit/
LOCATION:Durfee Innovation Society (Detroit\, MI)\, 2470 Collingwood St\, Detroit\, MI\, 48206\, United States
CATEGORIES:Michigan
ATTACH;FMTTYPE=image/png:https://eadn-wc05-15902914.nxedge.io/wp-content/uploads/2025/04/social.png
ORGANIZER;CN="Holy Post Media":MAILTO:support@holypost.com
END:VEVENT
END:VCALENDAR