
BEGIN:VCALENDAR
VERSION:2.0
PRODID:-//Family Life Radio - ECPv6.15.20//NONSGML v1.0//EN
CALSCALE:GREGORIAN
METHOD:PUBLISH
X-WR-CALNAME:Family Life Radio
X-ORIGINAL-URL:https://myflr.org
X-WR-CALDESC:Events for Family Life Radio
REFRESH-INTERVAL;VALUE=DURATION:PT1H
X-Robots-Tag:noindex
X-PUBLISHED-TTL:PT1H
BEGIN:VTIMEZONE
TZID:America/Detroit
BEGIN:DAYLIGHT
TZOFFSETFROM:-0500
TZOFFSETTO:-0400
TZNAME:EDT
DTSTART:20250309T070000
END:DAYLIGHT
BEGIN:STANDARD
TZOFFSETFROM:-0400
TZOFFSETTO:-0500
TZNAME:EST
DTSTART:20251102T060000
END:STANDARD
BEGIN:DAYLIGHT
TZOFFSETFROM:-0500
TZOFFSETTO:-0400
TZNAME:EDT
DTSTART:20260308T070000
END:DAYLIGHT
BEGIN:STANDARD
TZOFFSETFROM:-0400
TZOFFSETTO:-0500
TZNAME:EST
DTSTART:20261101T060000
END:STANDARD
BEGIN:DAYLIGHT
TZOFFSETFROM:-0500
TZOFFSETTO:-0400
TZNAME:EDT
DTSTART:20270314T070000
END:DAYLIGHT
BEGIN:STANDARD
TZOFFSETFROM:-0400
TZOFFSETTO:-0500
TZNAME:EST
DTSTART:20271107T060000
END:STANDARD
END:VTIMEZONE
BEGIN:VEVENT
DTSTART;TZID=America/Detroit:20260606T100000
DTEND;TZID=America/Detroit:20260606T130000
DTSTAMP:20260420T005352
CREATED:20260327T155211Z
LAST-MODIFIED:20260327T155211Z
UID:10060049-1780740000-1780750800@myflr.org
SUMMARY:Home Plate 2026 - Detroit
DESCRIPTION:Join Tiger outfielder Kerry Carpenter\, pitchers Will Vest & Tyler Holton\, infielder Zach McKinstry\, retired Tiger Frank Tanana\, and Christian Recording Artist Trey Simon for a program that will include these athletes speaking about their careers in professional sports and faith in Jesus Christ. Additional speakers from the Tigers\, Mariners\, and other sports may be added. Schedule changes and other circumstances related to the nature of their profession could prevent one or more speakers from participating. \nTicket location options are Upper Grandstand and Mezzanine in the Upper Deck and Pavilion\, Outfield Box\, and Infield Box in the Lower Deck. For a “Schedule for the Day”\, ticket pricing options\, and updates\, please visit: www.HomePlateDetroit.Org. \n3 OPTIONS TO ORDER TICKETS:\n(1) Order Blocks of 9 or Less Digital Tickets at: https://www.gofevo.com/event/Homeplate2026\n(2) Order Blocks of 10 or More Digital Tickets (Recommended) or Printed Tickets by Contacting Nick McClure at the Tigers Group Sales Office by Phone at (313) 471-7178 or by EMail at Nick.McClure@Tigers.Com.\n(3) Order Any Amount of Printed Tickets with a Mail-In Order Form Posted on the HOME PLATE 2026 Website – www.HomePlateDetroit.Org.
URL:https://myflr.org/event/home-plate-2026-detroit/
LOCATION:Comerica Park\, 2100 Woodward Avenue\, Detroit\, MI\, 48201\, United States
CATEGORIES:Featured,Michigan
ATTACH;FMTTYPE=image/png:https://eadn-wc05-15902914.nxedge.io/wp-content/uploads/2026/03/HP_logo-2023.png
ORGANIZER;CN="Home Plate Detroit":MAILTO:HomePlateDetroit@AOL.Com
END:VEVENT
END:VCALENDAR