
BEGIN:VCALENDAR
VERSION:2.0
PRODID:-//Family Life Radio - ECPv6.15.20//NONSGML v1.0//EN
CALSCALE:GREGORIAN
METHOD:PUBLISH
X-ORIGINAL-URL:https://myflr.org
X-WR-CALDESC:Events for Family Life Radio
REFRESH-INTERVAL;VALUE=DURATION:PT1H
X-Robots-Tag:noindex
X-PUBLISHED-TTL:PT1H
BEGIN:VTIMEZONE
TZID:America/Detroit
BEGIN:DAYLIGHT
TZOFFSETFROM:-0500
TZOFFSETTO:-0400
TZNAME:EDT
DTSTART:20240310T070000
END:DAYLIGHT
BEGIN:STANDARD
TZOFFSETFROM:-0400
TZOFFSETTO:-0500
TZNAME:EST
DTSTART:20241103T060000
END:STANDARD
BEGIN:DAYLIGHT
TZOFFSETFROM:-0500
TZOFFSETTO:-0400
TZNAME:EDT
DTSTART:20250309T070000
END:DAYLIGHT
BEGIN:STANDARD
TZOFFSETFROM:-0400
TZOFFSETTO:-0500
TZNAME:EST
DTSTART:20251102T060000
END:STANDARD
BEGIN:DAYLIGHT
TZOFFSETFROM:-0500
TZOFFSETTO:-0400
TZNAME:EDT
DTSTART:20260308T070000
END:DAYLIGHT
BEGIN:STANDARD
TZOFFSETFROM:-0400
TZOFFSETTO:-0500
TZNAME:EST
DTSTART:20261101T060000
END:STANDARD
BEGIN:DAYLIGHT
TZOFFSETFROM:-0500
TZOFFSETTO:-0400
TZNAME:EDT
DTSTART:20270314T070000
END:DAYLIGHT
BEGIN:STANDARD
TZOFFSETFROM:-0400
TZOFFSETTO:-0500
TZNAME:EST
DTSTART:20271107T060000
END:STANDARD
END:VTIMEZONE
BEGIN:VEVENT
DTSTART;TZID=America/Detroit:20260412T133000
DTEND;TZID=America/Detroit:20260412T153000
DTSTAMP:20260421T195608
CREATED:20260105T142502Z
LAST-MODIFIED:20260105T142502Z
UID:10057898-1776000600-1776007800@myflr.org
SUMMARY:GriefShare Support Group (W26) at Hopevale Church
DESCRIPTION:Grieving the death of a loved one is hard. We want to help. A new GriefShare 13-week grief support and recovery seminar series that features Christian experts on grief\, as seen from a biblical perspective\, beginning January 11. \nHere\, you will discover what to expect in the days ahead and what’s “normal” in grief. Each week’s session offers personal support and encouragement for the journey from mourning to joy.
URL:https://myflr.org/event/griefshare-support-group-w26-at-hopevale-church/2026-04-12/
LOCATION:Hopevale Church – Saginaw Campus (Saginaw\, MI)\, 4873 N. Center Rd.\, Saginaw\, MI\, 48604\, United States
CATEGORIES:Michigan
ATTACH;FMTTYPE=image/jpeg:https://eadn-wc05-15902914.nxedge.io/wp-content/uploads/2025/12/SG-GriefShare-1-scaled.jpg
ORGANIZER;CN="Hopevale Church":MAILTO:church@hopevale.org
END:VEVENT
BEGIN:VEVENT
DTSTART;TZID=America/Detroit:20251108T100000
DTEND;TZID=America/Detroit:20251108T120000
DTSTAMP:20260421T195608
CREATED:20251103T144330Z
LAST-MODIFIED:20251103T144330Z
UID:10057112-1762596000-1762603200@myflr.org
SUMMARY:GriefShare: Surviving the Holidays Seminar - 11.08.25
DESCRIPTION:GriefShare: Surviving the Holidays is a helpful\, encouraging seminar for people facing the holidays after a loved one’s death. Please join us on November 8\, 2025\, from 10am-noon at Hopevale Church\, 4873 Center Rd.\, on the corner of Center and Tittabawassee in Saginaw\, MI 48604. The program is open to adult community members who are mourning the death of a loved one. \nThe seminar features video interviews with counselors\, grief experts\, and other people who have experienced the holidays after their loved one’s death and who offer practical suggestions and reassurance. These people share honestly about: \nBeing prepared for surprising emotions that may hit over the holidays\nWhat to do about traditions and other coming changes\nHow to handle holiday parties and invitations\nHow to survive potentially awkward moments with other people\nWhere to find comfort\, strength\, and hope in a seemingly hopeless time \nThose who attend will receive a Survival Guide filled with practical tips\, encouraging words\, journaling ideas\, and exercises for daily help through the holiday season. \nThere is no charge for this event. For more information\, register at https://www.hopevale.org/griefshare or contact Hopevale Church at 989.793.3122. \nHopevale church is a non-denominational community of grace and truth\, inviting people to know and follow Jesus. \nSaginaw Campus\n4873 North Center Road…\nSaginaw\, MI 48604\n989.793.3122 | church@hopevale.org
URL:https://myflr.org/event/griefshare-surviving-the-holidays-seminar-11-08-25/
LOCATION:Hopevale Church – Saginaw Campus (Saginaw\, MI)\, 4873 N. Center Rd.\, Saginaw\, MI\, 48604\, United States
CATEGORIES:Michigan
ATTACH;FMTTYPE=image/jpeg:https://eadn-wc05-15902914.nxedge.io/wp-content/uploads/2025/10/GriefShare_Surviving-the-Holidays_Graphic_Red.jpg
ORGANIZER;CN="Hopevale Church":MAILTO:church@hopevale.org
END:VEVENT
END:VCALENDAR