
BEGIN:VCALENDAR
VERSION:2.0
PRODID:-//Family Life Radio - ECPv6.15.20//NONSGML v1.0//EN
CALSCALE:GREGORIAN
METHOD:PUBLISH
X-WR-CALNAME:Family Life Radio
X-ORIGINAL-URL:https://myflr.org
X-WR-CALDESC:Events for Family Life Radio
REFRESH-INTERVAL;VALUE=DURATION:PT1H
X-Robots-Tag:noindex
X-PUBLISHED-TTL:PT1H
BEGIN:VTIMEZONE
TZID:America/Detroit
BEGIN:DAYLIGHT
TZOFFSETFROM:-0500
TZOFFSETTO:-0400
TZNAME:EDT
DTSTART:20250309T070000
END:DAYLIGHT
BEGIN:STANDARD
TZOFFSETFROM:-0400
TZOFFSETTO:-0500
TZNAME:EST
DTSTART:20251102T060000
END:STANDARD
BEGIN:DAYLIGHT
TZOFFSETFROM:-0500
TZOFFSETTO:-0400
TZNAME:EDT
DTSTART:20260308T070000
END:DAYLIGHT
BEGIN:STANDARD
TZOFFSETFROM:-0400
TZOFFSETTO:-0500
TZNAME:EST
DTSTART:20261101T060000
END:STANDARD
BEGIN:DAYLIGHT
TZOFFSETFROM:-0500
TZOFFSETTO:-0400
TZNAME:EDT
DTSTART:20270314T070000
END:DAYLIGHT
BEGIN:STANDARD
TZOFFSETFROM:-0400
TZOFFSETTO:-0500
TZNAME:EST
DTSTART:20271107T060000
END:STANDARD
END:VTIMEZONE
BEGIN:VEVENT
DTSTART;TZID=America/Detroit:20260516T120000
DTEND;TZID=America/Detroit:20260516T150000
DTSTAMP:20260421T041046
CREATED:20260223T170624Z
LAST-MODIFIED:20260223T170624Z
UID:10059049-1778932800-1778943600@myflr.org
SUMMARY:HopeWell Ranch's Farm Fair
DESCRIPTION:This is a fun family friendly event! We will start our day with a “We Honor” veteran recognition opportunity with a Honor Guard\, a flag raising\, a Missing Man Table and other military traditions. Antique tractors\, Food trucks\, Culver’s Frozen Custard\, popcorn\, Children’s carnival games\, barrel train rides\, wagon rides\, and special music by the Mountain Town Family Chorus! \nNew this year are vendor spaces for crafters. Each space is 10 x 10 for $35.00.
URL:https://myflr.org/event/hopewell-ranchs-farm-fair/
LOCATION:HopeWell Ranch (Weidman\, MI)\, 6410 W. Leiter Road\, Weidman\, MI\, 48893\, United States
CATEGORIES:Michigan
ATTACH;FMTTYPE=image/png:https://eadn-wc05-15902914.nxedge.io/wp-content/uploads/2026/02/Farm-Fair-2026.png
ORGANIZER;CN="HopeWell Ranch":MAILTO:info@hopewellranch.org
END:VEVENT
END:VCALENDAR