
BEGIN:VCALENDAR
VERSION:2.0
PRODID:-//Family Life Radio - ECPv6.15.20//NONSGML v1.0//EN
CALSCALE:GREGORIAN
METHOD:PUBLISH
X-WR-CALNAME:Family Life Radio
X-ORIGINAL-URL:https://myflr.org
X-WR-CALDESC:Events for Family Life Radio
REFRESH-INTERVAL;VALUE=DURATION:PT1H
X-Robots-Tag:noindex
X-PUBLISHED-TTL:PT1H
BEGIN:VTIMEZONE
TZID:America/Phoenix
BEGIN:STANDARD
TZOFFSETFROM:-0700
TZOFFSETTO:-0700
TZNAME:MST
DTSTART:20230101T000000
END:STANDARD
END:VTIMEZONE
BEGIN:VEVENT
DTSTART;TZID=America/Phoenix:20240907T170000
DTEND;TZID=America/Phoenix:20240907T203000
DTSTAMP:20260421T142500
CREATED:20240820T191106Z
LAST-MODIFIED:20240906T174400Z
UID:10032798-1725728400-1725741000@myflr.org
SUMMARY:FREE Peoria Party in the Park\, Outdoor Movie\, Food Trucks & More! Sat Sept 7th
DESCRIPTION:We’re soooooo excited for the kickoff of the 2024/2025 season of Peoria 1st Saturdays\, Sept 7th!!! Which movie will our featured presentation be? Will it be Paramount Pictures brand new release IF or Sony Picture’s newest animated comedy Garfield?!?!? Let the voting begin!\n______________\nFREE to Enter – FREE to Park – Pet friendly – Open to the public – BRING THE WHOLE FAMILY to @ Peoria 1st Saturdays FREE Monthly Movies in the Park! \nSooooooo much fun\, why go anywhere else?!?!\nFREE Movie\nColoring Station\nKids Dance Party\nFace Painting\nBalloon Animals\nNight Market\nFamily Friendly Music\nSpecialty Food Trucks*\nKids Activities\nGlow Fun\nGames\, FUN & More!\n*Food will be available for purchase & small cost for face painting/balloon animals \nGrab a blanket\, chair and your family & friends for a Free Outdoor Movie in the Park!! only @ Centennial Plaza Park in Old Towne Peoria (9875 N 85th Ave\, Peoria AZ 85345) \nSUPPORT LOCAL @ the Night Market! Every purchase makes a huge difference\, Shop Small and Support Local! \nAllllllll the fun starts @ 5pm~Kids Dance Party @ 7:15~Movie @ 7:30pm~come early to snag a good seat\, something yummy to eat & have some FUN before the movie starts. \nGot a picky eater? We hear you because so do we! Don’t worry we’ve got you covered\, always a variety of different food for everyone to pick from\, plus KIDS MENUS @ EVERY TRUCK!! Food Truck lineup announced on the FB page:www.facebook.com/TimesTwoEntertainment/events \nEvent sponsored by: Peoria Arts & Culture\nEvent\, great family entertainment & insanely awesome movie theater quality audio & video experience provided by: Times Two Entertainment. \nWhich movie will our featured presentation be? Will it be Paramount Pictures brand new release IF or Sony Picture’s newest animated comedy Garfield?!?!? Let the voting begin! \nParamount Pictures IF (PG): A tale of a young girl named Bea that moves in with her grandmother. She soon discovers she can see imaginary friends (IFs) who have been left behind as their real-life children have grown up. Bea ‘s adventure begins when she reconnects the IFs with all of the adults who outgrew them. \nSony Pictures: GARFIELD (PG): 2024 Animated comedy based on Jim Davis’s comic strip. Garfield\, a pampered indoor cat who loves lasagna & hates Mondays is reunited with his long-lost father Vic\, a street cat. Garfield & his dog Odie are forced to join Vic on a risky heist after being kidnapped by Jinx\, a deranged Persian cat that will stop at nothing but getting her revenge on Vic.\n(For vendor info please visit the website: www.iplayMovies4you.com)
URL:https://myflr.org/event/free-peoria-party-in-the-park-outdoor-movie-food-trucks-more-sat-sept-7th/
LOCATION:Centennial Plaza Park in Old Towne Peoria\, 9875 N 85th Ave\, Peoria\, Arizona\, 85345
CATEGORIES:Arizona,Featured
ATTACH;FMTTYPE=image/jpeg:https://eadn-wc05-15902914.nxedge.io/wp-content/uploads/2024/08/Times-Two-Peoria-Movie-090724-500x320-1.jpg
ORGANIZER;CN="https%3A//bit.ly/PeoriaSept2024":MAILTO:Timestwoevents@gmail.com
END:VEVENT
END:VCALENDAR