
BEGIN:VCALENDAR
VERSION:2.0
PRODID:-//Family Life Radio - ECPv6.15.20//NONSGML v1.0//EN
CALSCALE:GREGORIAN
METHOD:PUBLISH
X-WR-CALNAME:Family Life Radio
X-ORIGINAL-URL:https://myflr.org
X-WR-CALDESC:Events for Family Life Radio
REFRESH-INTERVAL;VALUE=DURATION:PT1H
X-Robots-Tag:noindex
X-PUBLISHED-TTL:PT1H
BEGIN:VTIMEZONE
TZID:America/Detroit
BEGIN:DAYLIGHT
TZOFFSETFROM:-0500
TZOFFSETTO:-0400
TZNAME:EDT
DTSTART:20250309T070000
END:DAYLIGHT
BEGIN:STANDARD
TZOFFSETFROM:-0400
TZOFFSETTO:-0500
TZNAME:EST
DTSTART:20251102T060000
END:STANDARD
BEGIN:DAYLIGHT
TZOFFSETFROM:-0500
TZOFFSETTO:-0400
TZNAME:EDT
DTSTART:20260308T070000
END:DAYLIGHT
BEGIN:STANDARD
TZOFFSETFROM:-0400
TZOFFSETTO:-0500
TZNAME:EST
DTSTART:20261101T060000
END:STANDARD
BEGIN:DAYLIGHT
TZOFFSETFROM:-0500
TZOFFSETTO:-0400
TZNAME:EDT
DTSTART:20270314T070000
END:DAYLIGHT
BEGIN:STANDARD
TZOFFSETFROM:-0400
TZOFFSETTO:-0500
TZNAME:EST
DTSTART:20271107T060000
END:STANDARD
END:VTIMEZONE
BEGIN:VTIMEZONE
TZID:America/Phoenix
BEGIN:STANDARD
TZOFFSETFROM:-0700
TZOFFSETTO:-0700
TZNAME:MST
DTSTART:20240101T000000
END:STANDARD
END:VTIMEZONE
BEGIN:VEVENT
DTSTART;TZID=America/Detroit:20260405T110000
DTEND;TZID=America/Detroit:20260405T123000
DTSTAMP:20260419T234404
CREATED:20260324T145849Z
LAST-MODIFIED:20260324T145849Z
UID:10060017-1775386800-1775392200@myflr.org
SUMMARY:HOLY WEEK 2026: Resurrection Sunday at I Am Church · Central Campus - South Rockwood
DESCRIPTION:Join us on Sunday\, April 5\, 2026 at 11 AM at Central Campus for our Resurrection Sunday service! We will celebrate our Risen Savior through praise and worship! Pastor Rick Satterfield will be ministering! We will also celebrate New Life in Christ as we witness individuals taking their next steps with Christ through Baptism. Join us as we celebrate Holy Week together in 2026!
URL:https://myflr.org/event/holy-week-2026-resurrection-sunday-at-i-am-church-%c2%b7-central-campus-south-rockwood/
LOCATION:I Am Church – Central Campus (South Rockwood\, MI)\, 3744 Carleton-Rockwood Rd\, South Rockwood\, MI\, 48179\, United States
CATEGORIES:Michigan
ATTACH;FMTTYPE=image/png:https://eadn-wc05-15902914.nxedge.io/wp-content/uploads/2026/03/HW2026-Resurrection-Sunday-at-Central-SQ.png
ORGANIZER;CN="I Am Church":MAILTO:connorroy@iamchurch.net
END:VEVENT
BEGIN:VEVENT
DTSTART;TZID=America/Detroit:20260405T110000
DTEND;TZID=America/Detroit:20260405T123000
DTSTAMP:20260419T234404
CREATED:20260324T145816Z
LAST-MODIFIED:20260324T145816Z
UID:10060018-1775386800-1775392200@myflr.org
SUMMARY:HOLY WEEK 2026: Resurrection Sunday at I Am Church · East Campus - Rockwood
DESCRIPTION:Join us on Sunday\, April 5\, 2026 at 11 AM at East Campus for our Resurrection Sunday service! We will celebrate our Risen Savior through praise and worship! Pastor Tim Moore will be ministering! We will also celebrate New Life in Christ as we witness individuals taking their next steps with Christ through Baptism. Join us as we celebrate Holy Week together in 2026!
URL:https://myflr.org/event/holy-week-2026-resurrection-sunday-at-i-am-church-%c2%b7-east-campus-rockwood/
LOCATION:I Am Church – East Campus\, 22144 Huron River Dr\, Rockwood\, MI\, 48173\, United States
CATEGORIES:Michigan
ATTACH;FMTTYPE=image/png:https://eadn-wc05-15902914.nxedge.io/wp-content/uploads/2026/03/HW2026-Resurrection-Sunday-at-East-SQ.png
ORGANIZER;CN="I Am Church":MAILTO:connorroy@iamchurch.net
END:VEVENT
BEGIN:VEVENT
DTSTART;TZID=America/Detroit:20260404T170000
DTEND;TZID=America/Detroit:20260404T193000
DTSTAMP:20260419T234404
CREATED:20260324T150045Z
LAST-MODIFIED:20260324T150045Z
UID:10060013-1775322000-1775331000@myflr.org
SUMMARY:HOLY WEEK 2026: Passover Seder at I Am Church - South Rockwood
DESCRIPTION:Join us on Saturday\, April 4\, 2026 at 5 PM at our Central Campus for our Passover Seder dinner! This year’s event will feature a full meal in addition to the Passover Seder plate. We are asking everyone to give $5 each to help cover the cost of the meal. You can give cash in-person at one of our services or you can give directly on the event page in the church app. Please make a note for “Passover Seder” on the tithing envelope if you choose to give cash. Please select onto the App to register!
URL:https://myflr.org/event/holy-week-2026-passover-seder-at-i-am-church-south-rockwood/
LOCATION:I Am Church – Central Campus (South Rockwood\, MI)\, 3744 Carleton-Rockwood Rd\, South Rockwood\, MI\, 48179\, United States
CATEGORIES:Michigan
ATTACH;FMTTYPE=image/png:https://eadn-wc05-15902914.nxedge.io/wp-content/uploads/2026/03/HW2026-Passover-Seder-SQ.png
ORGANIZER;CN="I Am Church":MAILTO:connorroy@iamchurch.net
END:VEVENT
BEGIN:VEVENT
DTSTART;TZID=America/Detroit:20260403T190000
DTEND;TZID=America/Detroit:20260403T201500
DTSTAMP:20260419T234404
CREATED:20260324T150115Z
LAST-MODIFIED:20260324T150115Z
UID:10060012-1775242800-1775247300@myflr.org
SUMMARY:HOLY WEEK 2026: Good Friday at I Am Church - South Rockwood
DESCRIPTION:Join us on Friday\, April 3\, 2026 at 7 PM at our Central Campus for our Good Friday service! We will remember the crucifixion of Jesus through worship and partake in the Communion together. Pastor Rick Satterfield will be ministering. Come and be a part of what God is doing at I Am Church in 2025.
URL:https://myflr.org/event/holy-week-2026-good-friday-at-i-am-church-south-rockwood/
LOCATION:I Am Church – Central Campus (South Rockwood\, MI)\, 3744 Carleton-Rockwood Rd\, South Rockwood\, MI\, 48179\, United States
CATEGORIES:Michigan
ATTACH;FMTTYPE=image/png:https://eadn-wc05-15902914.nxedge.io/wp-content/uploads/2026/03/HW2026-Good-Friday-SQ.png
ORGANIZER;CN="I Am Church":MAILTO:connorroy@iamchurch.net
END:VEVENT
BEGIN:VEVENT
DTSTART;TZID=America/Detroit:20260329T110000
DTEND;TZID=America/Detroit:20260329T123000
DTSTAMP:20260419T234404
CREATED:20260324T150019Z
LAST-MODIFIED:20260324T150019Z
UID:10060014-1774782000-1774787400@myflr.org
SUMMARY:HOLY WEEK 2026: Palm Sunday at I Am Church · Central Campus - South Rockwood
DESCRIPTION:Join us on Sunday\, March 29\, 2026 at 11 AM at Central Campus for our Palm Sunday service! We will celebrate Jesus’ Triumphant Entry into Jerusalem through worship! Pastor Rick Satterfield will be ministering! Join us as we celebrate Holy Week together in 2026!
URL:https://myflr.org/event/holy-week-2026-palm-sunday-at-i-am-church-%c2%b7-central-campus-south-rockwood/
LOCATION:I Am Church – Central Campus (South Rockwood\, MI)\, 3744 Carleton-Rockwood Rd\, South Rockwood\, MI\, 48179\, United States
CATEGORIES:Michigan
ATTACH;FMTTYPE=image/png:https://eadn-wc05-15902914.nxedge.io/wp-content/uploads/2026/03/HW2026-Palm-Sunday-at-Central-SQ.png
ORGANIZER;CN="I Am Church":MAILTO:connorroy@iamchurch.net
END:VEVENT
BEGIN:VEVENT
DTSTART;TZID=America/Detroit:20260329T110000
DTEND;TZID=America/Detroit:20260329T123000
DTSTAMP:20260419T234404
CREATED:20260324T145944Z
LAST-MODIFIED:20260324T145944Z
UID:10060015-1774782000-1774787400@myflr.org
SUMMARY:HOLY WEEK 2026: Palm Sunday at I Am Church · East Campus - Rockwood
DESCRIPTION:Join us on Sunday\, March 29\, 2026 at 11 AM at East Campus for our Palm Sunday service! We will celebrate Jesus’ Triumphant Entry into Jerusalem through worship! Pastor Tim Moore will be ministering! Join us as we celebrate Holy Week together in 2026!
URL:https://myflr.org/event/holy-week-2026-palm-sunday-at-i-am-church-%c2%b7-east-campus-rockwood/
LOCATION:I Am Church – East Campus\, 22144 Huron River Dr\, Rockwood\, MI\, 48173\, United States
CATEGORIES:Michigan
ATTACH;FMTTYPE=image/png:https://eadn-wc05-15902914.nxedge.io/wp-content/uploads/2026/03/HW2026-Palm-Sunday-at-East-SQ.png
ORGANIZER;CN="I Am Church":MAILTO:connorroy@iamchurch.net
END:VEVENT
BEGIN:VEVENT
DTSTART;TZID=America/Detroit:20260329T110000
DTEND;TZID=America/Detroit:20260329T120000
DTSTAMP:20260419T234404
CREATED:20260324T145916Z
LAST-MODIFIED:20260324T145916Z
UID:10060016-1774782000-1774785600@myflr.org
SUMMARY:HOLY WEEK 2026: Palm Sunday at I Am Church · Monroe Campus - Monroe
DESCRIPTION:Join us on Sunday\, March 29\, 2026 at 11 AM at Monroe Campus for our Palm Sunday service! We will celebrate Jesus’ Triumphant Entry into Jerusalem through worship! Pastor Greg Roy will be ministering! Join us as we celebrate Holy Week together in 2026!
URL:https://myflr.org/event/holy-week-2026-palm-sunday-at-i-am-church-%c2%b7-monroe-campus-monroe/
LOCATION:I Am Church – Monroe Campus\, 790 Patterson Dr\, Monroe\, MI\, 48161\, United States
CATEGORIES:Michigan
ATTACH;FMTTYPE=image/png:https://eadn-wc05-15902914.nxedge.io/wp-content/uploads/2026/03/HW2026-Palm-Sunday-at-Monroe-SQ.png
ORGANIZER;CN="I Am Church":MAILTO:connorroy@iamchurch.net
END:VEVENT
BEGIN:VEVENT
DTSTART;TZID=America/Phoenix:20250921T110000
DTEND;TZID=America/Phoenix:20250921T140000
DTSTAMP:20260419T234404
CREATED:20250813T000122Z
LAST-MODIFIED:20250813T000122Z
UID:10050403-1758452400-1758463200@myflr.org
SUMMARY:GRAND OPENING CELEBRATION: I Am Church - Monroe
DESCRIPTION:Join us on Sunday\, September 21\, 2025 at 11 AM for the GRAND OPENING and RE-LAUNCH of I AM CHURCH – MONROE CAMPUS! We are launching Sunday morning services and we want to personally invite you and your family to join us as we celebrate what God is doing! Following the service\, we will have tons of activities for the whole family: FREE FOOD\, BOUNCE HOUSES\, OBSTACLE COURSE\, CRAFTS\, KONA ICE\, and more! \nWelcome to I Am Church Monroe\, our newest location! We are a vibrant and diverse non-denominational church that is rooted in the Bible and focused on worship\, kids discipleship\, empowering ministries\, community\, and a culture of love\, acceptance\, and forgiveness. \nAt I Am Church Monroe\, we believe that the Bible is the foundation of our faith and our guide for living. Our dedicated pastors and teachers provide dynamic and relevant teachings that inspire and challenge us to grow in our relationship with God. We are committed to helping individuals understand and apply the truths of Scripture to their daily lives\, leading to transformation and spiritual growth. \nOur culture at I Am Church Monroe is centered on love\, acceptance\, and forgiveness. We believe that God’s love is unconditional and that everyone is welcome\, regardless of their background\, beliefs\, or past mistakes. We strive to create a safe space where individuals can come as they are\, experience God’s grace and forgiveness\, and find healing and restoration. We also emphasize the importance of extending love and forgiveness to others\, following the example of Jesus. \nIf you are looking for a vibrant\, Bible-based church that is passionate about worship\, dedicated to kids discipleship and empowering ministries\, committed to community\, and rooted in love\, acceptance\, and forgiveness\, then I Am Church Monroe is the place for you. Join us as we journey together in faith\, grow in our relationship with God\, and impact our community with His love. We are excited to welcome you to our newest location in Monroe!
URL:https://myflr.org/event/grand-opening-celebration-i-am-church-monroe/
LOCATION:I Am Church – Monroe Campus\, 790 Patterson Dr\, Monroe\, MI\, 48161\, United States
CATEGORIES:Michigan
ATTACH;FMTTYPE=image/png:https://eadn-wc05-15902914.nxedge.io/wp-content/uploads/2025/08/September-21-2025-1080-x-1080-px.png
ORGANIZER;CN="I Am Church":MAILTO:connorroy@iamchurch.net
END:VEVENT
END:VCALENDAR