
BEGIN:VCALENDAR
VERSION:2.0
PRODID:-//Family Life Radio - ECPv6.15.20//NONSGML v1.0//EN
CALSCALE:GREGORIAN
METHOD:PUBLISH
X-WR-CALNAME:Family Life Radio
X-ORIGINAL-URL:https://myflr.org
X-WR-CALDESC:Events for Family Life Radio
REFRESH-INTERVAL;VALUE=DURATION:PT1H
X-Robots-Tag:noindex
X-PUBLISHED-TTL:PT1H
BEGIN:VTIMEZONE
TZID:America/Phoenix
BEGIN:STANDARD
TZOFFSETFROM:-0700
TZOFFSETTO:-0700
TZNAME:MST
DTSTART:20230101T000000
END:STANDARD
END:VTIMEZONE
BEGIN:VTIMEZONE
TZID:America/Chicago
BEGIN:DAYLIGHT
TZOFFSETFROM:-0600
TZOFFSETTO:-0500
TZNAME:CDT
DTSTART:20240310T080000
END:DAYLIGHT
BEGIN:STANDARD
TZOFFSETFROM:-0500
TZOFFSETTO:-0600
TZNAME:CST
DTSTART:20241103T070000
END:STANDARD
BEGIN:DAYLIGHT
TZOFFSETFROM:-0600
TZOFFSETTO:-0500
TZNAME:CDT
DTSTART:20250309T080000
END:DAYLIGHT
BEGIN:STANDARD
TZOFFSETFROM:-0500
TZOFFSETTO:-0600
TZNAME:CST
DTSTART:20251102T070000
END:STANDARD
BEGIN:DAYLIGHT
TZOFFSETFROM:-0600
TZOFFSETTO:-0500
TZNAME:CDT
DTSTART:20260308T080000
END:DAYLIGHT
BEGIN:STANDARD
TZOFFSETFROM:-0500
TZOFFSETTO:-0600
TZNAME:CST
DTSTART:20261101T070000
END:STANDARD
END:VTIMEZONE
BEGIN:VTIMEZONE
TZID:America/Detroit
BEGIN:DAYLIGHT
TZOFFSETFROM:-0500
TZOFFSETTO:-0400
TZNAME:EDT
DTSTART:20240310T070000
END:DAYLIGHT
BEGIN:STANDARD
TZOFFSETFROM:-0400
TZOFFSETTO:-0500
TZNAME:EST
DTSTART:20241103T060000
END:STANDARD
BEGIN:DAYLIGHT
TZOFFSETFROM:-0500
TZOFFSETTO:-0400
TZNAME:EDT
DTSTART:20250309T070000
END:DAYLIGHT
BEGIN:STANDARD
TZOFFSETFROM:-0400
TZOFFSETTO:-0500
TZNAME:EST
DTSTART:20251102T060000
END:STANDARD
BEGIN:DAYLIGHT
TZOFFSETFROM:-0500
TZOFFSETTO:-0400
TZNAME:EDT
DTSTART:20260308T070000
END:DAYLIGHT
BEGIN:STANDARD
TZOFFSETFROM:-0400
TZOFFSETTO:-0500
TZNAME:EST
DTSTART:20261101T060000
END:STANDARD
END:VTIMEZONE
BEGIN:VEVENT
DTSTART;TZID=America/Phoenix:20260228T190000
DTEND;TZID=America/Phoenix:20260228T210000
DTSTAMP:20260421T182548
CREATED:20251208T172612Z
LAST-MODIFIED:20260128T164243Z
UID:10057814-1772305200-1772312400@myflr.org
SUMMARY:A Night of Worship w/ Jon Reddick (Lubbock) 2026- FLASH SALE!
DESCRIPTION:FLASH SALE: \n$20 tickets (plus fees and taxes)\nuse code FLASH when you check out!\nGet your tickets today!\nIntentional Life Events presents… \nA Night of Worship w/ Jon Reddick\nSaturday February 28\, 2026\n7pm CT\nPrima Vista Events Center\n402 N FM 179\nLubbock\, TX 79416 \nJoin us for a powerful one-night Night of Worship with Jon Reddick as he leads us in favorites like “God\, Turn It Around\,” “I Believe It (The Life of Jesus)\,” “You Keep Hope Alive”\, and most recent #1 hit “No Fear”! With his soulful sound and heartfelt lyrics\, Jon creates moments that draw us into deep reflection and joyful praise. Bring your friends and family and come expectant for a night that will refresh your spirit and strengthen your hope. \n Get your Tickets HERE! \n\nVIP Doors: 5:15 PM \nVIP Starts: 5:30 PM \nEarly Entry Doors: 6:00 PM \nGeneral Admission Doors: 6:15 PM \nWorship: 7:00 PM \n  \nAll sales are final. No refunds or exchanges will be issued.
URL:https://myflr.org/event/announcing-a-night-of-worship-w-jon-reddick-lubbock-2026/
LOCATION:Prima Vista Events Center\, 402 N FM 179\, Lubbock\, TX\, 79416\, United States
CATEGORIES:Featured,Texas
ATTACH;FMTTYPE=image/png:https://eadn-wc05-15902914.nxedge.io/wp-content/uploads/2025/12/Jon-Reddick-Lubbock-Flash-Sale-1080x1080-1.png
END:VEVENT
BEGIN:VEVENT
DTSTART;TZID=America/Phoenix:20260226T190000
DTEND;TZID=America/Phoenix:20260226T220000
DTSTAMP:20260421T182548
CREATED:20251208T182329Z
LAST-MODIFIED:20260222T211427Z
UID:10057816-1772132400-1772143200@myflr.org
SUMMARY:A Night of Worship with Jon Reddick in Chandler(SOLD OUT!)
DESCRIPTION:Join us for a powerful one-night Night of Worship with Jon Reddick as he leads us in favorites like “God\, Turn It Around\,” “I Believe It (The Life of Jesus)\,” “You Keep Hope Alive”\, and most recent #1 hit “No Fear”! \nWith his soulful sound and heartfelt lyrics\, Jon creates moments that draw us into deep reflection and joyful praise. \nBring your friends and family and come expectant for a night that will refresh your spirit and strengthen your hope. \nPremier Event Sponsor: Arizona Christian School Tuition Organization (ACSTO) \nVIP Doors: 5:15 PM \nVIP Starts: 5:30 PM \nEarly Entry Doors: 6:00 PM \nGeneral Admission Doors: 6:15 PM \nWorship: 7:00 PM \nTHIS SHOW IS OFFICIALLY SOLD OUT!!!
URL:https://myflr.org/event/a-night-of-worship-w-jon-reddick/
LOCATION:Crossroads Nazarene Church\, 2950 W Ray Road\, Chandler\, AZ\, 85224\, United States
CATEGORIES:Arizona,Featured
ATTACH;FMTTYPE=image/png:https://eadn-wc05-15902914.nxedge.io/wp-content/uploads/2025/12/Sold-Out.png
END:VEVENT
BEGIN:VEVENT
DTSTART;TZID=America/Phoenix:20251114T190000
DTEND;TZID=America/Phoenix:20251114T220000
DTSTAMP:20260421T182548
CREATED:20250721T182603Z
LAST-MODIFIED:20250723T172743Z
UID:10049242-1763146800-1763157600@myflr.org
SUMMARY:Leanna Crawford live in concert for the 'Still Waters Tour' w/ special guest Cade Thompson
DESCRIPTION:Intentional Life Events and Compassion International present Leanna Crawford live in concert for the ‘Still Waters Tour’ with special guest Cade Thompson on November 14th at Trinity Life Church\, Tucson! \nFor the past two and half years\, the singer-songwriter from northwestern Washington\, Leanna Crawford\, has been writing\, touring and singing with some of the biggest names in the Christian music industry. She’s gained more experience than many artists do in a decade\, and while her music certainly displays the vocal and songwriting talent of a rising star in CCM\, her grounded and honest lyrics make her feel more friend than star and more approachable than untouchable. \n“I hope listeners feel that I care about them even if I don’t know them\,” says Crawford\, “that they would feel loved and encouraged.” With songs that speak honestly about doubt and insecurity as well as the hope Christ offers in our darkest moments\, Crawford’s listeners will find solace in her kind and wise words\, while tapping their feet along to contagious\, pop-inspired beats. \nAfter non-stop touring and racking up 25M streams for his sophomore album Empty Room\, Red Street Records artist Cade Thompson is poised to deliver his next phase of music to his growing fanbase. His CCM roots showcase his authentic voice and energetic spirit. After honing his craft sharing the stage with artists like Chris Tomlin\, TobyMac\, Newsboys\, and Michael W. Smith\, and leading worship weekly for young adults at his local church\, Thompson’s passion for sharing his faith remains at the forefront\, his songs an overflow of his genuine heart for the Lord. With 91M lifetime streams\, Thompson’s anticipated new music is set to release in 2025. \nCome see Leanna perform live at November 14th at Trinity Life Church\, Tucson with special guest Cade Thompson!!! \nhttps://www.universe.com/events/the-still-waters-tour-leanna-crawford-with-special-guest-cade-thompson-tickets-KMN0ZG?ref=Radio \nTickets on sale now!!!!
URL:https://myflr.org/event/leanna-crawford-live-in-concert-for-the-still-waters-tour-w-special-guest-cade-thompson/
LOCATION:Trinty Life Church\, 1930 S. Wilmot Road\, Tucson\, AZ\, 85711\, United States
CATEGORIES:Arizona,Featured
ATTACH;FMTTYPE=image/jpeg:https://eadn-wc05-15902914.nxedge.io/wp-content/uploads/2025/07/86C18158-0175-453A-A660-2939240129A3.jpg
END:VEVENT
BEGIN:VEVENT
DTSTART;TZID=America/Phoenix:20251113T190000
DTEND;TZID=America/Phoenix:20251113T220000
DTSTAMP:20260421T182548
CREATED:20250721T180227Z
LAST-MODIFIED:20250723T172931Z
UID:10049240-1763060400-1763071200@myflr.org
SUMMARY:Leanna Crawford "Still Waters Tour"   w/ Cade Thompson
DESCRIPTION:Intentional Life Events  and Compassion International present Leanna Crawford live in concert for the ‘Still Waters Tour’ with special guest Cade Thompson!!! November 13th at Haven Church in Glendale! \nFor the past two and half years\, the singer-songwriter from northwestern Washington\, Leanna Crawford\, has been writing\, touring and singing with some of the biggest names in the Christian music industry. She’s gained more experience than many artists do in a decade\, and while her music certainly displays the vocal and songwriting talent of a rising star in CCM\, her grounded and honest lyrics make her feel more friend than star and more approachable than untouchable. \n“I hope listeners feel that I care about them even if I don’t know them\,” says Crawford\, “that they would feel loved and encouraged.” With songs that speak honestly about doubt and insecurity as well as the hope Christ offers in our darkest moments\, Crawford’s listeners will find solace in her kind and wise words\, while tapping their feet along to contagious\, pop-inspired beats. \nAfter non-stop touring and racking up 25M streams for his sophomore album Empty Room\, Red Street Records artist Cade Thompson is poised to deliver his next phase of music to his growing fanbase. His CCM roots showcase his authentic voice and energetic spirit. After honing his craft sharing the stage with artists like Chris Tomlin\, TobyMac\, Newsboys\, and Michael W. Smith\, and leading worship weekly for young adults at his local church\, Thompson’s passion for sharing his faith remains at the forefront\, his songs an overflow of his genuine heart for the Lord. With 91M lifetime streams\, Thompson’s anticipated new music is set to release in 2025. \nCome see Leanna perform live at Haven Church in Glendale on November 13th with special guest Cade Thompson!!! \nTickets on sale now!!! \nhttps://www.universe.com/events/the-still-waters-tour-leanna-crawford-with-special-guest-cade-thompson-tickets-C0LBZS?ref=Radio
URL:https://myflr.org/event/leanna-crawford-still-waters-tour-w-cade-thompson/
LOCATION:HAVEN CHURCH\, 5902 W Cactus Rd\, Glendale\, AZ\, 85304\, United States
CATEGORIES:Arizona,Featured
ATTACH;FMTTYPE=image/jpeg:https://eadn-wc05-15902914.nxedge.io/wp-content/uploads/2025/07/BD3B0AC6-118A-4C71-A4DA-F6C7E506FB8A.jpg
END:VEVENT
BEGIN:VEVENT
DTSTART;TZID=America/Chicago:20251016T190000
DTEND;TZID=America/Chicago:20251016T220000
DTSTAMP:20260421T182548
CREATED:20250725T171913Z
LAST-MODIFIED:20250917T200516Z
UID:10049758-1760641200-1760652000@myflr.org
SUMMARY:TASHA LAYTON - "WORSHIP THROUGH IT" TOUR - SANTA ROSA BEACH
DESCRIPTION:The Worship Through It Tour with Tasha Layton is coming your way! Join us at Seagrove Baptist Church for a powerful night of worship and inspiration with Tasha Layton\, performing her chart-topping hits including “Look What You’ve Done\,” “Worship Through It\,” “Never” and her latest single “Thank You Isn’t Enough.”\n\nJoining Tasha are special guests Jonathan Traylor (“You Get The Glory” and “I Trust You”) and Cade Thompson (“Every Step of the Way”)\, rounding out a lineup that promises heartfelt ministry and unforgettable music.\n\nTickets on sale now @ https://tinyurl.com/27g6uqzw\n$20 FLASH SALE: USE CODE FLASH\n\n“Sponsored in part by Perry & Young\, the injury firm with locations in Panama City\, Panama City Beach\, Marianna and Tallahassee.”
URL:https://myflr.org/event/tasha-layton-worship-through-it-tour-santa-rosa-beach/
LOCATION:Seagrove Baptist Church (Santa Rosa Beach\, FL)\, 4915 East County Hwy. 30A\, Santa Rosa Beach\, FL\, 32459\, United States
CATEGORIES:Featured,Florida
ATTACH;FMTTYPE=image/png:https://eadn-wc05-15902914.nxedge.io/wp-content/uploads/2025/07/Tasha-20-Sale-SRB.png
END:VEVENT
BEGIN:VEVENT
DTSTART;TZID=America/Phoenix:20251004T180000
DTEND;TZID=America/Phoenix:20251004T203000
DTSTAMP:20260421T182548
CREATED:20250731T194910Z
LAST-MODIFIED:20250929T142131Z
UID:10049804-1759600800-1759609800@myflr.org
SUMMARY:Tucson Good Memories Tour with Cochren and Co.
DESCRIPTION:The Good Memories Tour with Cochren & Co. is coming your way! This will be an unforgettable night of worship featuring your favorite songs from Cochren & Co.\, including their latest hits “Running Home\,” and “Thank God For Sunday Morning\,” and “Money Can’t Buy” alongside favorites like “One Day\,”\,” and “Church”. Special guest Riley Clemmons (“For The Good\,” “Broken Prayers” ) will round out the evening of music. This will be a night you won’t want to miss! Brought to you by: Family Life Radio and Intentional Life Events. \nhttps://www.universe.com/events/good-memories-tour-cochren-and-co-w-riley-clemmons-tickets-ZGDLQ8?ref=Radio https://tinyurl.com/22t8k8zz \nVIP doors: 4:15 PM \nVIP Artist M&G: 4:30 PM \nEarly Entry Doors: 5:00 PM \nGeneral Admission Doors: 5:15 PM \nShow: 6:00 PM
URL:https://myflr.org/event/tucson-good-memories-tour-with-cochren-and-co/
LOCATION:Canyon Del Oro Bible Church (Tucson\, AZ)\, 9200 N Oracle Rd.\, Tucson\, 85704\, United States
CATEGORIES:Arizona,Featured
ATTACH;FMTTYPE=image/jpeg:https://eadn-wc05-15902914.nxedge.io/wp-content/uploads/2025/07/IMG_7688.jpeg
END:VEVENT
BEGIN:VEVENT
DTSTART;TZID=America/Phoenix:20251003T190000
DTEND;TZID=America/Phoenix:20251003T220000
DTSTAMP:20260421T182548
CREATED:20250731T194217Z
LAST-MODIFIED:20250929T142356Z
UID:10049803-1759518000-1759528800@myflr.org
SUMMARY:PHX Good Memories Tour with Cochren and Co.
DESCRIPTION:The Good Memories Tour with Cochren & Co. is coming your way! This will be an unforgettable night of worship featuring your favorite songs from Cochren & Co.\, including their latest hits “Running Home\,” and “Thank God For Sunday Morning\,” and “Money Can’t Buy” alongside favorites like “One Day\,”\,” and “Church”. Special guest Riley Clemmons (“For The Good\,” “Broken Prayers” ) will round out the evening of music. This will be a night you won’t want to miss! Brought to you by: Family Life Radio and Intentional Life Events. \nTickets on sale now at https://www.universe.com/events/good-memories-tour-cochren-and-co-w-riley-clemmons-tickets-9HQZC3?ref=Radiohttps://tinyurl.com/265wy7e6 \nVIP doors: 5:15 PM \nVIP Artist M&G: 5:30 PM \nEarly Entry Doors: 6:00 PM \nGeneral Admission Doors: 6:15 PM \nShow: 7:00 PM
URL:https://myflr.org/event/phx-good-memories-tour-with-cochren-and-co/
LOCATION:HAVEN CHURCH\, 5902 W Cactus Rd\, Glendale\, AZ\, 85304\, United States
CATEGORIES:Arizona,Featured
ATTACH;FMTTYPE=image/jpeg:https://eadn-wc05-15902914.nxedge.io/wp-content/uploads/2025/07/Cochren_1080x1080_2025OnSale_Glendale-1.jpeg
END:VEVENT
BEGIN:VEVENT
DTSTART;TZID=America/Detroit:20250926T190000
DTEND;TZID=America/Detroit:20250926T220000
DTSTAMP:20260421T182548
CREATED:20250725T172141Z
LAST-MODIFIED:20250917T180906Z
UID:10049759-1758913200-1758924000@myflr.org
SUMMARY:TASHA LAYTON - "WORSHIP THROUGH IT" TOUR - OOLTEWAH
DESCRIPTION:Just Announcded! The Worship Through It Tour with Tasha Layton is coming your way! Join us at Redemption Point Church for a powerful night of worship and inspiration with Tasha Layton\, performing her chart-topping hits including “Look What You’ve Done\,” “Worship Through It\,” “Never” and her latest single “Thank You Isn’t Enough.”\n\nJoining Tasha are special guests Jonathan Traylor (“You Get The Glory” and “I Trust You”) and Cade Thompson (“Every Step of the Way”)\, rounding out a lineup that promises heartfelt ministry and unforgettable music.\n\n\nTickets on sale now @ https://tinyurl.com/27zeajjg \n\n\n$20 flash sale\nCode: FLASH
URL:https://myflr.org/event/tasha-layton-worship-through-it-tour-ootlewah/
LOCATION:Redemption Point Church (Ooltewah\, TN)\, 3831 Ooltewah Ringgold Rd\, Ooltewah\, TN\, 37363\, United States
CATEGORIES:Featured,Tennesee
ATTACH;FMTTYPE=image/png:https://eadn-wc05-15902914.nxedge.io/wp-content/uploads/2025/07/Tasha-20-Sale-Ooltewah-TN.png
END:VEVENT
BEGIN:VEVENT
DTSTART;TZID=America/Detroit:20250925T190000
DTEND;TZID=America/Detroit:20250925T220000
DTSTAMP:20260421T182548
CREATED:20250725T172555Z
LAST-MODIFIED:20250917T180819Z
UID:10049760-1758826800-1758837600@myflr.org
SUMMARY:TASHA LAYTON - "WORSHIP THROUGH IT" TOUR - MACON
DESCRIPTION:Just Announcded! The Worship Through It Tour with Tasha Layton is coming your way! Join us at Stone Edge Church for a powerful night of worship and inspiration with Tasha Layton\, performing her chart-topping hits including “Look What You’ve Done\,” “Worship Through It\,” “Never” and her latest single “Thank You Isn’t Enough.”\n\nJoining Tasha are special guests Jonathan Traylor (“You Get The Glory” and “I Trust You”) and Cade Thompson (“Every Step of the Way”)\, rounding out a lineup that promises heartfelt ministry and unforgettable music.\n\nTickets on sale now @ https://tinyurl.com/26y3qwgj\n\n $20 flash sale\nCode: FLASH
URL:https://myflr.org/event/tasha-layton-worship-through-it-tour-macon/
LOCATION:Stone Edge Church (Macon\, GA)\, 5659 Zebulon Rd\, Macon\, GA\, 31210\, United States
CATEGORIES:Featured,Georgia
ATTACH;FMTTYPE=image/png:https://eadn-wc05-15902914.nxedge.io/wp-content/uploads/2025/07/Tasha-20-Sale-Macon-GA.png
END:VEVENT
BEGIN:VEVENT
DTSTART;TZID=America/Phoenix:20250606T190000
DTEND;TZID=America/Phoenix:20250606T213000
DTSTAMP:20260421T182548
CREATED:20250416T201738Z
LAST-MODIFIED:20250416T201738Z
UID:10040995-1749236400-1749245400@myflr.org
SUMMARY:Family Life Radio's “NIGHT OF HOPE” w/ Dr. Randy Carlson and special guest\, Jordan St. Cyr
DESCRIPTION:Save the date for FRIDAY\, JUNE 6\, 2025 @7PM @ HAVEN CHURCH – in GLENDALE\, AZ \n\n\nJoin Dr. Randy Carlson\, host of Intentional Living\, and special guest Jordan St. Cyr for an unforgettable evening that will inspire and refresh your spirit! Dr. Randy Carlson will be sharing practical steps and timeless wisdom to help you face life’s emotional challenges with confidence.Learn about conquering fear\, overcoming anxiety\, tackling worry\, and navigating loneliness to help you discover lasting peace – especially in a chaotic world. It’s a powerful message you won’t want to miss!Jordan St. Cyr\, known for his chart-topping radio hits like “Weary Traveler\,” “Fires\,” and “No Matter What\,” will lead us in a special time of worship and music that will uplift your heart and soul.Hosted by Mike Kankelfritz\, this special night promises to be a perfect blend of encouragement\, worship\, and inspiration.\n\n\nSponsored in part by: Compassion InternationalBrought to you by: Family Life Radio and Intentional Life Events
URL:https://myflr.org/event/family-life-radios-night-of-hope-w-dr-randy-carlson-and-special-guest-jordan-st-cyr/
LOCATION:HAVEN CHURCH\, 5902 W Cactus Rd\, Glendale\, AZ\, 85304\, United States
CATEGORIES:Arizona,Featured
ATTACH;FMTTYPE=image/jpeg:https://eadn-wc05-15902914.nxedge.io/wp-content/uploads/2025/04/Night-of-Hope-FLR-Feature-B.jpg
END:VEVENT
BEGIN:VEVENT
DTSTART;TZID=America/Detroit:20250502T190000
DTEND;TZID=America/Detroit:20250502T190000
DTSTAMP:20260421T182548
CREATED:20250304T200407Z
LAST-MODIFIED:20250331T171848Z
UID:10040261-1746212400-1746212400@myflr.org
SUMMARY:COCHREN AND CO – THE RUNNING HOME TOUR – MACOMB – SOLD OUT
DESCRIPTION:The Running Home Tour with Cochren and Co. is coming your way! This will be an unforgettable night of inspiration and joy featuring your favorite songs from Cochren and Co.\, including their latest hits “Running Home\,” “Thank God For Sunday Morning\,” and “Love Is A Fight” alongside favorites like “One Day\,” and “Church.” \nMegan Woods (“The Truth”) and breakout artist Mackenzie Phillips complete the line-up for what promises to be an evening of praise and celebration. \nBrought to you by: Family Life Radio and Intentional Life Events \nDETROIT\, MI\nFriday\, May 2\, 2025 at 7 p.m.\nImmanuel Lutheran Church – Macomb
URL:https://myflr.org/event/cochren-and-co-the-running-home-tour-macomb/
LOCATION:Immanuel Lutheran Church (Macomb\, MI)\, 47120 Romeo Plank\, Macomb\, MI\, 48044\, United States
CATEGORIES:Featured,Michigan
ATTACH;FMTTYPE=image/jpeg:https://eadn-wc05-15902914.nxedge.io/wp-content/uploads/2025/03/CochrenCo1080x1080-1.jpg
END:VEVENT
BEGIN:VEVENT
DTSTART;TZID=America/Phoenix:20250410T190000
DTEND;TZID=America/Phoenix:20250410T210000
DTSTAMP:20260421T182548
CREATED:20241220T161439Z
LAST-MODIFIED:20250404T232820Z
UID:10038378-1744311600-1744318800@myflr.org
SUMMARY:The Let It Begin Tour with Big Daddy Weave\, Ben Fuller\, & Megan Woods -LUBBOCK
DESCRIPTION:LOW TICKET ALERT!\nThe Let It Begin Tour with Big Daddy Weave\, Ben Fuller\, and Megan Woods is coming your way! This will be an unforgettable night of inspiration and joy featuring your favorite songs from Big Daddy Weave\, including their latest hits “Let It Begin\,” “Heaven Changes Everything\,” and “God Is In This Story\,” alongside favorites like “Redeemed\,” “My Story\,” and “The Only Name (Yours Will Be).” \nBen Fuller (“If I Got Jesus\,” “Who I Am”) and breakout artist Megan Woods (“The Truth”) complete the line-up for what promises to be an evening of praise and celebration. \nThursday\, April 10\, 2025 \nCalvary Lubbock-5301 82nd St\, Lubbock\, TX 79424\nVIP doors: 5:15pm \nVIP Artist Q&A Pre-Show: 5:30pm \nEarly Entry Doors: 6:00pm \nGeneral Admission Doors: 6:15pm \nShow: 7:00pm \nLOW TICKET ALERT!\nGet Tickets HERE! \nBrought to you by: Family Life Radio and Intentional Life Events  & Sponsored in part by Betenbough Homes.
URL:https://myflr.org/event/the-let-it-begin-tour-with-big-daddy-weave-ben-fuller-and-megan-woods-lubbock/
LOCATION:Calvary Lubbock\, 5301 82nd St\,\, Lubbock\, TX\, 79424\, United States
CATEGORIES:Featured,Texas
ATTACH;FMTTYPE=image/jpeg:https://eadn-wc05-15902914.nxedge.io/wp-content/uploads/2024/12/LetItBegin_General_SponsorGeneral_1080x870_30.jpg
END:VEVENT
BEGIN:VEVENT
DTSTART;TZID=America/Phoenix:20241011T190000
DTEND;TZID=America/Phoenix:20241011T213000
DTSTAMP:20260421T182548
CREATED:20240722T162305Z
LAST-MODIFIED:20240917T223050Z
UID:10031467-1728673200-1728682200@myflr.org
SUMMARY:UNSPOKEN:What He Says About You Tour w/ Cade Thompson and JJ Weeks-ABQ
DESCRIPTION:JUST ANNOUNCED! Unspoken -Friday\, October 11\, 2024\,  featuring with special guests Cade Thompson and JJ Weeks are heading out on What He Says About You Tour! These nights will be filled with incredible live music and worship! Sing along to your favorite hits like Reason\, Start a Fire\, and You’ve Always Been. \nThe pre-sale kicks off Wednesday\, July 24th at 10AM local time! \nUse the code: FLR to your tickets early to see  Unspoken in ABQ ! \nTICKETS \nPublic onsale beging July 26th at 10:00AM Friday\, October 11\, 2024 \n7:00PM-9:30PM \nHosted by Grace Church ABQ & Molly Brown Studios-6901 San Antonio Dr NE ABQ\, NM 87109 \nVIP doors: 5:15pm \nVIP Meet & Greet: 5:30pm \nEarly Entry Doors: 6:00p\, \nGeneral Admission Doors: 6:15pm \nShow: 7:00pm \n 
URL:https://myflr.org/event/what-he-says-about-you-tour-unspoken-w-cade-thompson-and-jj-weeks-abq/
LOCATION:Grace Church ABQ\, 6901 San Antonio Dr NE
CATEGORIES:Featured,New Mexico
ATTACH;FMTTYPE=image/jpeg:https://eadn-wc05-15902914.nxedge.io/wp-content/uploads/2024/07/ABQ_1080x1080.jpg
END:VEVENT
BEGIN:VEVENT
DTSTART;TZID=America/Phoenix:20241003T190000
DTEND;TZID=America/Phoenix:20241003T213000
DTSTAMP:20260421T182548
CREATED:20240722T160535Z
LAST-MODIFIED:20240807T204519Z
UID:10031465-1727982000-1727991000@myflr.org
SUMMARY:UNSPOKEN:What He Says About You Tour w/ Cade Thompson and JJ Weeks-KC
DESCRIPTION:JUST ANNOUNCED! Unspoken -Thursday\, October 3\, 2024\,  featuring with special guests Cade Thompson and JJ Weeks are heading out on What He Says About You Tour! These nights will be filled with incredible live music and worship! Sing along to your favorite hits like Reason\, Start a Fire\, and You’ve Always Been. \nThe pre-sale kicks off Wednesday\, July 24th at 10AM local time! Can’t wait to see you there! \nUse the code: FLR to your tickets early to see  Unspoken in KC ! \nPublic onsale beging July 26th at 10:00AM \nTICKETS \nVIP Doors: 5:15p \nVIP Meet & Greet: 5:30pm \nEarly Entry Doors: 6:00pm \nGeneral Admission Doors : 6:15pm \nShow: 7:00pm \n  \nOctober 3\, 2024 \n7:00pm-9:30pm \nOpen Door KC \n3033 N 103 Terrace \nKansas Cty\, KS 66109 \n 
URL:https://myflr.org/event/what-he-says-about-you-tour-unspoken-w-cade-thompson-and-jj-weeks-kc/
LOCATION:Open Door KC\, 3033 N 103rd Terrace\, Kansas City\, KS\, 66109\, United States
CATEGORIES:Featured,Kansas,Missouri
ATTACH;FMTTYPE=image/jpeg:https://eadn-wc05-15902914.nxedge.io/wp-content/uploads/2024/07/KS_EventDesctiption_1000x500.jpg
END:VEVENT
END:VCALENDAR