
BEGIN:VCALENDAR
VERSION:2.0
PRODID:-//Family Life Radio - ECPv6.15.20//NONSGML v1.0//EN
CALSCALE:GREGORIAN
METHOD:PUBLISH
X-ORIGINAL-URL:https://myflr.org
X-WR-CALDESC:Events for Family Life Radio
REFRESH-INTERVAL;VALUE=DURATION:PT1H
X-Robots-Tag:noindex
X-PUBLISHED-TTL:PT1H
BEGIN:VTIMEZONE
TZID:America/Phoenix
BEGIN:STANDARD
TZOFFSETFROM:-0700
TZOFFSETTO:-0700
TZNAME:MST
DTSTART:20240101T000000
END:STANDARD
END:VTIMEZONE
BEGIN:VEVENT
DTSTART;TZID=America/Phoenix:20251116T190000
DTEND;TZID=America/Phoenix:20251116T210000
DTSTAMP:20260421T104920
CREATED:20250721T165315Z
LAST-MODIFIED:20250828T194620Z
UID:10049238-1763319600-1763326800@myflr.org
SUMMARY:LEANNA CRAWFORD – STILL WATERS TOUR -Lubbock
DESCRIPTION:ON SALE NOW! \nCompassion International presents… \nThe Still Waters Tour Featuring Leanna Crawford with special guest Cade Thompson \nFriday\, November 16 | 7:00 PMCalvary Lubbock \nCompassion International Presents\, The Still Waters Tour: Leanna Crawford with Special Guest Cade Thompson. Join us at Calvary Lubbock for an unforgettable evening of music and ministry. Be inspired and uplifted by Leanna Crawford\, one of Christian music’s most heartfelt voices\, whose latest single “Honest” is already resonating with listeners nationwide. With her mega hit “Still Waters (Psalm 23)” reaching #1 and past radio favorites like “Truth I’m Standing On” and “How Can You Not”\, It will be a night filled with songs infused with Crawford’s personal reflections and experiences — songs that speak honestly about doubt and insecurity as well as the hope Christ offers in our darkest moments.  Joining Leanna is special guest Cade Thompson\, bringing his uplifting energy and contemporary sound to round out a powerful night of worship and encouragement. Brought to you by: Family Life Radio and Intentional Life Events. \nGet ready for an incredible night of worship\, inspiration\, and community! \nTickets  ON SALE NOW HERE! \nBrought to you by: Family Life Radio and Intentional Life Events 
URL:https://myflr.org/event/leanna-crawford-still-waters-tour-lubbock/
LOCATION:Calvary Lubbock\, 5301 82nd St\,\, Lubbock\, TX\, 79424\, United States
CATEGORIES:Featured,Texas
ATTACH;FMTTYPE=image/jpeg:https://eadn-wc05-15902914.nxedge.io/wp-content/uploads/2025/07/Leanna-Lubbock-OSN-Text-1000-x-500.jpg
END:VEVENT
END:VCALENDAR