
BEGIN:VCALENDAR
VERSION:2.0
PRODID:-//Family Life Radio - ECPv6.15.20//NONSGML v1.0//EN
CALSCALE:GREGORIAN
METHOD:PUBLISH
X-ORIGINAL-URL:https://myflr.org
X-WR-CALDESC:Events for Family Life Radio
REFRESH-INTERVAL;VALUE=DURATION:PT1H
X-Robots-Tag:noindex
X-PUBLISHED-TTL:PT1H
BEGIN:VTIMEZONE
TZID:America/Phoenix
BEGIN:STANDARD
TZOFFSETFROM:-0700
TZOFFSETTO:-0700
TZNAME:MST
DTSTART:20250101T000000
END:STANDARD
END:VTIMEZONE
BEGIN:VEVENT
DTSTART;TZID=America/Phoenix:20260127T080000
DTEND;TZID=America/Phoenix:20260127T170000
DTSTAMP:20260420T205019
CREATED:20260128T163421Z
LAST-MODIFIED:20260128T163421Z
UID:10058183-1769500800-1769533200@myflr.org
SUMMARY:IYKYK Christian Speed Dating Event Phoenix
DESCRIPTION:Join us for a fun night at the Dave & Busters in Phoenix at Desert Ridge! We are all tired of dating apps and looking to meet people in person! This is a fun and low stakes event that brings together an even ratio of of single men and women ages 25-39 who love Jesus and want to get married but are having a hard time meeting other single believers in their own churches. These have been a blessing to many singles who feel discouraged and isolated. Come join us!
URL:https://myflr.org/event/iykyk-christian-speed-dating-event-phoenix/
LOCATION:Dave & Busters Desert Ridge Marketplace\, 21001 N Tatum Blvd Suite 44-1400\, Phoenix\, AZ\, 85050\, United States
CATEGORIES:Arizona
ATTACH;FMTTYPE=image/png:https://eadn-wc05-15902914.nxedge.io/wp-content/uploads/2026/01/phoenix-speed-dating-2-10-2026-ticketspice-header.png
ORGANIZER;CN="IYKYK":MAILTO:iykykdating@gmail.com
END:VEVENT
END:VCALENDAR