
BEGIN:VCALENDAR
VERSION:2.0
PRODID:-//Family Life Radio - ECPv6.15.20//NONSGML v1.0//EN
CALSCALE:GREGORIAN
METHOD:PUBLISH
X-WR-CALNAME:Family Life Radio
X-ORIGINAL-URL:https://myflr.org
X-WR-CALDESC:Events for Family Life Radio
REFRESH-INTERVAL;VALUE=DURATION:PT1H
X-Robots-Tag:noindex
X-PUBLISHED-TTL:PT1H
BEGIN:VTIMEZONE
TZID:America/Phoenix
BEGIN:STANDARD
TZOFFSETFROM:-0700
TZOFFSETTO:-0700
TZNAME:MST
DTSTART:20240101T000000
END:STANDARD
END:VTIMEZONE
BEGIN:VEVENT
DTSTART;TZID=America/Phoenix:20250613T080000
DTEND;TZID=America/Phoenix:20250614T153000
DTSTAMP:20260421T184616
CREATED:20250424T201535Z
LAST-MODIFIED:20250424T201535Z
UID:10041012-1749801600-1749915000@myflr.org
SUMMARY:Mens Life Relaunch Experience
DESCRIPTION:Be watchful\, stand firm in the faith\, act like men\, be strong.\n1 Corinthians 16:13\nTwo Days. One Life-Changing Experience. \nCome and experience a Life Relaunch event that will change your life\, get you back on track\, and set you in the\nright direction.\nDiscover how the experiences and relationships in your life prevent you from moving forward with your gifts.\nStep into a new level of freedom and intimacy with our Heavenly Father\, Jesus\, and the Holy Spirit.\nGet involved in meaningful work with Jesus that will transform your life.\nLaunch a powerful kingdom opportunity where you will see lives transformed right before your eyes.
URL:https://myflr.org/event/mens-life-relaunch-experience/
LOCATION:Cornerstone Evangelical Church (Brighton\, MI)\, 9455 Hilton Road\, Brighton\, MI\, 48114\, United States
CATEGORIES:Michigan
ATTACH;FMTTYPE=image/jpeg:https://eadn-wc05-15902914.nxedge.io/wp-content/uploads/2025/04/10929580_1200x900_500.jpg
ORGANIZER;CN="Jim Proos":MAILTO:jim@llferelaunch.org
END:VEVENT
END:VCALENDAR