
BEGIN:VCALENDAR
VERSION:2.0
PRODID:-//Family Life Radio - ECPv6.15.19//NONSGML v1.0//EN
CALSCALE:GREGORIAN
METHOD:PUBLISH
X-ORIGINAL-URL:https://myflr.org
X-WR-CALDESC:Events for Family Life Radio
REFRESH-INTERVAL;VALUE=DURATION:PT1H
X-Robots-Tag:noindex
X-PUBLISHED-TTL:PT1H
BEGIN:VTIMEZONE
TZID:America/Phoenix
BEGIN:STANDARD
TZOFFSETFROM:-0700
TZOFFSETTO:-0700
TZNAME:MST
DTSTART:20240101T000000
END:STANDARD
END:VTIMEZONE
BEGIN:VEVENT
DTSTART;TZID=America/Phoenix:20250523T183000
DTEND;TZID=America/Phoenix:20250523T203000
DTSTAMP:20260419T115151
CREATED:20250312T151917Z
LAST-MODIFIED:20250312T151917Z
UID:10040110-1748025000-1748032200@myflr.org
SUMMARY:Holy & Hilarious Comedy Fundraising Event
DESCRIPTION:Join us at Kalamazoo Covenant Church for a Holy & Hilarious Comedy Fundraising Event on Friday\, May 23rd at 6:30pm with Christian Comedian\, Janice Henriquez! \nA night filled with music\, comedy\, ministry & more! \nThis event is open to all people and great for all ages – you do not have to attend the church to come! \nThe show will last about an hour with fellowship afterward. Cost is free and a love offering will be taken up to benefit the 2025 Kalamazoo Prayer March.
URL:https://myflr.org/event/holy-hilarious-comedy-fundraising-event/
LOCATION:Kalamazoo Covenant Church (Kalamazoo\, MI)\, 5708 E MAIN ST\, KALAMAZOO\, MI\, 49048\, United States
CATEGORIES:Michigan
ATTACH;FMTTYPE=image/jpeg:https://eadn-wc05-15902914.nxedge.io/wp-content/uploads/2025/02/KZOO-.jpeg
ORGANIZER;CN="Journey with Janice":MAILTO:thejourneywithjanice@gmail.com
END:VEVENT
END:VCALENDAR