
BEGIN:VCALENDAR
VERSION:2.0
PRODID:-//Family Life Radio - ECPv6.15.20//NONSGML v1.0//EN
CALSCALE:GREGORIAN
METHOD:PUBLISH
X-WR-CALNAME:Family Life Radio
X-ORIGINAL-URL:https://myflr.org
X-WR-CALDESC:Events for Family Life Radio
REFRESH-INTERVAL;VALUE=DURATION:PT1H
X-Robots-Tag:noindex
X-PUBLISHED-TTL:PT1H
BEGIN:VTIMEZONE
TZID:America/Phoenix
BEGIN:STANDARD
TZOFFSETFROM:-0700
TZOFFSETTO:-0700
TZNAME:MST
DTSTART:20230101T000000
END:STANDARD
END:VTIMEZONE
BEGIN:VEVENT
DTSTART;TZID=America/Phoenix:20240818T120000
DTEND;TZID=America/Phoenix:20240818T160000
DTSTAMP:20260421T171501
CREATED:20240715T184741Z
LAST-MODIFIED:20240715T184741Z
UID:10031180-1723982400-1723996800@myflr.org
SUMMARY:Mayor’s Sunday Funday-Rio Rancho 2024
DESCRIPTION:This year’s Mayor’s Sunday is Funday will be the 19th annual event that brings our community together for an afternoon of fun and sharing what’s going on in Rio Rancho. In 2023\, well over 6000 of our neighbors came together to enjoy one of the coolest and most exciting events of the summer. Our theme this year is Community Unity. \nSunday\, August 18\, 2024 \n12PM-4PM \nHaynes  Park \nRio Rancho\, NM \nThe following information will be updated  for 2024 as organizations register: Booth Vendors and Map for the 2023 Map of the event\, Map for Parking in 2023 and List of participants which will be updated soon\,  and Entertainment for the schedule for 2023. Go to: https://rioranchofunday.com/ \nYou’ll find many exciting events and musical entertainment\, along with budget friendly food\, at this fun family style picnic. We are planning on fun yet safe events and activities. We had over 140 interesting vendor booths in 2023 that were a big part of the fun. \nIf you have questions about the event contact the Rio Rancho Kiwanis Club\, Dave Heil (daveheil16@man.com) or (505) 228-7189 \nTheMayor’s Sunday is Funday is sponsored and coordinated by the Rio Rancho Kiwanis Club and Community Service Partners. After paying event expenses\, proceeds will benefit youth programs in Rio Rancho.
URL:https://myflr.org/event/mayors-sunday-funday-rio-rancho-2024/
LOCATION:Haynes Park\, 2006 Grande Blvd SE\, Rio Rancho\, 87124\, United States
CATEGORIES:New Mexico
ATTACH;FMTTYPE=image/jpeg:https://eadn-wc05-15902914.nxedge.io/wp-content/uploads/2024/07/450646835_10161350820473718_8879867982867279794_n.jpg
ORGANIZER;CN="Kiwanis Club%2C":MAILTO:(505) 228-7189
END:VEVENT
END:VCALENDAR