
BEGIN:VCALENDAR
VERSION:2.0
PRODID:-//Family Life Radio - ECPv6.15.20//NONSGML v1.0//EN
CALSCALE:GREGORIAN
METHOD:PUBLISH
X-ORIGINAL-URL:https://myflr.org
X-WR-CALDESC:Events for Family Life Radio
REFRESH-INTERVAL;VALUE=DURATION:PT1H
X-Robots-Tag:noindex
X-PUBLISHED-TTL:PT1H
BEGIN:VTIMEZONE
TZID:America/Phoenix
BEGIN:STANDARD
TZOFFSETFROM:-0700
TZOFFSETTO:-0700
TZNAME:MST
DTSTART:20230101T000000
END:STANDARD
END:VTIMEZONE
BEGIN:VEVENT
DTSTART;TZID=America/Phoenix:20240519T170000
DTEND;TZID=America/Phoenix:20240519T183000
DTSTAMP:20260421T141831
CREATED:20240321T212135Z
LAST-MODIFIED:20240321T212135Z
UID:10022816-1716138000-1716143400@myflr.org
SUMMARY:Entre Mundos – Between Worlds
DESCRIPTION:Entre Mundos – Between Worlds\, is a show that explores the unexpected connection between two seemingly distinct musical realms: Spanish classical music and flamenco dance. \nPiano: Dr. Marina Bengoa – Roldán\nDance: Ania “La Candela” \nThis show will unravel the hidden threads that bind Spanish classical music and flamenco dance\, revealing how they have inspired one another throughout history. It’s an educational journey that will enrich the audience’s appreciation of these rich and respected musical traditions. \nThe show features Dr. Marina Bengoa\, a gifted pianist whose virtuosity on the piano will breathe life into beloved Spanish classical pieces that resonate with audiences around the world\, proving that classical music can be exhilarating and enjoyable for all.
URL:https://myflr.org/event/entre-mundos-between-worlds/
LOCATION:Emory Performing Arts Studio (Atlanta\, GA)\, 1804 North Decatur Road\, Atlanta\, GA\, 30322\, United States
CATEGORIES:Georgia
ATTACH;FMTTYPE=image/jpeg:https://eadn-wc05-15902914.nxedge.io/wp-content/uploads/2024/03/Higher-res-1200-x-1200-px-1.jpg
ORGANIZER;CN="La Candela Flamenco":MAILTO:events@lacande.la
END:VEVENT
END:VCALENDAR