
BEGIN:VCALENDAR
VERSION:2.0
PRODID:-//Family Life Radio - ECPv6.15.20//NONSGML v1.0//EN
CALSCALE:GREGORIAN
METHOD:PUBLISH
X-WR-CALNAME:Family Life Radio
X-ORIGINAL-URL:https://myflr.org
X-WR-CALDESC:Events for Family Life Radio
REFRESH-INTERVAL;VALUE=DURATION:PT1H
X-Robots-Tag:noindex
X-PUBLISHED-TTL:PT1H
BEGIN:VTIMEZONE
TZID:America/Phoenix
BEGIN:STANDARD
TZOFFSETFROM:-0700
TZOFFSETTO:-0700
TZNAME:MST
DTSTART:20230101T000000
END:STANDARD
END:VTIMEZONE
BEGIN:VEVENT
DTSTART;TZID=America/Phoenix:20250806T180000
DTEND;TZID=America/Phoenix:20250806T203000
DTSTAMP:20260421T154507
CREATED:20250522T173234Z
LAST-MODIFIED:20250522T173234Z
UID:10043810-1754503200-1754512200@myflr.org
SUMMARY:Moose Mania
DESCRIPTION:Everything moose and Jesus! For kids 5 – 12 years old.
URL:https://myflr.org/event/moose-mania/
LOCATION:Lake City Christian Reformed Church (Lake City\, MI)\, 1657 S. Morey Rd.\, Lake City\, 49651\, United States
CATEGORIES:Michigan
ATTACH;FMTTYPE=image/jpeg:https://eadn-wc05-15902914.nxedge.io/wp-content/uploads/2025/05/Moose-Mania.jpg
ORGANIZER;CN="Lake City CRC%2C 1657 S. Morey Rd.%2C Lake City%2C MI":MAILTO:office@lakecitycrc.org
END:VEVENT
BEGIN:VEVENT
DTSTART;TZID=America/Phoenix:20240625T090000
DTEND;TZID=America/Phoenix:20240625T120000
DTSTAMP:20260421T154507
CREATED:20240611T154828Z
LAST-MODIFIED:20240826T130529Z
UID:10027178-1719306000-1719316800@myflr.org
SUMMARY:SCUBA VBS
DESCRIPTION:Our SCUBA VBS is an underwater themed event which runs from 9:00-noon for 4 days\, June 24-27. Kids aged 5 through 6th grade will be immersed in oceans of fun with ocean themed snacks\, games\, music\, experiments\, and all things underwater as we learn to dive into friendship with God. Totally free. Need to pre-register at https://lakecitycrc.breezechms.com/form/766e293649\nor www.lakecitycrc.org
URL:https://myflr.org/event/scuba-vbs-3/
ATTACH;FMTTYPE=image/jpeg:https://eadn-wc05-15902914.nxedge.io/wp-content/uploads/2024/06/SCUBA-VBS.jpg
ORGANIZER;CN="Lake City CRC%2C 1657 S. Morey Rd.%2C Lake City%2C MI":MAILTO:office@lakecitycrc.org
END:VEVENT
END:VCALENDAR