
BEGIN:VCALENDAR
VERSION:2.0
PRODID:-//Family Life Radio - ECPv6.15.20//NONSGML v1.0//EN
CALSCALE:GREGORIAN
METHOD:PUBLISH
X-ORIGINAL-URL:https://myflr.org
X-WR-CALDESC:Events for Family Life Radio
REFRESH-INTERVAL;VALUE=DURATION:PT1H
X-Robots-Tag:noindex
X-PUBLISHED-TTL:PT1H
BEGIN:VTIMEZONE
TZID:America/Phoenix
BEGIN:STANDARD
TZOFFSETFROM:-0700
TZOFFSETTO:-0700
TZNAME:MST
DTSTART:20240101T000000
END:STANDARD
END:VTIMEZONE
BEGIN:VEVENT
DTSTART;TZID=America/Phoenix:20250228T170000
DTEND;TZID=America/Phoenix:20250228T230000
DTSTAMP:20260421T165634
CREATED:20250128T195117Z
LAST-MODIFIED:20250128T195117Z
UID:10038889-1740762000-1740783600@myflr.org
SUMMARY:Gather25 (Lancaster\, WI)
DESCRIPTION:Gather25 is a global worship event\, a gathering of believers all across the world to come together with one purpose: to unite in prayer\, worship and to hear stories about what Jesus is working on across the world. This event will be livestreamed globally\, with local gatherings of believers on every continent. Lancaster Congregational Church is hosting a live in person local gathering during the North America portion of the event on February 28\, 2025. It is our hope that this will be a gathering of believers from all of Southwest Wisconsin\, and we would love for you to join us. Come for all or part of the event!
URL:https://myflr.org/event/gather25-lancaster-wi/
LOCATION:100 w cherry street\, lancaster WI 53813\, 100 W Cherry St\, Lancaster\, WI\, 53813\, United States
CATEGORIES:Iowa,Wisconsin
ORGANIZER;CN="Lancaster Congregational Church":MAILTO:lcongreg@tds.net
END:VEVENT
END:VCALENDAR