
BEGIN:VCALENDAR
VERSION:2.0
PRODID:-//Family Life Radio - ECPv6.15.20//NONSGML v1.0//EN
CALSCALE:GREGORIAN
METHOD:PUBLISH
X-ORIGINAL-URL:https://myflr.org
X-WR-CALDESC:Events for Family Life Radio
REFRESH-INTERVAL;VALUE=DURATION:PT1H
X-Robots-Tag:noindex
X-PUBLISHED-TTL:PT1H
BEGIN:VTIMEZONE
TZID:America/Phoenix
BEGIN:STANDARD
TZOFFSETFROM:-0700
TZOFFSETTO:-0700
TZNAME:MST
DTSTART:20230101T000000
END:STANDARD
END:VTIMEZONE
BEGIN:VEVENT
DTSTART;VALUE=DATE:20240808
DTEND;VALUE=DATE:20260809
DTSTAMP:20260421T024447
CREATED:20240802T213208Z
LAST-MODIFIED:20241003T213557Z
UID:10031791-1723075200-1786233599@myflr.org
SUMMARY:Change a Life\, Change Your Own – Foster and Adoptive Care Information Session
DESCRIPTION:Every child deserves a safe and loving home. Interested in fostering or adopting? Our Information session will answer your questions and guide you through the process. \nJoin us on the 2nd Thursday of this month to learn how you can change your life and be the positive impact our struggling families need. We will be meeting at our office located at La Paloma Family Services\, 870 W. Miracle Mile\, Tucson from 6 pm-8 pm. Or you can call our office Tuesday through Saturday between 8:30 am and 5 pm to get information. \nIf not you\, Who? If not now\, When?
URL:https://myflr.org/event/change-a-life-change-your-own-foster-and-adoptive-care-information-session/
LOCATION:La Paloma Family Services\, 870 W. Miracle Mile\, Tucson\, AZ\, 85705\, United States
CATEGORIES:Arizona
ATTACH;FMTTYPE=image/png:https://eadn-wc05-15902914.nxedge.io/wp-content/uploads/2024/07/Colorful-Rainbow-Colors-LGBT-Free-Love-Pride-Circle-Sticker-5-Copy-2.png
ORGANIZER;CN="Lesleigh Muldrow":MAILTO:lesleigh.muldrow@lafrontera.org
END:VEVENT
END:VCALENDAR