
BEGIN:VCALENDAR
VERSION:2.0
PRODID:-//Family Life Radio - ECPv6.15.20//NONSGML v1.0//EN
CALSCALE:GREGORIAN
METHOD:PUBLISH
X-WR-CALNAME:Family Life Radio
X-ORIGINAL-URL:https://myflr.org
X-WR-CALDESC:Events for Family Life Radio
REFRESH-INTERVAL;VALUE=DURATION:PT1H
X-Robots-Tag:noindex
X-PUBLISHED-TTL:PT1H
BEGIN:VTIMEZONE
TZID:America/Phoenix
BEGIN:STANDARD
TZOFFSETFROM:-0700
TZOFFSETTO:-0700
TZNAME:MST
DTSTART:20240101T000000
END:STANDARD
END:VTIMEZONE
BEGIN:VEVENT
DTSTART;TZID=America/Phoenix:20250822T180000
DTEND;TZID=America/Phoenix:20250822T213000
DTSTAMP:20260421T185933
CREATED:20250820T172410Z
LAST-MODIFIED:20250820T172527Z
UID:10050790-1755885600-1755898200@myflr.org
SUMMARY:Laugh4Hope
DESCRIPTION:Laugh4Hope is a family-friendly comedy night fundraiser that both brings the community together and uplifts families while supporting Life Choices Women’s Clinic and Hope Mobile Clinic. Laugh4Hope’s Mission is to create an opportunity to bring hope to the community through laughter. Featuring Brian Kohatsu\, Eric O’Shea and Carlos Oscar will provide the comedy that supports the pro-life work Life Choices Women’s Clinics.
URL:https://myflr.org/event/laugh4hope/
LOCATION:Xavier College Prep\, 7th Street and Highland\, Phoenix\, AZ\, 85012\, United States
CATEGORIES:Arizona
ATTACH;FMTTYPE=image/png:https://eadn-wc05-15902914.nxedge.io/wp-content/uploads/2025/08/7.5x3.25.png
ORGANIZER;CN="Life Choices Women's Clinic":MAILTO:lcwcArizona@gmail.com
END:VEVENT
END:VCALENDAR