
BEGIN:VCALENDAR
VERSION:2.0
PRODID:-//Family Life Radio - ECPv6.15.20//NONSGML v1.0//EN
CALSCALE:GREGORIAN
METHOD:PUBLISH
X-ORIGINAL-URL:https://myflr.org
X-WR-CALDESC:Events for Family Life Radio
REFRESH-INTERVAL;VALUE=DURATION:PT1H
X-Robots-Tag:noindex
X-PUBLISHED-TTL:PT1H
BEGIN:VTIMEZONE
TZID:America/Phoenix
BEGIN:STANDARD
TZOFFSETFROM:-0700
TZOFFSETTO:-0700
TZNAME:MST
DTSTART:20220101T000000
END:STANDARD
END:VTIMEZONE
BEGIN:VEVENT
DTSTART;TZID=America/Phoenix:20231107T080000
DTEND;TZID=America/Phoenix:20231107T170000
DTSTAMP:20260421T075550
CREATED:20231013T141207Z
LAST-MODIFIED:20231013T141207Z
UID:10016761-1699344000-1699376400@myflr.org
SUMMARY:NEEDTOBREATHE – THE CAVES WORLD TOUR – GRAND RAPIDS
DESCRIPTION:NEEDTOBREATHE: THE CAVES WORLD TOUR\nTue • Nov 07 • 7:00 PM\nVan Andel Arena\, Grand Rapids\, MI \nTicket info at: https://www.ticketmaster.com/event/08005EB7A7F019A3
URL:https://myflr.org/event/needtobreathe-the-caves-world-tour-grand-rapids/
LOCATION:Van Andel Arena (Grand Rapids\, MI)\, 130 West Fulton\, Grand Rapids\, MI\, 49503\, United States
CATEGORIES:Featured,Michigan
ATTACH;FMTTYPE=image/jpeg:https://eadn-wc05-15902914.nxedge.io/wp-content/uploads/2023/10/needtobreathe-caves-world-tour-1x1-GR.jpg
END:VEVENT
BEGIN:VEVENT
DTSTART;TZID=America/Phoenix:20231024T190000
DTEND;TZID=America/Phoenix:20231024T220000
DTSTAMP:20260421T075550
CREATED:20230608T005611Z
LAST-MODIFIED:20230921T154121Z
UID:10010609-1698174000-1698184800@myflr.org
SUMMARY:NEEDTOBREATHE the Caves World Tour
DESCRIPTION:Need to Breathe are coming to Arizona Federal Theater in Phoenix\, October 24th  for the CAVES World Tour!  \nGRAMMY nominated multi-platinum band NEED TO BREATHE are a dynamic force in rock\, who have generated over one billion streams\, topped several Billboard Radio\, Album and Sales Charts and have sold-out arenas and amphitheaters all over the world. They’ve garnered two Billboard Music Award Nominations\, and appeared on nearly every network television show including The Today Show\, Good Morning America\, Ellen\, The Late Late Show with James Corden and CBS’ Sunday Morning. Even as the pandemic raged NEEDTOBREATHE continued to expand its fanbase\, as evidenced by their 2020 album release\, Out of Body. It received worldwide critical praise and debuted in the Top 5 of three Billboard Charts. Their surprise eighth studio album Into The Mystery was their 5th No. 1 album. An accompanying feature length documentary was released the following November in theatres across the US. \nSo\, Who’s ready for The CAVES World Tour! They’re hitting the road with Judah & the Lion this fall for an absolutely epic night\, delivering all your favorites old and new! For the first time since 2019\, they’re also bringing back the full VIP meet and greet experience! You’ll have the chance to hang backstage with both bands\, plus a lot more. \nGet your tickets now at : https://www.ticketmaster.com/event/19005EBFAABF27DB  \n 
URL:http://myflr.org/event/need-to-breathe-…caves-world-tour/
LOCATION:Arizona Federal Theatre\, 400 W Washington St\, Phoenix\, AZ\, 85003\, United States
CATEGORIES:Arizona,Featured
ATTACH;FMTTYPE=image/jpeg:https://eadn-wc05-15902914.nxedge.io/wp-content/uploads/2023/06/Need-to-Breathe-2023.jpg
END:VEVENT
END:VCALENDAR