
BEGIN:VCALENDAR
VERSION:2.0
PRODID:-//Family Life Radio - ECPv6.15.20//NONSGML v1.0//EN
CALSCALE:GREGORIAN
METHOD:PUBLISH
X-ORIGINAL-URL:https://myflr.org
X-WR-CALDESC:Events for Family Life Radio
REFRESH-INTERVAL;VALUE=DURATION:PT1H
X-Robots-Tag:noindex
X-PUBLISHED-TTL:PT1H
BEGIN:VTIMEZONE
TZID:America/Detroit
BEGIN:DAYLIGHT
TZOFFSETFROM:-0500
TZOFFSETTO:-0400
TZNAME:EDT
DTSTART:20250309T070000
END:DAYLIGHT
BEGIN:STANDARD
TZOFFSETFROM:-0400
TZOFFSETTO:-0500
TZNAME:EST
DTSTART:20251102T060000
END:STANDARD
BEGIN:DAYLIGHT
TZOFFSETFROM:-0500
TZOFFSETTO:-0400
TZNAME:EDT
DTSTART:20260308T070000
END:DAYLIGHT
BEGIN:STANDARD
TZOFFSETFROM:-0400
TZOFFSETTO:-0500
TZNAME:EST
DTSTART:20261101T060000
END:STANDARD
BEGIN:DAYLIGHT
TZOFFSETFROM:-0500
TZOFFSETTO:-0400
TZNAME:EDT
DTSTART:20270314T070000
END:DAYLIGHT
BEGIN:STANDARD
TZOFFSETFROM:-0400
TZOFFSETTO:-0500
TZNAME:EST
DTSTART:20271107T060000
END:STANDARD
END:VTIMEZONE
BEGIN:VEVENT
DTSTART;TZID=America/Detroit:20260830T190000
DTEND;TZID=America/Detroit:20260830T213000
DTSTAMP:20260421T133128
CREATED:20260313T160200Z
LAST-MODIFIED:20260313T160200Z
UID:10059579-1788116400-1788125400@myflr.org
SUMMARY:NEEDTOBREATHE: The Long Surrender Tour with Special Guests Drew & Ellie Holcomb
DESCRIPTION:NEEDTOBREATHE with Special Guests Drew & Ellie Holcomb at Meadow Brook Amphitheatre in Rochester Hills on  August 30 for The Long Surrender Tour.\nTickets on sale \n\nTickets on sale Friday\, March 20th @ 10am
URL:https://myflr.org/event/needtobreathe-the-long-surrender-tour-with-special-guests-drew-ellie-holcomb/
LOCATION:MEADOW BROOK AMPHITHEATRE\, 3554 Walton Blvd\, Rochester Hills\, MI\, 48309\, United States
CATEGORIES:Featured,Michigan
ATTACH;FMTTYPE=image/jpeg:https://eadn-wc05-15902914.nxedge.io/wp-content/uploads/2026/03/Static_Social-Instagram_1080x1080_NeedtoBreathe_2026_Regional_MeadowBrookAmphitheatre_0830.jpg
END:VEVENT
END:VCALENDAR