
BEGIN:VCALENDAR
VERSION:2.0
PRODID:-//Family Life Radio - ECPv6.15.20//NONSGML v1.0//EN
CALSCALE:GREGORIAN
METHOD:PUBLISH
X-ORIGINAL-URL:https://myflr.org
X-WR-CALDESC:Events for Family Life Radio
REFRESH-INTERVAL;VALUE=DURATION:PT1H
X-Robots-Tag:noindex
X-PUBLISHED-TTL:PT1H
BEGIN:VTIMEZONE
TZID:America/Phoenix
BEGIN:STANDARD
TZOFFSETFROM:-0700
TZOFFSETTO:-0700
TZNAME:MST
DTSTART:20250101T000000
END:STANDARD
END:VTIMEZONE
BEGIN:VEVENT
DTSTART;TZID=America/Phoenix:20260731T180000
DTEND;TZID=America/Phoenix:20260731T200000
DTSTAMP:20260421T065902
CREATED:20260407T130722Z
LAST-MODIFIED:20260407T130722Z
UID:10060091-1785520800-1785528000@myflr.org
SUMMARY:Women in Truth: Abide 2026 Conference - Macon
DESCRIPTION:Join women from across the region for Women in Truth: Abide 2026\, a powerful two-day conference July 31–August 1 at the Macon Coliseum in Macon\, Georgia. Through dynamic biblical teaching\, spirit-filled worship\, and authentic community\, you’ll be invited to slow down\, lean in\, and truly abide in Christ (John 15:4). \nYou’ll hear from a lineup of nationally recognized speakers who bring truth\, encouragement\, and real-life application to every stage of your journey. From heartfelt storytelling to bold Gospel proclamation\, every moment is designed to help you leave rooted in Scripture\, refreshed in spirit\, and confident in your calling. \nFeaturing speakers like:\nAnnie F. Downs\nHosanna Wong\nChrystal Evans Hurst\nJess Connolly\nNatalie Runion\nCourtney Smallbone \nWorship led by:\nLeeland\nHope Darst\nWhether you’re coming with friends\, your church group\, or on your own\, this is a space where you will be seen\, encouraged\, and strengthened alongside women pursuing the same truth. Purchase your tickets today!
URL:https://myflr.org/event/women-in-truth-abide-2026-conference-macon/2026-07-31/
LOCATION:Macon Coliseum (Macon\, GA)\, 200 Coliseum Dr\, Macon\, GA\, 31217\, United States
CATEGORIES:Georgia
ATTACH;FMTTYPE=image/jpeg:https://eadn-wc05-15902914.nxedge.io/wp-content/uploads/2026/04/Women-in-Truth-Abide-2026-Social-Media-Graphic-100.jpeg
ORGANIZER;CN="Living Truth Collective":MAILTO:lacey@livingtruthco.com
END:VEVENT
END:VCALENDAR