
BEGIN:VCALENDAR
VERSION:2.0
PRODID:-//Family Life Radio - ECPv6.15.20//NONSGML v1.0//EN
CALSCALE:GREGORIAN
METHOD:PUBLISH
X-ORIGINAL-URL:https://myflr.org
X-WR-CALDESC:Events for Family Life Radio
REFRESH-INTERVAL;VALUE=DURATION:PT1H
X-Robots-Tag:noindex
X-PUBLISHED-TTL:PT1H
BEGIN:VTIMEZONE
TZID:America/Phoenix
BEGIN:STANDARD
TZOFFSETFROM:-0700
TZOFFSETTO:-0700
TZNAME:MST
DTSTART:20230101T000000
END:STANDARD
END:VTIMEZONE
BEGIN:VEVENT
DTSTART;TZID=America/Phoenix:20251224T170000
DTEND;TZID=America/Phoenix:20251224T180000
DTSTAMP:20260421T121644
CREATED:20251112T142420Z
LAST-MODIFIED:20251112T142420Z
UID:10057273-1766595600-1766599200@myflr.org
SUMMARY:Candlelight Christmas Eve Service - Lizella
DESCRIPTION:Join us to celebrate the birth of our savior with worship\, a sermon and a candlelight service.
URL:https://myflr.org/event/candlelight-christmas-eve-service-lizella/
LOCATION:Lizella Baptist Church (Lizella\, GA)\, 2950 S. Lizella Rd\, Lizella\, GA\, 31052\, United States
CATEGORIES:Georgia
ATTACH;FMTTYPE=image/jpeg:https://eadn-wc05-15902914.nxedge.io/wp-content/uploads/2025/11/manger_under_the_stars.jpg
ORGANIZER;CN="Lizella Baptist Church":MAILTO:admin@lizellabaptist.com
END:VEVENT
BEGIN:VEVENT
DTSTART;TZID=America/Phoenix:20251214T080000
DTEND;TZID=America/Phoenix:20251214T170000
DTSTAMP:20260421T121644
CREATED:20251014T185657Z
LAST-MODIFIED:20251014T193815Z
UID:10057005-1765699200-1765731600@myflr.org
SUMMARY:Christmas Cantata - Lizella
DESCRIPTION:Join us as we celebrate our savior’s birth with a time of worship.
URL:https://myflr.org/event/christmas-cantata-lizella/2025-12-14/1/
LOCATION:Lizella Baptist Church (Lizella\, GA)\, 2950 S. Lizella Rd\, Lizella\, GA\, 31052\, United States
CATEGORIES:Georgia
ORGANIZER;CN="Lizella Baptist Church":MAILTO:admin@lizellabaptist.com
END:VEVENT
BEGIN:VEVENT
DTSTART;TZID=America/Phoenix:20251207T090000
DTEND;TZID=America/Phoenix:20251207T140000
DTSTAMP:20260421T121644
CREATED:20250925T202443Z
LAST-MODIFIED:20250925T202443Z
UID:10056594-1765098000-1765116000@myflr.org
SUMMARY:Christmas Bazaar - Lizella
DESCRIPTION:Shop unique gifts and crafts.
URL:https://myflr.org/event/christmas-bazaar-lizella/
LOCATION:Lizella Baptist Church (Lizella\, GA)\, 2950 S. Lizella Rd\, Lizella\, GA\, 31052\, United States
CATEGORIES:Georgia
ATTACH;FMTTYPE=image/png:https://eadn-wc05-15902914.nxedge.io/wp-content/uploads/2025/09/Bazaar.png
ORGANIZER;CN="Lizella Baptist Church":MAILTO:admin@lizellabaptist.com
END:VEVENT
BEGIN:VEVENT
DTSTART;TZID=America/Phoenix:20251108T100000
DTEND;TZID=America/Phoenix:20251108T140000
DTSTAMP:20260421T121644
CREATED:20250902T174537Z
LAST-MODIFIED:20250902T174537Z
UID:10051525-1762596000-1762610400@myflr.org
SUMMARY:Fall Festival\, BBQ & Car Cruise In - Lizella
DESCRIPTION:$10 bbq plates to support missions\, fun free activities for the family and a cruise-in style car show.
URL:https://myflr.org/event/fall-festival-bbq-car-cruise-in-lizella/
LOCATION:Lizella Baptist Church (Lizella\, GA)\, 2950 S. Lizella Rd\, Lizella\, GA\, 31052\, United States
CATEGORIES:Georgia
ORGANIZER;CN="Lizella Baptist Church":MAILTO:admin@lizellabaptist.com
END:VEVENT
BEGIN:VEVENT
DTSTART;TZID=America/Phoenix:20251004T080000
DTEND;TZID=America/Phoenix:20251004T120000
DTSTAMP:20260421T121644
CREATED:20250902T174644Z
LAST-MODIFIED:20250902T174644Z
UID:10051523-1759564800-1759579200@myflr.org
SUMMARY:Fall Oil Change Ministry for Widows & Single moms - Lizella
DESCRIPTION:Sign up for a free oil change if you are a widow or a single mom. Registration deadline is 10/1 or when all appointments are full.
URL:https://myflr.org/event/fall-oil-change-ministry-for-widows-single-moms-lizella/
LOCATION:Lizella Baptist Church (Lizella\, GA)\, 2950 S. Lizella Rd\, Lizella\, GA\, 31052\, United States
CATEGORIES:Georgia
ATTACH;FMTTYPE=image/png:https://eadn-wc05-15902914.nxedge.io/wp-content/uploads/2025/09/Oil-Chg-Ann-Slide-OL.png
ORGANIZER;CN="Lizella Baptist Church":MAILTO:admin@lizellabaptist.com
END:VEVENT
BEGIN:VEVENT
DTSTART;TZID=America/Phoenix:20241102T110000
DTEND;TZID=America/Phoenix:20241102T150000
DTSTAMP:20260421T121644
CREATED:20240905T163557Z
LAST-MODIFIED:20240905T172529Z
UID:10033841-1730545200-1730559600@myflr.org
SUMMARY:Fall Festival & Car Cruise In
DESCRIPTION:Free family event with games\, inflatables\, and a car show. BBQ plates available for sale.
URL:https://myflr.org/event/fall-festival-car-cruise-in/
LOCATION:Lizella Baptist Church (Lizella\, GA)\, 2950 S. Lizella Rd\, Lizella\, GA\, 31052\, United States
CATEGORIES:Georgia
ATTACH;FMTTYPE=image/jpeg:https://eadn-wc05-15902914.nxedge.io/wp-content/uploads/2024/09/FF-24-OL-scaled.jpg
ORGANIZER;CN="Lizella Baptist Church":MAILTO:admin@lizellabaptist.com
END:VEVENT
BEGIN:VEVENT
DTSTART;TZID=America/Phoenix:20241005T080000
DTEND;TZID=America/Phoenix:20241005T120000
DTSTAMP:20260421T121644
CREATED:20240823T122027Z
LAST-MODIFIED:20240823T122027Z
UID:10033494-1728115200-1728129600@myflr.org
SUMMARY:Oil Change Day for Single Moms & Widows
DESCRIPTION:Oil change service with complimentary car wash for single moms and widows in Middle Georgia on Saturday\, October 5th from 8 AM-noon. Spots are limited. Pre-registration is required. 🙂
URL:https://myflr.org/event/oil-change-day-for-single-moms-widows-2/
LOCATION:Lizella Baptist Church (Lizella\, GA)\, 2950 S. Lizella Rd\, Lizella\, GA\, 31052\, United States
CATEGORIES:Georgia
ATTACH;FMTTYPE=image/jpeg:https://eadn-wc05-15902914.nxedge.io/wp-content/uploads/2024/08/Oil-Chg-Ann-Slide-OL-scaled.jpg
ORGANIZER;CN="Lizella Baptist Church":MAILTO:admin@lizellabaptist.com
END:VEVENT
END:VCALENDAR