
BEGIN:VCALENDAR
VERSION:2.0
PRODID:-//Family Life Radio - ECPv6.15.20//NONSGML v1.0//EN
CALSCALE:GREGORIAN
METHOD:PUBLISH
X-ORIGINAL-URL:https://myflr.org
X-WR-CALDESC:Events for Family Life Radio
REFRESH-INTERVAL;VALUE=DURATION:PT1H
X-Robots-Tag:noindex
X-PUBLISHED-TTL:PT1H
BEGIN:VTIMEZONE
TZID:America/Phoenix
BEGIN:STANDARD
TZOFFSETFROM:-0700
TZOFFSETTO:-0700
TZNAME:MST
DTSTART:20240101T000000
END:STANDARD
END:VTIMEZONE
BEGIN:VEVENT
DTSTART;TZID=America/Phoenix:20260207T183000
DTEND;TZID=America/Phoenix:20260207T210000
DTSTAMP:20260421T172252
CREATED:20260112T212056Z
LAST-MODIFIED:20260112T212056Z
UID:10058055-1770489000-1770498000@myflr.org
SUMMARY:Father Daughter Dance - Collegedale
DESCRIPTION:Dads\, spend the Saturday before Valentine’s Day with your daughter at Love Without Reason’s annual Father Daughter Dance. An evening of dancing\, photos\, desserts and memories. Your support here\, changes the smile and the life of another dad and daughter around the globe. Get your tickets today!
URL:https://myflr.org/event/father-daughter-dance-collegedale/
LOCATION:The Commons at Collegedale\, 4950 Swinyar Dr\, Collegedale\, TN\, 37363\, United States
CATEGORIES:Tennesee
ATTACH;FMTTYPE=image/png:https://eadn-wc05-15902914.nxedge.io/wp-content/uploads/2026/01/FBB-Logo_20260105_192242_0000.png
ORGANIZER;CN="Love Without Reason":MAILTO:info@lovewithoutreason.org
END:VEVENT
BEGIN:VEVENT
DTSTART;TZID=America/Phoenix:20250913T080000
DTEND;TZID=America/Phoenix:20250913T150000
DTSTAMP:20260421T172252
CREATED:20250326T131306Z
LAST-MODIFIED:20250326T131306Z
UID:10040482-1757750400-1757775600@myflr.org
SUMMARY:5KRun4Love – Chattanooga
DESCRIPTION:This is a 5K/10K run to help raise money for Love Without Reason\, which provides free Cleft Palate surgeries for children in other countries. We also build sex trafficking awareness in the United States.
URL:https://myflr.org/event/5krun4love-chattanooga/
LOCATION:Tennessee Riverpark\, Pavilion #4 (Chattanooga\, TN)\, 4301 Amnicola Highway\, Chattanooga\, TN\, 37402\, United States
CATEGORIES:Tennesee
ORGANIZER;CN="Love Without Reason":MAILTO:info@lovewithoutreason.org
END:VEVENT
END:VCALENDAR