
BEGIN:VCALENDAR
VERSION:2.0
PRODID:-//Family Life Radio - ECPv6.15.20//NONSGML v1.0//EN
CALSCALE:GREGORIAN
METHOD:PUBLISH
X-ORIGINAL-URL:https://myflr.org
X-WR-CALDESC:Events for Family Life Radio
REFRESH-INTERVAL;VALUE=DURATION:PT1H
X-Robots-Tag:noindex
X-PUBLISHED-TTL:PT1H
BEGIN:VTIMEZONE
TZID:America/Detroit
BEGIN:DAYLIGHT
TZOFFSETFROM:-0500
TZOFFSETTO:-0400
TZNAME:EDT
DTSTART:20250309T070000
END:DAYLIGHT
BEGIN:STANDARD
TZOFFSETFROM:-0400
TZOFFSETTO:-0500
TZNAME:EST
DTSTART:20251102T060000
END:STANDARD
BEGIN:DAYLIGHT
TZOFFSETFROM:-0500
TZOFFSETTO:-0400
TZNAME:EDT
DTSTART:20260308T070000
END:DAYLIGHT
BEGIN:STANDARD
TZOFFSETFROM:-0400
TZOFFSETTO:-0500
TZNAME:EST
DTSTART:20261101T060000
END:STANDARD
BEGIN:DAYLIGHT
TZOFFSETFROM:-0500
TZOFFSETTO:-0400
TZNAME:EDT
DTSTART:20270314T070000
END:DAYLIGHT
BEGIN:STANDARD
TZOFFSETFROM:-0400
TZOFFSETTO:-0500
TZNAME:EST
DTSTART:20271107T060000
END:STANDARD
END:VTIMEZONE
BEGIN:VEVENT
DTSTART;TZID=America/Detroit:20260513T114500
DTEND;TZID=America/Detroit:20260513T130000
DTSTAMP:20260420T221025
CREATED:20250808T014330Z
LAST-MODIFIED:20250811T125406Z
UID:10050325-1778672700-1778677200@myflr.org
SUMMARY:Macomb Christian Business Alliance Luncheon - Clinton Twp
DESCRIPTION:Compass Macomb was established in 2014\, and meets on the 2nd Wednesday of each month (except July) at Nino Salvaggio. The chapter is organized and led by a great team committed to bringing in relevant speakers who will encourage you to work inspired\, as you live out your faith in the marketplace. Please preregister on the website to ensure adequate catering. We can’t wait to meet you!!!
URL:https://myflr.org/event/macomb-christian-business-alliance-luncheon-clinton-twp/2026-05-13/
LOCATION:Nino Salvaggio\, 17496 Hall Road\, Clinton Twp.\, MI\, 48038\, United States
CATEGORIES:Michigan
ATTACH;FMTTYPE=image/jpeg:https://eadn-wc05-15902914.nxedge.io/wp-content/uploads/2025/08/Compass-Logo.jpg
END:VEVENT
END:VCALENDAR