
BEGIN:VCALENDAR
VERSION:2.0
PRODID:-//Family Life Radio - ECPv6.15.20//NONSGML v1.0//EN
CALSCALE:GREGORIAN
METHOD:PUBLISH
X-WR-CALNAME:Family Life Radio
X-ORIGINAL-URL:https://myflr.org
X-WR-CALDESC:Events for Family Life Radio
REFRESH-INTERVAL;VALUE=DURATION:PT1H
X-Robots-Tag:noindex
X-PUBLISHED-TTL:PT1H
BEGIN:VTIMEZONE
TZID:America/Phoenix
BEGIN:STANDARD
TZOFFSETFROM:-0700
TZOFFSETTO:-0700
TZNAME:MST
DTSTART:20230101T000000
END:STANDARD
END:VTIMEZONE
BEGIN:VEVENT
DTSTART;TZID=America/Phoenix:20260327T090000
DTEND;TZID=America/Phoenix:20260329T170000
DTSTAMP:20260421T210737
CREATED:20260113T174200Z
LAST-MODIFIED:20260113T174200Z
UID:10058056-1774602000-1774803600@myflr.org
SUMMARY:Southern AZ Home Show March 27-29
DESCRIPTION:Shop\, compare and save at the region’s largest and most comprehensive home show! The Southern Arizona Home Show at the Tucson Convention Center March 27-29 will provide the latest trends\, ideas and inspiration from 250+ of the region’s most trusted professionals in home improvement\, interior design\, and outdoor living. Enjoy expert presentations\, special market areas\, live entertainment\, food trucks and more. Meet celebrity Christopher Knight of Christopher Knight Home (and who played Peter Brady on the classic TV show “The Brady Bunch”) March 27 & 28 at 1 pm. \nFree admission for Seniors ages 65+ on March 27. Free admission for active and retired military\, first responders\, police\, firefighters\, doctors\, nurses and teachers on Sunday\, March 29. Discount admission coupon and all show info can be found at SouthernAZHomeShow.com.
URL:https://myflr.org/event/southern-az-home-show-march-27-29/
LOCATION:Tucson Convention Center\, 260 S. Church Ave.\, Tucson\, 85701\, United States
CATEGORIES:Arizona
ATTACH;FMTTYPE=image/jpeg:https://eadn-wc05-15902914.nxedge.io/wp-content/uploads/2026/01/2026-Southern-AZ-Home-Show-Copy.jpg
END:VEVENT
BEGIN:VEVENT
DTSTART;TZID=America/Phoenix:20251003T090000
DTEND;TZID=America/Phoenix:20251005T170000
DTSTAMP:20260421T210737
CREATED:20250729T230810Z
LAST-MODIFIED:20250729T230810Z
UID:10049753-1759482000-1759683600@myflr.org
SUMMARY:Southern AZ Fall Home Show
DESCRIPTION:Take care of all of your home and garden projects at the Southern AZ Fall Home Show\, October 3-5 in Tucson! Three days to shop\, compare and save at the region’s largest and most comprehensive home show\, where visitors see all the new trends and gain inspiration for their own homes. \nFeaturing more than 200 trusted professionals in home improvement\, interior design\, and outdoor living\, offering the latest solutions\, products\, and advice. Fun\, interactive events and presentations on the Fresh Ideas Stage and Culinary Showcase Stage\, live entertainment\, and special market areas for artisanal items and pets\, make the show a must-attend event. \nPresentations by celebrity guests Julia Collin Davison and Bridget Lancaster of America’s Test Kitchen and Cook’s Country\, who will also meet with visitors on Friday\, October 3rd (1 p.m.) and Saturday\, October 4th (1 p.m.). \nFind something for any project on your home to-do list! Save on admission and get a 50% off coupon online at SouthernAZFallHomeShow.com \nFree admission for:\n-Children under age 12 (all days)\n-Seniors ages 65+ (on Friday\, Oct. 3)\n-Active military personnel\, veterans\, police\, firefighters\, first responders\, and teachers with valid ID (on Sunday\, Oct. 5)
URL:https://myflr.org/event/southern-az-fall-home-show-2/
LOCATION:Tucson Convention Center\, 260 S. Church Ave.\, Tucson\, 85701\, United States
CATEGORIES:Arizona
ATTACH;FMTTYPE=image/jpeg:https://eadn-wc05-15902914.nxedge.io/wp-content/uploads/2025/07/Bridget-Lancaster-and-Julia-Collin-Davison-together-scaled.jpg
END:VEVENT
BEGIN:VEVENT
DTSTART;TZID=America/Phoenix:20250330T090000
DTEND;TZID=America/Phoenix:20250330T170000
DTSTAMP:20260421T210737
CREATED:20250314T221026Z
LAST-MODIFIED:20250314T221026Z
UID:10040343-1743325200-1743354000@myflr.org
SUMMARY:Spring 2025 Southern AZ Home Show
DESCRIPTION:Southern Arizona’s largest and most comprehensive home show features displays\, events\, demonstrations and informative sessions designed to help facilitate home projects.  For three days only\, attendees can shop\, compare and save while gaining new ideas and practical advice in home improvement\, home design\, and outdoor living\, all in a vibrant marketplace showcasing the latest home-related products and services.  \nKevin O’Connor\, one of the nation’s most well-known home improvement figures as host of the long-running\, Emmy Award-winning PBS television series This Old House and Ask This Old House\, will share some of his extensive experiences\, answer audience questions\, and meet show attendees Friday\, March 28 at 3 p.m. and Saturday\, March 29 at 11 a.m.   \nVirginia Chamlee\, writer\, artist\, and author of the best-selling book Big Thrift Energy: The Art and Thrill of Finding Vintage Treasures – Plus Tips for Making Old Feel New\, will help visitors learn how to find and transform thrift shop treasures when she presents “How to Thrift Museum-Quality Art\, Designer Furniture and More” on Friday\, March 28 at 2 p.m. and Saturday\, March 29 at 12:30 p.m. \nAll the top resources and latest information in one place makes the Southern AZ Home Show the most abundant and convenient source for local homeowners.
URL:https://myflr.org/event/spring-2025-southern-az-home-show/2025-03-30/
LOCATION:Tucson Convention Center\, 260 S. Church Ave.\, Tucson\, 85701\, United States
CATEGORIES:Arizona
ATTACH;FMTTYPE=image/jpeg:https://eadn-wc05-15902914.nxedge.io/wp-content/uploads/2025/03/SAZS_4C-sunflower-Date-lockup.jpg
END:VEVENT
BEGIN:VEVENT
DTSTART;TZID=America/Phoenix:20241025T100000
DTEND;TZID=America/Phoenix:20241027T180000
DTSTAMP:20260421T210737
CREATED:20240725T203319Z
LAST-MODIFIED:20240725T203319Z
UID:10031478-1729850400-1730052000@myflr.org
SUMMARY:Southern AZ Fall Home Show
DESCRIPTION:A must-attend event for local homeowners and consumers that showcases more than 250 of the area’s top home-related professionals and businesses along with expert speakers\, inspiring displays\, and special features and activities. Shop\, compare and save while gaining new ideas and practical advice in home improvement\, home design and decor\, outdoor living and much more. Real estate mavens\, design visionaries\, business owners\, and twin sisters Leslie Davis and Lyndsay Lamb of the hit HGTV series Unsellable Houses will give talks on Fri. Oct 25 and Sat. Oct. 26 at 1 pm. See website for all details and admission discounts.
URL:https://myflr.org/event/southern-az-fall-home-show/
LOCATION:Tucson Convention Center\, 260 S. Church Ave.\, Tucson\, 85701\, United States
CATEGORIES:Arizona
ATTACH;FMTTYPE=image/jpeg:https://eadn-wc05-15902914.nxedge.io/wp-content/uploads/2024/07/2024-Fall-Southern-AZ-Home-Show-Logo.jpg
END:VEVENT
BEGIN:VEVENT
DTSTART;VALUE=DATE:20241025
DTEND;VALUE=DATE:20241028
DTSTAMP:20260421T210737
CREATED:20240917T230234Z
LAST-MODIFIED:20241003T213151Z
UID:10034115-1729814400-1730073599@myflr.org
SUMMARY:Fall Southern Arizona Home Show
DESCRIPTION:The must-attend event for local homeowners and consumers\, showcasing more than 250 of the area’s top home-related professionals and expert speakers\, inspiring displays\, and special features and activities. Three days only to shop\, compare and save while gaining new ideas and practical advice in home improvement\, home design and décor\, outdoor living and much more. Check out live cooking demos on the new Culinary Showcase Stage and get expert tips from celebrity guests Leslie Davis and Lyndsay Lamb\, the real estate mavens\, design visionaries\, business owners\, and twin sisters from the hit HGTV series “Unsellable Houses” on Fri. Oct 25 and Sat. Oct. 26 at 1 pm. Go to www.SouthernAZFallHomeShow.com for all details and discount admission coupon.
URL:https://myflr.org/event/fall-southern-arizona-home-show/
LOCATION:Tucson Convention Center\, 260 S. Church Ave.\, Tucson\, 85701\, United States
CATEGORIES:Arizona
ATTACH;FMTTYPE=image/jpeg:https://eadn-wc05-15902914.nxedge.io/wp-content/uploads/2024/09/2024-Fall-Southern-AZ-Home-Show-Logo_2.jpg
END:VEVENT
END:VCALENDAR