
BEGIN:VCALENDAR
VERSION:2.0
PRODID:-//Family Life Radio - ECPv6.15.20//NONSGML v1.0//EN
CALSCALE:GREGORIAN
METHOD:PUBLISH
X-ORIGINAL-URL:https://myflr.org
X-WR-CALDESC:Events for Family Life Radio
REFRESH-INTERVAL;VALUE=DURATION:PT1H
X-Robots-Tag:noindex
X-PUBLISHED-TTL:PT1H
BEGIN:VTIMEZONE
TZID:America/Phoenix
BEGIN:STANDARD
TZOFFSETFROM:-0700
TZOFFSETTO:-0700
TZNAME:MST
DTSTART:20250101T000000
END:STANDARD
END:VTIMEZONE
BEGIN:VEVENT
DTSTART;TZID=America/Phoenix:20260222T180000
DTEND;TZID=America/Phoenix:20260222T200000
DTSTAMP:20260421T104507
CREATED:20260223T162418Z
LAST-MODIFIED:20260223T162418Z
UID:10059009-1771783200-1771790400@myflr.org
SUMMARY:As in Heaven Women’s Conference 2026 - Stone Mountain
DESCRIPTION:Join us for the As in Heaven Women’s Conference\, a two-day gathering created to inspire\, refresh\, and empower women of all ages. \nSaturday\, February 21\, 2026 – 9:00 AM\nPrayer Breakfast with a full meal\, encouragement\, and meaningful connection. \nSunday\, February 22\, 2026 – 11:00 AM & 6:00 PM\nDynamic worship services featuring live music\, powerful messages\, and moments designed to strengthen your faith. \nAdmission is $30 and includes the full weekend experience.\nRegister via Zelle (finance@mhagonline.org)\, Cash App ($MessiahsHouse)\, or pay at the door. \nCome expectant. Leave empowered.
URL:https://myflr.org/event/as-in-heaven-womens-conference-2026-stone-mountain/2026-02-22/2/
LOCATION:Messiah’s House Assembly of God\, 1683 S Hairston Rd\, Stone Mountain\, GA\, 30088\, United States
CATEGORIES:Georgia
ATTACH;FMTTYPE=image/jpeg:https://eadn-wc05-15902914.nxedge.io/wp-content/uploads/2026/02/as-in-heaven-flyer.jpg
ORGANIZER;CN="Messiah%E2%80%99s House Assembly of God":MAILTO:Admin@mhagonline.org
END:VEVENT
END:VCALENDAR