
BEGIN:VCALENDAR
VERSION:2.0
PRODID:-//Family Life Radio - ECPv6.15.20//NONSGML v1.0//EN
CALSCALE:GREGORIAN
METHOD:PUBLISH
X-WR-CALNAME:Family Life Radio
X-ORIGINAL-URL:https://myflr.org
X-WR-CALDESC:Events for Family Life Radio
REFRESH-INTERVAL;VALUE=DURATION:PT1H
X-Robots-Tag:noindex
X-PUBLISHED-TTL:PT1H
BEGIN:VTIMEZONE
TZID:America/Detroit
BEGIN:DAYLIGHT
TZOFFSETFROM:-0500
TZOFFSETTO:-0400
TZNAME:EDT
DTSTART:20250309T070000
END:DAYLIGHT
BEGIN:STANDARD
TZOFFSETFROM:-0400
TZOFFSETTO:-0500
TZNAME:EST
DTSTART:20251102T060000
END:STANDARD
BEGIN:DAYLIGHT
TZOFFSETFROM:-0500
TZOFFSETTO:-0400
TZNAME:EDT
DTSTART:20260308T070000
END:DAYLIGHT
BEGIN:STANDARD
TZOFFSETFROM:-0400
TZOFFSETTO:-0500
TZNAME:EST
DTSTART:20261101T060000
END:STANDARD
BEGIN:DAYLIGHT
TZOFFSETFROM:-0500
TZOFFSETTO:-0400
TZNAME:EDT
DTSTART:20270314T070000
END:DAYLIGHT
BEGIN:STANDARD
TZOFFSETFROM:-0400
TZOFFSETTO:-0500
TZNAME:EST
DTSTART:20271107T060000
END:STANDARD
END:VTIMEZONE
BEGIN:VEVENT
DTSTART;TZID=America/Detroit:20260513T120000
DTEND;TZID=America/Detroit:20260513T140000
DTSTAMP:20260421T121741
CREATED:20260216T190816Z
LAST-MODIFIED:20260415T112404Z
UID:10059013-1778673600-1778680800@myflr.org
SUMMARY:Midland Christian Women's Connection "Inspiring Music" Luncheon
DESCRIPTION:All ladies are invited and welcome to attend! We hope you can join us! Our Feature: Kelly Warner\, Worship Pastor at Grace Valley Church in Saginaw\, will share her passion for inspiring hope and love by singing and playing the piano for us. \nOur Inspirational Speaker: Michelle DeMann\, of Hamilton\, OH\, will share her talk titled “Overcoming Life’s Challenges”. Michelle’s journey was shaped by adversity and perseverance. Despite setbacks and pain\, she remained determined to find what was missing in life. This pursuit led to a pivotal moment of self-reflection and change. By embracing hope and making a decisive choice that missing piece was found and life has profoundly changed ever since. Make your reservation today! \nLocation: Midland Country Club\, 1120 West St. Andrews\, Midland\, MI\nCost: $20.00/payable at the door with cash or check (includes buffet\, salad\, beverages and dessert)\nDeadline for reservations: Friday\, May 8\, email: mcwcres@gmail.com (979-299-9831)
URL:https://myflr.org/event/midland-christian-womens-connection-inspiring-music-luncheon/
LOCATION:Midland Country Club (Midland\, MI)\, 1120 West St. Andrews Rd.\, Midland\, MI\, 48640\, United States
CATEGORIES:Michigan
ATTACH;FMTTYPE=image/jpeg:https://eadn-wc05-15902914.nxedge.io/wp-content/uploads/2026/02/Chistian-Music-Clipart2.jpg
ORGANIZER;CN="Midland Christian Women%E2%80%99s Connection (Midland%2C MI)":MAILTO:mcwcres@gmail.com
END:VEVENT
BEGIN:VEVENT
DTSTART;TZID=America/Detroit:20260610T120000
DTEND;TZID=America/Detroit:20260610T140000
DTSTAMP:20260421T121741
CREATED:20260216T190721Z
LAST-MODIFIED:20260415T112453Z
UID:10059014-1781092800-1781100000@myflr.org
SUMMARY:Midland Christian Women's Connection "Young Life" Luncheon
DESCRIPTION:All ladies are invited and welcome to attend! We hope you can join us! Our Feature: Merci Danielson\, Midland Area Director for Young Life\, will share how the non-profit helps high schoolers find hope\, meaning and belonging. Kids are given the chance to live life to the fullest. \nOur Inspirational Speaker: Susan Shepard\, from Cameron\, NC\, will join us and present “Diamonds That Sparkle”. A toxic work environment took her into a deep pit where God rescued her. Through it\, she learned to turn everything over to God for His best and to let go of control and move forward. Make your reservation today! \nLocation: Midland Country Club\, 1120 West St. Andrews in Midland\, Mi\nCost: $20.00/payable at the door with cash or check (includes buffet\, salad\, dessert and beverages)\nDeadline for reservations: Friday\, June 5; email: mcwres@gmail.com (979-299-9831)
URL:https://myflr.org/event/midland-christian-womens-connection-young-life-luncheon/
LOCATION:Midland Country Club (Midland\, MI)\, 1120 West St. Andrews Rd.\, Midland\, MI\, 48640\, United States
CATEGORIES:Michigan
ATTACH;FMTTYPE=image/jpeg:https://eadn-wc05-15902914.nxedge.io/wp-content/uploads/2026/02/Young-Life2.jpg
ORGANIZER;CN="Midland Christian Women%E2%80%99s Connection (Midland%2C MI)":MAILTO:mcwcres@gmail.com
END:VEVENT
END:VCALENDAR