
BEGIN:VCALENDAR
VERSION:2.0
PRODID:-//Family Life Radio - ECPv6.15.20//NONSGML v1.0//EN
CALSCALE:GREGORIAN
METHOD:PUBLISH
X-WR-CALNAME:Family Life Radio
X-ORIGINAL-URL:https://myflr.org
X-WR-CALDESC:Events for Family Life Radio
REFRESH-INTERVAL;VALUE=DURATION:PT1H
X-Robots-Tag:noindex
X-PUBLISHED-TTL:PT1H
BEGIN:VTIMEZONE
TZID:America/Phoenix
BEGIN:STANDARD
TZOFFSETFROM:-0700
TZOFFSETTO:-0700
TZNAME:MST
DTSTART:20230101T000000
END:STANDARD
END:VTIMEZONE
BEGIN:VTIMEZONE
TZID:America/Detroit
BEGIN:DAYLIGHT
TZOFFSETFROM:-0500
TZOFFSETTO:-0400
TZNAME:EDT
DTSTART:20230312T070000
END:DAYLIGHT
BEGIN:STANDARD
TZOFFSETFROM:-0400
TZOFFSETTO:-0500
TZNAME:EST
DTSTART:20231105T060000
END:STANDARD
BEGIN:DAYLIGHT
TZOFFSETFROM:-0500
TZOFFSETTO:-0400
TZNAME:EDT
DTSTART:20240310T070000
END:DAYLIGHT
BEGIN:STANDARD
TZOFFSETFROM:-0400
TZOFFSETTO:-0500
TZNAME:EST
DTSTART:20241103T060000
END:STANDARD
BEGIN:DAYLIGHT
TZOFFSETFROM:-0500
TZOFFSETTO:-0400
TZNAME:EDT
DTSTART:20250309T070000
END:DAYLIGHT
BEGIN:STANDARD
TZOFFSETFROM:-0400
TZOFFSETTO:-0500
TZNAME:EST
DTSTART:20251102T060000
END:STANDARD
END:VTIMEZONE
BEGIN:VEVENT
DTSTART;TZID=America/Phoenix:20250514T120000
DTEND;TZID=America/Phoenix:20250514T140000
DTSTAMP:20260421T195649
CREATED:20250310T132524Z
LAST-MODIFIED:20250310T132524Z
UID:10040108-1747224000-1747231200@myflr.org
SUMMARY:Midland Christian Women’s Connection “Flamenco Dance Show” Luncheon – Midland\, MI
DESCRIPTION:All ladies are invited and welcome to attend! Our Feature\, Carmen Judez\, international designer\, flamenco dancer\, choreographer\, and teacher from Miami\, FL\, will treat us to a Spanish “Flamenco” dance performance! The performance consists of three parts: song\, dance\, and instrumental music! Our Inspirational Speaker\, Nancy Williams\, of New Bremen\, OH\, will present her talk “You are Priceless and Can Live Above any Circumstances”. We hope you can join us! Make your reservation today! \nCost: $18.00/payable at the door with cash or check (includes lunch\, salad bar\, dessert\, and assorted beverages)\nDeadline for reservations: Sunday\, May 11; email Lori at: mcwcres@gmail.com (979-299-9831)
URL:https://myflr.org/event/midland-christian-womens-connection-flamenco-dance-show-luncheon-midland-mi/
LOCATION:Midland Country Club (Midland\, MI)\, 1120 West St. Andrews Rd.\, Midland\, MI\, 48640\, United States
CATEGORIES:Michigan
ATTACH;FMTTYPE=image/jpeg:https://eadn-wc05-15902914.nxedge.io/wp-content/uploads/2025/02/Flamenco-Word.jpg
ORGANIZER;CN="Midland Christian Women%E2%80%99s Connection (Midland%2C MI)":MAILTO:mcwcres@gmail.com
END:VEVENT
BEGIN:VEVENT
DTSTART;TZID=America/Phoenix:20250409T120000
DTEND;TZID=America/Phoenix:20250409T140000
DTSTAMP:20260421T195649
CREATED:20250310T132312Z
LAST-MODIFIED:20250310T132312Z
UID:10040107-1744200000-1744207200@myflr.org
SUMMARY:Midland Christian Women’s Connection “Joy of Music” Luncheon – Midland\, MI
DESCRIPTION:All ladies are invited and welcome to attend! Our Feature\, Karen Kempin\, Director of Worship Music at St. John’s Church in Midland\, MI\, will share how the love of music has been a blessing in her life and ministry. We are blessed to have Karen sing beautiful music for us. Come prepared to sing along! Our Inspirational Speaker\, Marilyn Garapolo\, from Plainfield\, IL\, will share her story titled “Laughter is Medicine”. Marilyn shares her childhood dreams of traveling the world to real life and how her life of fashion and retail led to having her own business. We hope you can join us!! Make your reservation today! \nCost: $18.00/payable at the door with cash or check (includes lunch\, salad\, dessert and assorted beverages)\nDeadline for reservations: Sunday\, April 6; email Lori at: mcwcres@gmail.com (979-299-9831)
URL:https://myflr.org/event/midland-christian-womens-connection-joy-of-music-luncheon-midland-mi/
LOCATION:Midland Country Club (Midland\, MI)\, 1120 West St. Andrews Rd.\, Midland\, MI\, 48640\, United States
CATEGORIES:Michigan
ATTACH;FMTTYPE=image/jpeg:https://eadn-wc05-15902914.nxedge.io/wp-content/uploads/2025/02/Joyful-Music.jpg
ORGANIZER;CN="Midland Christian Women%E2%80%99s Connection (Midland%2C MI)":MAILTO:mcwcres@gmail.com
END:VEVENT
BEGIN:VEVENT
DTSTART;TZID=America/Phoenix:20250312T120000
DTEND;TZID=America/Phoenix:20250312T140000
DTSTAMP:20260421T195649
CREATED:20241213T165136Z
LAST-MODIFIED:20241213T165136Z
UID:10037546-1741780800-1741788000@myflr.org
SUMMARY:Midland Christian Women’s Connection “Joy of Reading” Luncheon
DESCRIPTION:All ladies are invited and welcome to attend! Our Feature\, Tricia Crivac\, owner of Bookmarks bookstore in downtown Midland\, will share this truly unique store. Bookmarks brings the job of reading to downtown and offers new and used books\, a cozy sitting room with a fireplace\, book club opportunities\, and so much more. It is truly a gem! Our Inspirational Speaker\, Kathy Sly\, Hickory Corners\, MI\, will present ‘A Humpty Dumpty Life”. It took a great fall to shatter Kathy’s life. With humor\, Kathy tells her desperate search for the glue to put the shattered pieces together. We hope you can join us! Make your reservation today! \nCost: $18.00/payable at the door with cash or check (includes lunch\, salad\, dessert\, and assorted beverages)\nDeadline for reservations: Sunday\, March 9; email Lori at: mcwcres@gmail.com (979-299-9831)
URL:https://myflr.org/event/midland-christian-womens-connection-joy-of-reading-luncheon/
LOCATION:Midland Country Club (Midland\, MI)\, 1120 West St. Andrews Rd.\, Midland\, MI\, 48640\, United States
CATEGORIES:Michigan
ATTACH;FMTTYPE=image/jpeg:https://eadn-wc05-15902914.nxedge.io/wp-content/uploads/2024/12/Reading-Pic.jpg
ORGANIZER;CN="Midland Christian Women%E2%80%99s Connection (Midland%2C MI)":MAILTO:mcwcres@gmail.com
END:VEVENT
BEGIN:VEVENT
DTSTART;TZID=America/Phoenix:20250212T120000
DTEND;TZID=America/Phoenix:20250212T140000
DTSTAMP:20260421T195649
CREATED:20241216T212402Z
LAST-MODIFIED:20241216T212402Z
UID:10037968-1739361600-1739368800@myflr.org
SUMMARY:Midland Christian Women’s Connection “The Beauty of Paper” Luncheon – Midland\, MI
DESCRIPTION:All ladies are invited and welcome to attend! Our feature\, Holly Edsall\, Paper Artistry owner in Midland\, will share how she learned to manipulate paper into works of art. Her work helps her get through anything that life throws at her. Her art is used at the Children’s Grief Center to help others with the grief process. Come and see her beautiful art work! It is amazing! Our Inspirational Speaker\, Mary Haddad\, Adrian\, MI\, will share her talk “Survival and Success in the Search for Significance”. Mary was looking for love in all the wrong places. We hope you can join us! Make your reservation today. Come early and enjoy a cup of coffee with an old or new friend! \nLocation: Midland Country Club\, 1120 West St. Andrews in Midland\, MI\nCost: $18.00/ payable at the door by cash or check (includes entree\, salad bar\, dessert\, and asst. beverages)\nDeadline for reservations: Sunday\, February 9; email Lori at: mcwcres@gmail.com; 979-299-9831
URL:https://myflr.org/event/midland-christian-womens-connection-the-beauty-of-paper-luncheon-midland-mi/
LOCATION:Midland Country Club (Midland\, MI)\, 1120 West St. Andrews Rd.\, Midland\, MI\, 48640\, United States
CATEGORIES:Michigan
ATTACH;FMTTYPE=image/jpeg:https://eadn-wc05-15902914.nxedge.io/wp-content/uploads/2024/12/Quilled-Paper-Pic.jpg
ORGANIZER;CN="Midland Christian Women%E2%80%99s Connection (Midland%2C MI)":MAILTO:mcwcres@gmail.com
END:VEVENT
BEGIN:VEVENT
DTSTART;TZID=America/Phoenix:20250115T120000
DTEND;TZID=America/Phoenix:20250115T140000
DTSTAMP:20260421T195649
CREATED:20241211T140344Z
LAST-MODIFIED:20241211T140344Z
UID:10037545-1736942400-1736949600@myflr.org
SUMMARY:Midland Christian Women’s Connection “Building Dreams” Luncheon
DESCRIPTION:All ladies are invited and welcome to attend! Our Feature\, Brian Rueger\, local chapter President of Sleep in Heavenly Peace\, will share how they put children 3-17 years of age in beds with help from the community. This non-profit’s motto is “All children deserve a safe\, comfortable place to lay their heads”. Our Inspirational Speaker\, Carol Sweebe\, Midland\, MI\, will present “Fan or Follower”. Do you have favorite brand\, store\, entertainer or sports team? Are you just a fan or do you follow them? Using a quiz\, humor and her personal stories\, Carol will demonstrate which requires more from you. We hope you can join us! Make your reservation today. \nCost: $18.00/payable at the door with check or cash (includes\, lunch\, salad\, dessert\, and assorted beverages)\nDeadline for reservations: Sunday\, January 12; email Lori at: mcwcres@gmail.com (979-299-9831)
URL:https://myflr.org/event/midland-christian-womens-connection-building-dreams-luncheon/
LOCATION:Midland Country Club (Midland\, MI)\, 1120 West St. Andrews Rd.\, Midland\, MI\, 48640\, United States
CATEGORIES:Michigan
ATTACH;FMTTYPE=image/jpeg:https://eadn-wc05-15902914.nxedge.io/wp-content/uploads/2024/12/Dreams-Pic.jpg
ORGANIZER;CN="Midland Christian Women%E2%80%99s Connection (Midland%2C MI)":MAILTO:mcwcres@gmail.com
END:VEVENT
BEGIN:VEVENT
DTSTART;TZID=America/Detroit:20241211T120000
DTEND;TZID=America/Detroit:20241211T140000
DTSTAMP:20260421T195649
CREATED:20240819T125124Z
LAST-MODIFIED:20241202T213643Z
UID:10033467-1733918400-1733925600@myflr.org
SUMMARY:Christian Women’s Connection “Christmas Music” Luncheon – Midland\, MI
DESCRIPTION:All ladies are invited and welcome to attend! Tennille Coston\, Artist\, Violinist and Music Teacher covering the tri-cities and surrounding areas for over 25 years\, will provide classics and popular Christmas tunes. Our Inspirational Speaker\, Kathleen Jimenez\, Saginaw\, MI\, will share her story “Once Upon a Time”. Her love of fairy tales when she was a child led her through some difficulties to a happy ending meeting her prince. \nLocation: Midland Country Club\, 1120 West St. Andrews Rd.\nCost: $18.00/payable at the door\nDeadline for reservations: Sunday\, December 8\, 2024;\nEmail Lori at: mcwcres@gmail.com;\n(979-299-9831)
URL:https://myflr.org/event/christian-womens-connection-christmas-music-luncheon-midland-mi/
LOCATION:Midland Country Club (Midland\, MI)\, 1120 West St. Andrews Rd.\, Midland\, MI\, 48640\, United States
CATEGORIES:Michigan
ATTACH;FMTTYPE=image/jpeg:https://eadn-wc05-15902914.nxedge.io/wp-content/uploads/2024/08/Christmas-Music.jpg
ORGANIZER;CN="Midland Christian Women%E2%80%99s Connection (Midland%2C MI)":MAILTO:mcwcres@gmail.com
END:VEVENT
BEGIN:VEVENT
DTSTART;TZID=America/Phoenix:20241012T103000
DTEND;TZID=America/Phoenix:20241012T120000
DTSTAMP:20260421T195649
CREATED:20240812T130359Z
LAST-MODIFIED:20240812T130359Z
UID:10032684-1728729000-1728734400@myflr.org
SUMMARY:Stonecroft Women’s Bible Study (Midland\, MI)
DESCRIPTION:You are cordially invited to Stonecroft Women’s Bible Study. Stonecroft is a national non-denominational\, non-profit. The sessions start on Saturday\, October 12\, 2024\, from 10:30 – Noon at Cultivate Coffee inside the Midland\, MI mall. The sessions will be held the 2nd & 4th Saturday each month. Other sessions are available as well. \nWomen of all ages are welcome to join us as we explore the bible and learn the word of God together. These studies are designed to help you understand and apply biblical truths to your life while also building good friendships with other group members. \nPlease contact Linda Larsen for further information and to register: 989-430-7054; skeeter185@charter.net
URL:https://myflr.org/event/stonecroft-womens-bible-study-midland-mi/
LOCATION:Cultivate Coffee (Midland\, MI)\, 6800 Eastman Ave.\, Midland\, MI\, 48640\, United States
CATEGORIES:Michigan
ATTACH;FMTTYPE=image/jpeg:https://eadn-wc05-15902914.nxedge.io/wp-content/uploads/2024/08/Bible-study.jpg
ORGANIZER;CN="Midland Christian Women%E2%80%99s Connection (Midland%2C MI)":MAILTO:mcwcres@gmail.com
END:VEVENT
BEGIN:VEVENT
DTSTART;TZID=America/Phoenix:20241009T120000
DTEND;TZID=America/Phoenix:20241009T140000
DTSTAMP:20260421T195649
CREATED:20240819T125156Z
LAST-MODIFIED:20240819T125156Z
UID:10033466-1728475200-1728482400@myflr.org
SUMMARY:Christian Women’s Connection “Fall Fundraiser” Luncheon – Midland\, MI
DESCRIPTION:All ladies are invited and welcome to attend. It is fall fundraiser time again! Please come and enjoy all the wonderful items that are available for purchase. Proceeds support current and new programs that help women share the Gospel as well as Stonecroft Bible Studies. In addition\, our Inspirational Speaker\, Amy Gardner\, Pier\, MI\, will present “Laughter to Joy”. LAUGHTER\, as fun as it is\, cannot be counted on when the CIRCUMSTANCES of our life change. Laughter will desert us\, but JOY is something that remains. Come and see what brought Amy real lasting JOY. Her message is loaded with lots and lots of laughter! We hope you can join us! Reserve your spot today! \nLocation: Midland Country Club\, 1120 West St. Andrews Rd.\, Midland\, MI\nCost: $18.00 payable at the door\nDeadline for reservations: Sunday\, October 6;\nEmail Lori at: mcwcres@gmail.com; (979-299-9831)
URL:https://myflr.org/event/christian-womens-connection-fall-fundraiser-luncheon-midland-mi/
LOCATION:Midland Country Club (Midland\, MI)\, 1120 West St. Andrews Rd.\, Midland\, MI\, 48640\, United States
CATEGORIES:Michigan
ATTACH;FMTTYPE=image/jpeg:https://eadn-wc05-15902914.nxedge.io/wp-content/uploads/2024/08/Fall-Fundraiser.jpg
ORGANIZER;CN="Midland Christian Women%E2%80%99s Connection (Midland%2C MI)":MAILTO:mcwcres@gmail.com
END:VEVENT
END:VCALENDAR