
BEGIN:VCALENDAR
VERSION:2.0
PRODID:-//Family Life Radio - ECPv6.15.20//NONSGML v1.0//EN
CALSCALE:GREGORIAN
METHOD:PUBLISH
X-WR-CALNAME:Family Life Radio
X-ORIGINAL-URL:https://myflr.org
X-WR-CALDESC:Events for Family Life Radio
REFRESH-INTERVAL;VALUE=DURATION:PT1H
X-Robots-Tag:noindex
X-PUBLISHED-TTL:PT1H
BEGIN:VTIMEZONE
TZID:America/Phoenix
BEGIN:STANDARD
TZOFFSETFROM:-0700
TZOFFSETTO:-0700
TZNAME:MST
DTSTART:20230101T000000
END:STANDARD
END:VTIMEZONE
BEGIN:VEVENT
DTSTART;TZID=America/Phoenix:20250927T180000
DTEND;TZID=America/Phoenix:20250927T210000
DTSTAMP:20260421T193142
CREATED:20250912T172037Z
LAST-MODIFIED:20250912T172037Z
UID:10051907-1758996000-1759006800@myflr.org
SUMMARY:2025 M.I.K.I.D. Annual Benefit Concert
DESCRIPTION:M.I.K.I.D.’s Annual Benefit Concert will feature dinner\, cocktails\, a silent auction and live music from world-renowned pianist\, composer and speaker Eric Genuis. Every ticket purchased and every donation made helps M.I.K.I.D. continue its mission to support children and families facing behavioral health challenges\, including prevention\, navigation and reunification services. Proceeds from the concert will directly fund programs that provide hope\, stability and tools for long-term success to children and families facing mental or behavioral health challenges.
URL:https://myflr.org/event/2025-m-i-k-i-d-annual-benefit-concert/
LOCATION:1106 N Central Ave\, Phoenix\, AZ 85004\, 1106 N Central Ave\, Phoenix\, AZ\, 85004\, United States
CATEGORIES:Arizona
ATTACH;FMTTYPE=image/jpeg:https://eadn-wc05-15902914.nxedge.io/wp-content/uploads/2025/09/2025-Benefit-Concert-Featuring-Eric-Genuis-1_Page_1-scaled.jpg
ORGANIZER;CN="MIKID":MAILTO:jparsons@gcjpr.com
END:VEVENT
BEGIN:VEVENT
DTSTART;TZID=America/Phoenix:20240805T110000
DTEND;TZID=America/Phoenix:20240805T210000
DTSTAMP:20260421T193142
CREATED:20240711T171032Z
LAST-MODIFIED:20240711T171032Z
UID:10031088-1722855600-1722891600@myflr.org
SUMMARY:Gibbilini Giveback Fundraiser
DESCRIPTION:Bring this flyer in on August 5th for dine-in or takeout and Oregano’s will give 20% of your bill (before tax and gratuity) back to a nonprofit called MIKID. MIKID (Mentally Ill Kids In Distress) is a 501(c)(3) nonprofit organization dedicated to improving the mental and behavioral health of children and youth through a family-centered approach. Last year\, MIKID helped over 4\,000 children and youth with various mental or behavioral health needs such as autism\, depression\, bipolar\, ADHD and more.
URL:https://myflr.org/event/gibbilini-giveback-fundraiser/
LOCATION:Oregano’s Neighborhood Italian Joint\, 1008 E Camelback Rd\, Phoenix\, AZ\, 85014\, United States
CATEGORIES:Arizona
ATTACH;FMTTYPE=image/png:https://eadn-wc05-15902914.nxedge.io/wp-content/uploads/2024/07/Screenshot-2024-07-09-at-1.15.37-PM.png
ORGANIZER;CN="MIKID":MAILTO:jparsons@gcjpr.com
END:VEVENT
END:VCALENDAR