
BEGIN:VCALENDAR
VERSION:2.0
PRODID:-//Family Life Radio - ECPv6.15.20//NONSGML v1.0//EN
CALSCALE:GREGORIAN
METHOD:PUBLISH
X-WR-CALNAME:Family Life Radio
X-ORIGINAL-URL:https://myflr.org
X-WR-CALDESC:Events for Family Life Radio
REFRESH-INTERVAL;VALUE=DURATION:PT1H
X-Robots-Tag:noindex
X-PUBLISHED-TTL:PT1H
BEGIN:VTIMEZONE
TZID:America/New_York
BEGIN:DAYLIGHT
TZOFFSETFROM:-0500
TZOFFSETTO:-0400
TZNAME:EDT
DTSTART:20240310T070000
END:DAYLIGHT
BEGIN:STANDARD
TZOFFSETFROM:-0400
TZOFFSETTO:-0500
TZNAME:EST
DTSTART:20241103T060000
END:STANDARD
BEGIN:DAYLIGHT
TZOFFSETFROM:-0500
TZOFFSETTO:-0400
TZNAME:EDT
DTSTART:20250309T070000
END:DAYLIGHT
BEGIN:STANDARD
TZOFFSETFROM:-0400
TZOFFSETTO:-0500
TZNAME:EST
DTSTART:20251102T060000
END:STANDARD
BEGIN:DAYLIGHT
TZOFFSETFROM:-0500
TZOFFSETTO:-0400
TZNAME:EDT
DTSTART:20260308T070000
END:DAYLIGHT
BEGIN:STANDARD
TZOFFSETFROM:-0400
TZOFFSETTO:-0500
TZNAME:EST
DTSTART:20261101T060000
END:STANDARD
END:VTIMEZONE
BEGIN:VEVENT
DTSTART;TZID=America/New_York:20251003T190000
DTEND;TZID=America/New_York:20251005T190000
DTSTAMP:20260421T141831
CREATED:20250924T135020Z
LAST-MODIFIED:20250924T135020Z
UID:10056579-1759518000-1759690800@myflr.org
SUMMARY:Zone 2622 - The New Well (Gen 26:22) - Macon
DESCRIPTION:More Sure Word Church WR with Pastor Nana Yaa Larbi will be having a REVIVAL on October 3 thru October 5 at 7pm nightly. The revival will be held at The Hope Center on 404 Church Street\, Macon\, GA 31217. Guest Speakers will be Overseer Daniel Akins of More Sure Word Church Delaware and Pastor Jeshrun Okyere of More Sure Word Church Canada. Come join us each night for a high time in our Lord Jesus.
URL:https://myflr.org/event/zone-2622-the-new-well-gen-2622-macon/
LOCATION:The Hope Center (Macon\, GA)\, 404 Church Street\, Macon\, GA\, 31217\, United States
CATEGORIES:Georgia
ATTACH;FMTTYPE=image/jpeg:https://eadn-wc05-15902914.nxedge.io/wp-content/uploads/2025/09/1000010618-scaled.jpg
END:VEVENT
END:VCALENDAR