
BEGIN:VCALENDAR
VERSION:2.0
PRODID:-//Family Life Radio - ECPv6.15.20//NONSGML v1.0//EN
CALSCALE:GREGORIAN
METHOD:PUBLISH
X-WR-CALNAME:Family Life Radio
X-ORIGINAL-URL:https://myflr.org
X-WR-CALDESC:Events for Family Life Radio
REFRESH-INTERVAL;VALUE=DURATION:PT1H
X-Robots-Tag:noindex
X-PUBLISHED-TTL:PT1H
BEGIN:VTIMEZONE
TZID:America/Phoenix
BEGIN:STANDARD
TZOFFSETFROM:-0700
TZOFFSETTO:-0700
TZNAME:MST
DTSTART:20240101T000000
END:STANDARD
END:VTIMEZONE
BEGIN:VEVENT
DTSTART;TZID=America/Phoenix:20251011T090000
DTEND;TZID=America/Phoenix:20251011T140000
DTSTAMP:20260421T201858
CREATED:20251015T200815Z
LAST-MODIFIED:20251015T200815Z
UID:10056633-1760173200-1760191200@myflr.org
SUMMARY:MVLC Craft Fair
DESCRIPTION:Mountain View Lutheran Church presents its first annual Craft Fair! Saturday\, October 11th from 9 am – 2 pm. FREE to the public! \nFollow our updates by visiting: https://www.facebook.com/mvlccraftfairs/ \nAre you a vendor interested in signing up to sell at the craft fair? \nCrafter Space\n10′ x 8′ floor space \nInside\n$40.00 each • up to 4 spaces \nOutside\n$35.00 each • up to 1 space \nLearn more about the spaces and accommodations available by visiting: \nhttps://bit.ly/mvlccraftfairsignup
URL:https://myflr.org/event/mvlc-craft-fair/
LOCATION:11002 S. 48th Street Phoenix AZ 85044\, 11002 S. 48th Street\, Phoenix\, AZ\, 85044\, United States
CATEGORIES:Arizona
ATTACH;FMTTYPE=image/png:https://eadn-wc05-15902914.nxedge.io/wp-content/uploads/2025/09/Craft-Fair-Oct-2025-16-x-9.png
ORGANIZER;CN="Mountain View Lutheran Church":MAILTO:info@mvlutheran.org
END:VEVENT
END:VCALENDAR