
BEGIN:VCALENDAR
VERSION:2.0
PRODID:-//Family Life Radio - ECPv6.15.20//NONSGML v1.0//EN
CALSCALE:GREGORIAN
METHOD:PUBLISH
X-WR-CALNAME:Family Life Radio
X-ORIGINAL-URL:https://myflr.org
X-WR-CALDESC:Events for Family Life Radio
REFRESH-INTERVAL;VALUE=DURATION:PT1H
X-Robots-Tag:noindex
X-PUBLISHED-TTL:PT1H
BEGIN:VTIMEZONE
TZID:America/Detroit
BEGIN:DAYLIGHT
TZOFFSETFROM:-0500
TZOFFSETTO:-0400
TZNAME:EDT
DTSTART:20240310T070000
END:DAYLIGHT
BEGIN:STANDARD
TZOFFSETFROM:-0400
TZOFFSETTO:-0500
TZNAME:EST
DTSTART:20241103T060000
END:STANDARD
BEGIN:DAYLIGHT
TZOFFSETFROM:-0500
TZOFFSETTO:-0400
TZNAME:EDT
DTSTART:20250309T070000
END:DAYLIGHT
BEGIN:STANDARD
TZOFFSETFROM:-0400
TZOFFSETTO:-0500
TZNAME:EST
DTSTART:20251102T060000
END:STANDARD
BEGIN:DAYLIGHT
TZOFFSETFROM:-0500
TZOFFSETTO:-0400
TZNAME:EDT
DTSTART:20260308T070000
END:DAYLIGHT
BEGIN:STANDARD
TZOFFSETFROM:-0400
TZOFFSETTO:-0500
TZNAME:EST
DTSTART:20261101T060000
END:STANDARD
BEGIN:DAYLIGHT
TZOFFSETFROM:-0500
TZOFFSETTO:-0400
TZNAME:EDT
DTSTART:20270314T070000
END:DAYLIGHT
BEGIN:STANDARD
TZOFFSETFROM:-0400
TZOFFSETTO:-0500
TZNAME:EST
DTSTART:20271107T060000
END:STANDARD
END:VTIMEZONE
BEGIN:VTIMEZONE
TZID:America/Phoenix
BEGIN:STANDARD
TZOFFSETFROM:-0700
TZOFFSETTO:-0700
TZNAME:MST
DTSTART:20240101T000000
END:STANDARD
END:VTIMEZONE
BEGIN:VEVENT
DTSTART;TZID=America/Detroit:20260212T114500
DTEND;TZID=America/Detroit:20260212T134500
DTSTAMP:20260421T141829
CREATED:20251231T121702Z
LAST-MODIFIED:20251231T121702Z
UID:10057864-1770896700-1770903900@myflr.org
SUMMARY:Mt. Pleasant Area Christian Women's Connection
DESCRIPTION:What’s Love Got to Do with It? Valentine’s Day music concert given by Jamie Schlafley\, along with God’s Beauty Photography by Linda Prentice. Inspirational speaker\, Kathie Siudyla will share a compelling account of her childhood home that included alcohol abuse and violence. She went searching for love in all the wrong places until she found a father that truly loves His children. Please reserve your luncheon spot by February 9\, 2026 to Lona at lonahamilton@yahoo.com or call Ruth at (989)492-4199
URL:https://myflr.org/event/mt-pleasant-area-christian-womens-connection-9/
LOCATION:Cheers Neighborhood Grill (Mt Pleasant\, MI)\, 1700 West High St ( W-M 20)\, Mt Pleasant\, MI\, 48858\, United States
CATEGORIES:Michigan
ORGANIZER;CN="Mt. Pleasant Area Christian Women&#8217%3Bs Connection":MAILTO:lonahamilton@yahoo.com
END:VEVENT
BEGIN:VEVENT
DTSTART;TZID=America/Detroit:20260108T114500
DTEND;TZID=America/Detroit:20260108T134500
DTSTAMP:20260421T141829
CREATED:20251231T121603Z
LAST-MODIFIED:20251231T121603Z
UID:10057863-1767872700-1767879900@myflr.org
SUMMARY:Mt. Pleasant Area Christian Women's Connection
DESCRIPTION:Compounded Medications presented by Jeffrey Walton\, RPH from Coleman Family Pharmacy. Special music will be performed by Ruth Fretz. Inspirational speaker\, Lisa Saruga will share how to remove obstacles that stand in the way of hope\, justice\, and forgiveness and have a closer walk with Jesus. Please RSVP by January 6 to Lona Hamilton at Lonahamiliton@yahoo.com or Ruth (989) 492-4199
URL:https://myflr.org/event/mt-pleasant-area-christian-womens-connection-8/
LOCATION:Cheers Neighborhood Grill (Mt Pleasant\, MI)\, 1700 West High St ( W-M 20)\, Mt Pleasant\, MI\, 48858\, United States
CATEGORIES:Michigan
ORGANIZER;CN="Mt. Pleasant Area Christian Women&#8217%3Bs Connection":MAILTO:lonahamilton@yahoo.com
END:VEVENT
BEGIN:VEVENT
DTSTART;TZID=America/Detroit:20251009T113000
DTEND;TZID=America/Detroit:20251009T133000
DTSTAMP:20260421T141829
CREATED:20250923T184101Z
LAST-MODIFIED:20250923T184101Z
UID:10056569-1760009400-1760016600@myflr.org
SUMMARY:Mt. Pleasant Area Christian Women's Connection
DESCRIPTION:“Balm for the Soul” Ladies\, please join us for our special feature “The Fairy Garden” by Wendy Austin Smith. In addition to special music performed by Judy Dagraedt\, she will also inspire audience members with her talk on “Peace in the Midst of Turmoil.” Judy is a songwriter\, singer\, musician\, and former TV host. She has recorded twelve albums and sang our National Anthem for the White Sox. Please RSVP by October 7 to lonahamilton@yahoo.com or call (989) 387-4808
URL:https://myflr.org/event/mt-pleasant-area-christian-womens-connection-7/
LOCATION:Cheers Neighborhood Grill (Mt Pleasant\, MI)\, 1700 West High St ( W-M 20)\, Mt Pleasant\, MI\, 48858\, United States
CATEGORIES:Michigan
ORGANIZER;CN="Mt. Pleasant Area Christian Women&#8217%3Bs Connection":MAILTO:lonahamilton@yahoo.com
END:VEVENT
BEGIN:VEVENT
DTSTART;TZID=America/Detroit:20250814T114500
DTEND;TZID=America/Detroit:20250814T134500
DTSTAMP:20260421T141829
CREATED:20250728T150825Z
LAST-MODIFIED:20250728T150825Z
UID:10049766-1755171900-1755179100@myflr.org
SUMMARY:Mt. Pleasant Area Christian Women's Connection Luncheon
DESCRIPTION:Hearts and Herbs: Learn how to grow and use herbs with Mary Mast from Rainbow Greenhouse in Clare\, MI. You will not want to miss speaker Jean Pyper’s story of grit and giggles! She hails from Lafayette\, IN. Jean will take you from her emotional shutdown to a heart of joy. Be inspired by her presentation entitled “Let’s have a Heart to Heart.”
URL:https://myflr.org/event/mt-pleasant-area-christian-womens-connection-luncheon-8/
LOCATION:Cheers Neighborhood Grill (Mt Pleasant\, MI)\, 1700 W High Street (W M-20)\, Mt Pleasant\, MI\, 48858\, United States
CATEGORIES:Michigan
ATTACH;FMTTYPE=image/jpeg:https://eadn-wc05-15902914.nxedge.io/wp-content/uploads/2025/07/Hearts-Herbs.jpg
ORGANIZER;CN="Mt. Pleasant Area Christian Women&#8217%3Bs Connection":MAILTO:lonahamilton@yahoo.com
END:VEVENT
BEGIN:VEVENT
DTSTART;TZID=America/Detroit:20250710T114500
DTEND;TZID=America/Detroit:20250710T134500
DTSTAMP:20260421T141829
CREATED:20250628T042536Z
LAST-MODIFIED:20250628T042536Z
UID:10046225-1752147900-1752155100@myflr.org
SUMMARY:Mt. Pleasant Area Christian Women's Connection Luncheon
DESCRIPTION:Looking for a simple plan to invest your love with your special someone? Inspirational Speaker\, Linda Berg from Wisconsin will share how not to take your partner for granted. Her talk is entitled\, “The Kissing Pot.” Additionally\, she will share how clay pots were designed. \nTracy Lubs from Clare\, MI will provide special music. Dave Cronk from Jay’s & Webber Wildlife Education Center from Clare\, MI will present also. \nPlease reserve your spot with Lona by calling (989)387-4808 or emailing lonahamilton@yahoo.com
URL:https://myflr.org/event/mt-pleasant-area-christian-womens-connection-luncheon-7/
LOCATION:Cheers Neighborhood Grill (Mt Pleasant\, MI)\, 1700 West High St ( W-M 20)\, Mt Pleasant\, MI\, 48858\, United States
CATEGORIES:Michigan
ATTACH;FMTTYPE=image/jpeg:https://eadn-wc05-15902914.nxedge.io/wp-content/uploads/2025/06/The-Kissing-Pot.jpg
ORGANIZER;CN="Mt. Pleasant Area Christian Women&#8217%3Bs Connection":MAILTO:lonahamilton@yahoo.com
END:VEVENT
BEGIN:VEVENT
DTSTART;TZID=America/Phoenix:20250410T114500
DTEND;TZID=America/Phoenix:20250410T134500
DTSTAMP:20260421T141830
CREATED:20250324T142616Z
LAST-MODIFIED:20250324T142616Z
UID:10040391-1744285500-1744292700@myflr.org
SUMMARY:Mt. Pleasant Area Christian Women’s Connection Luncheon
DESCRIPTION:Ladies\, you are cordially invited to attend the “April Showers bring May Flowers” luncheon. After lunch\, Elm Creek Nursery (Farwell) speaker\, Janis Jenkins will provide gardening tips. Special music will be performed by Kevin Bendele. Tamara Perry\, from Indiana\, will inspire with her story about fighting fear in a courageous way. All of this for $21 at Cheers Neighborhood Grill 1700 W. High Street (M20) Mt. Pleasant\, MI. To reserve your spot\, call (989(463-3287) or (989)492-4199 or (989)387-4808 or email: lonahamilton@yahoo.com by April 8.
URL:https://myflr.org/event/mt-pleasant-area-christian-womens-connection-luncheon-3/
LOCATION:Cheers Neighborhood Grill (Mt Pleasant\, MI)\, 1700 West High St ( W-M 20)\, Mt Pleasant\, MI\, 48858\, United States
CATEGORIES:Michigan
ORGANIZER;CN="Mt. Pleasant Area Christian Women&#8217%3Bs Connection":MAILTO:lonahamilton@yahoo.com
END:VEVENT
END:VCALENDAR