
BEGIN:VCALENDAR
VERSION:2.0
PRODID:-//Family Life Radio - ECPv6.15.20//NONSGML v1.0//EN
CALSCALE:GREGORIAN
METHOD:PUBLISH
X-ORIGINAL-URL:https://myflr.org
X-WR-CALDESC:Events for Family Life Radio
REFRESH-INTERVAL;VALUE=DURATION:PT1H
X-Robots-Tag:noindex
X-PUBLISHED-TTL:PT1H
BEGIN:VTIMEZONE
TZID:America/Phoenix
BEGIN:STANDARD
TZOFFSETFROM:-0700
TZOFFSETTO:-0700
TZNAME:MST
DTSTART:20240101T000000
END:STANDARD
END:VTIMEZONE
BEGIN:VEVENT
DTSTART;TZID=America/Phoenix:20251030T180000
DTEND;TZID=America/Phoenix:20251030T200000
DTSTAMP:20260421T175734
CREATED:20250825T223725Z
LAST-MODIFIED:20250825T223725Z
UID:10051179-1761847200-1761854400@myflr.org
SUMMARY:NACCAP Christian College Fair
DESCRIPTION:Join us at Pusch Ridge Christian Academy on October 30 from 6:00-8:00 pm where dozens of Christian colleges will be in one convenient place. Come see what each school offers and what makes each of them special.
URL:https://myflr.org/event/naccap-christian-college-fair/
LOCATION:Pusch Ridge Christian Academy\, 9500 N Oracle Rd\, Oro Valley\, AZ\, 85704\, United States
CATEGORIES:Arizona
ATTACH;FMTTYPE=image/jpeg:https://eadn-wc05-15902914.nxedge.io/wp-content/uploads/2025/08/Ecard-2025.jpg
ORGANIZER;CN="NACCAP":MAILTO:sally.avery@prcak12.org
END:VEVENT
END:VCALENDAR