
BEGIN:VCALENDAR
VERSION:2.0
PRODID:-//Family Life Radio - ECPv6.15.20//NONSGML v1.0//EN
CALSCALE:GREGORIAN
METHOD:PUBLISH
X-ORIGINAL-URL:https://myflr.org
X-WR-CALDESC:Events for Family Life Radio
REFRESH-INTERVAL;VALUE=DURATION:PT1H
X-Robots-Tag:noindex
X-PUBLISHED-TTL:PT1H
BEGIN:VTIMEZONE
TZID:America/Detroit
BEGIN:DAYLIGHT
TZOFFSETFROM:-0500
TZOFFSETTO:-0400
TZNAME:EDT
DTSTART:20240310T070000
END:DAYLIGHT
BEGIN:STANDARD
TZOFFSETFROM:-0400
TZOFFSETTO:-0500
TZNAME:EST
DTSTART:20241103T060000
END:STANDARD
BEGIN:DAYLIGHT
TZOFFSETFROM:-0500
TZOFFSETTO:-0400
TZNAME:EDT
DTSTART:20250309T070000
END:DAYLIGHT
BEGIN:STANDARD
TZOFFSETFROM:-0400
TZOFFSETTO:-0500
TZNAME:EST
DTSTART:20251102T060000
END:STANDARD
BEGIN:DAYLIGHT
TZOFFSETFROM:-0500
TZOFFSETTO:-0400
TZNAME:EDT
DTSTART:20260308T070000
END:DAYLIGHT
BEGIN:STANDARD
TZOFFSETFROM:-0400
TZOFFSETTO:-0500
TZNAME:EST
DTSTART:20261101T060000
END:STANDARD
END:VTIMEZONE
BEGIN:VTIMEZONE
TZID:America/Phoenix
BEGIN:STANDARD
TZOFFSETFROM:-0700
TZOFFSETTO:-0700
TZNAME:MST
DTSTART:20230101T000000
END:STANDARD
END:VTIMEZONE
BEGIN:VEVENT
DTSTART;TZID=America/Detroit:20250727T160000
DTEND;TZID=America/Detroit:20250727T180000
DTSTAMP:20260421T103737
CREATED:20250630T133945Z
LAST-MODIFIED:20250630T133945Z
UID:10047261-1753632000-1753639200@myflr.org
SUMMARY:The Hoppers in Concert
DESCRIPTION:The Hoppers will be in concert at New Hope Global Methodist Church in Mecosta on Sunday\, July 27 at 4 pm. Doors open at 3 pm. Currently\, Dean and Kim Hopper\, along with their daughter Karlye\, have moved forward as the latest configuration of The Hoppers\, carrying on the family’s long legacy as one of the prominent families of Gospel Music. Tickets are $20 in advance and $24 the day of the concert. For tickets\, call Greg/Laura at 231-972-7000.
URL:https://myflr.org/event/the-hoppers-in-concert/
LOCATION:New Hope Global Methodist Church (Mecosta\, MI)\, 7296 Nine Mile Rd\, Mecosta\, MI\, 49332\, United States
CATEGORIES:Michigan
ATTACH;FMTTYPE=image/jpeg:https://eadn-wc05-15902914.nxedge.io/wp-content/uploads/2025/06/TheHoppersPicture.jpg
ORGANIZER;CN="New Hope Global Methodist Church":MAILTO:newhope.mecosta@gmail.com
END:VEVENT
BEGIN:VEVENT
DTSTART;TZID=America/Phoenix:20250621T160000
DTEND;TZID=America/Phoenix:20250621T180000
DTSTAMP:20260421T103737
CREATED:20250606T182015Z
LAST-MODIFIED:20250606T182015Z
UID:10045770-1750521600-1750528800@myflr.org
SUMMARY:The Guardians in Concert
DESCRIPTION:The Guardians will be in concert at New Hope Global Methodist Church in Mecosta on Saturday\, June 21 at 4 pm. Doors open at 3 pm. The Guardians are a southern gospel quartet with a unique sound\, tight harmony\, and a passion for sharing the gospel through their music. They have had three Dove Award nominations and multiple #1 songs and Fan Awards. Come enjoy a wonderful concert! Tickets are $20 in advance and $24 the day of the concert. For tickets\, call Greg/Laura at 231-972-7000.
URL:https://myflr.org/event/the-guardians-in-concert/
LOCATION:New Hope Global Methodist Church (Mecosta\, MI)\, 7296 Nine Mile Rd\, Mecosta\, MI\, 49332\, United States
CATEGORIES:Michigan
ATTACH;FMTTYPE=image/jpeg:https://eadn-wc05-15902914.nxedge.io/wp-content/uploads/2025/06/IMG_8502-scaled.jpg
ORGANIZER;CN="New Hope Global Methodist Church":MAILTO:newhope.mecosta@gmail.com
END:VEVENT
BEGIN:VEVENT
DTSTART;TZID=America/Phoenix:20240915T160000
DTEND;TZID=America/Phoenix:20240915T180000
DTSTAMP:20260421T103737
CREATED:20240823T122520Z
LAST-MODIFIED:20240823T122520Z
UID:10033487-1726416000-1726423200@myflr.org
SUMMARY:Tribute Quartet in Concert
DESCRIPTION:Tribute Quartet will be in concert at New Hope Global Methodist Church in Mecosta on Sunday\, September 15 at 4 pm. Doors open at 3 pm. Tickets are $18 in advance and $22 the day of the concert. For tickets\, call Greg/Laura at 231-972-7000.
URL:https://myflr.org/event/tribute-quartet-in-concert-2/
LOCATION:New Hope Global Methodist Church (Mecosta\, MI)\, 7296 Nine Mile Rd\, Mecosta\, MI\, 49332\, United States
CATEGORIES:Michigan
ATTACH;FMTTYPE=image/jpeg:https://eadn-wc05-15902914.nxedge.io/wp-content/uploads/2024/08/Tribute-Quartet20024.jpeg
ORGANIZER;CN="New Hope Global Methodist Church":MAILTO:newhope.mecosta@gmail.com
END:VEVENT
END:VCALENDAR